{"text_format":"2","workbook":"xlsx","n_sheets":11,"sheets":["User Guide","Calculator","Carcass Plot","P2 Plot","Carcass Grader","P2 Grader","Q Grader","Carcass Dist","P2 Dist","Ave Performance 2015","Growth Model Outputs"],"not_rendered":{"charts":6,"images":8,"macros":0,"external_links":0,"defined_names":34,"comments":1,"pivot_tables":0},"unopened":[],"bounds":{"document_bytes":16777216,"sheet_cells":100000,"run_cost":"one","rows_first":2000,"rows_last":500,"rows_between":2000,"halvings":0,"cell_chars":16384,"cell_head_chars":4096},"cells_cut":0,"cells_raw":0,"read":"whole","date_system":"1900"}

{"sheet":"User Guide","index":0,"n_rows":36,"n_cols":2,"rows_kept":36,"cut":false,"hidden":false,"merged":[]}
[]
[null,"User Guide for the Feeding Herd Calculator"]
[]
[null,"Purpose – to calculate the cost per kg d.weight of producing a finished pig and to show how the margin per pig sold might be maximised."]
[null,"Targeted user – suitable for Finishing ( > 30kg ) producers "]
[]
[null,"How to use the calculator."]
[null,"The calculator is in two sections. The left hand side is the pre-sale calculator from entry to sale. The right hand side involve events that occur post-farm gate. "]
[null,"In both instances, the yellow boxes require data entry. The blue boxes are calculated outcomes."]
[]
[null,"Operation."]
[null,"Left-hand side - Complete the yellow boxes for weaner costs, feed costs, sale weight and variable and fixed costs according to your herd production records. Wean to Finish producers will have to allocate a percentage of the total costs to the rearing phase, i.e. vet and med costs may be higher but labour lower. Alternatively, you could just allocate cost as a percentage of the days on unit, i.e. 24 weeks could be split 9 weeks rearing and 15 weeks finishing, which gives a 38% and 62% allocation of the total costs. "]
[null," i) There is an option of three diets. Enter the weight band for each of the stages for each diet change as appropriate. If only 1 or 2 diets are used, then add the same diet at the appropriate weight group.  Amount of food used is calculated by the expected FCR for that weight of pig."]
[null,"ii) The default FCR for pigs post 30 kg to sale at 110 kg is 2.59, giving a feed intake of 207kg.  The FCR can be adjusted in 1% increments until calculated feed used is reflected by the farm records. "]
[null,"iii) The blue boxes show the actual price per kg d.wt received and net margin per pig. The net margin can be influenced, or maximised, by exploring a ‘What If’ scenario and adjusting the input figures on the right hand calculator. "]
[null,"iv)  In addition, the feed cost, presented in p/kg d.wt, for the last kg of liveweight growth, is highlighted. This is useful when deciding the economics of increasing the sale weight. "]
[]
[null,"Right-hand side – from the average performance over the last 3 to 4 months enter KO%, P2 and base price as pence per kg d.wt. Also your number of pigs in a load and cost per lorry."]
[null,"i) Carcase and P2 St Dev ( Standard Deviation) This figure describes the typical profile and range of values sent. If the average d.weight was 82 kg and there is a St Dev of 5kg from the average, then 65% of the pigs will be between 77 and 87kg. If this is increased to 2 St Dev, i.e 72 – 82 ave - 92kg, then 90% of the pigs will be within this range. Some abattoir returns will show the St.Dev. If not look at the range of d.wts sent, the number in that range (usually a few light weights and over weights) and then estimated the St Dev, i.e. ave weight 84kg. main range ( 90%) is from 77 - 84ave - 91 = 14 kg, then 2 St.dev = 7kg and 1 St.dev = 3.5 kg. This figure is used to produce the carcase plot and so calculate the expected return from a range of weights in a batch."]
[null,"ii) The ave weight and St.dev are used to produce the carcase plot of weights typical of your pigs. Below we have a plot from the average weight and x2 St.dev from the average. We now need to adjust this to reflect the range and typical shape. The plot is often skewed to the right as processors want heavier pigs."]
[]
[null,"By changing the figures to reflect the max and min weights sent, we now have a more realistic plot. When doing any ‘What If’ scenarios with different weights and St.devs always check the plots to make sure they are a sensible shape."]
[]
[null,"i) Contract specification – From your contract enter the specifications into the appropriate boxes."]
[]
[null,"ii) Pigs in Q grade – some contracts have a requirement for a percentage of pigs to meet the contract spec and are paid a bonus or penalty accordingly. If this does not apply to your contract then set all to ‘0’"]
[null,"iii) This calculator does not take into consideration any realisation penalties for over weights, or reduced base price for those over weights in the ‘penalty free’ range."]
[]
[null,"i) What Ifs – various scenarios can now be tried to look at different sale weight ranges, weight of loads and number of pigs sent, contract spec and SD etc.  Always check the carcase and P2 plots to make sure they reflect the range of weights and amount of back fat on pigs sent."]
[]
[null,"This box shows how the batch performed against contract spec and also the red and green squares are a quick indicator of which parameter is causing the most penalties and reduced value of pig."]
[]
[null,"And finally the box below takes into consideration the transport costs per pig.  Sale weights have increased but so have the penalties for overweight’s and so you are able to realistically test what load size maximises the value of each pig.  Remember those harsh penalties of overweights are not reflected in the calculator, but you will know how many to expect at a heavier average and their impact. You can decide whether to have an extra load of pigs or continue to ‘ fill the wagon’."]
[]
[]
[null,"Here a smaller, heavier and less variable load gives an extra £7 per pig."]

{"sheet":"Calculator","index":1,"n_rows":78,"n_cols":22,"rows_kept":78,"cut":false,"hidden":false,"merged":[[17,16,17,18],[21,16,21,18],[14,16,14,18],[23,16,23,18],[51,2,57,2],[51,3,57,3],[61,2,67,4],[65,18,65,19],[63,13,63,14],[55,18,55,19],[63,18,63,20],[67,16,71,17],[71,2,75,3],[71,4,75,4],[51,4,57,4],[1,2,1,20],[2,2,2,20],[3,2,3,20],[5,2,5,20],[41,3,43,3],[41,4,43,4],[41,2,43,2],[6,2,6,10],[6,14,6,20],[7,2,7,10],[7,14,7,20],[17,3,17,4],[12,16,12,18],[15,16,15,18],[25,19,25,21],[25,14,25,17]]}
[]
[null,null,"Finishing Herd Calculator "]
[null,null,"Purpose – to calculate the margin per finished pig"]
[null,null,"Target user – suitable for all producers finishing pigs"]
[]
[null,null,"How to use the calculator"]
[null,null,"The yellow boxes require your data"]
[null,null,"The blue boxes are outcomes calculated from your data"]
[]
[]
[null,null,"Grower 1 diet (£/t)",null,270,null,null,"Cost of production (£/pig)",{"$nulls":5},"Killing out (%)",75.657142857142858,null,"Number of pigs in batch",null,null,180]
[]
[null,null,"Grower 2 diet (£/t)",null,230,null,null,"Weaner costs (£)",null,52,null,null,null,"Average Carcass Weight (kg)",{"$f":"E42*O11/100","v":75.657142857142858},null,"Transport costs (£)",null,null,600]
[]
[null,null,"Finisher diet (£/t)",null,215,{"$nulls":8},"Carcass Weight St Dev (kg)",3]
[{"$nulls":16},"Transport cost (£/pig)",null,null,{"$f":"T13/T11","v":3.3333333333333335}]
[]
[null,null,null,"Weight (kg)",{"$nulls":9},"Average P2 (mm)",10.199999999999999,null,"Transport cost (p/kg)",null,null,{"$f":"(T13/'Carcass Grader'!M22)*100","v":4.3769230420228444}]
[null,null,null,"Entry","End"]
[null,null,"Stage 1",30,55,null,null,"Feeding Herd Only",{"$nulls":5},"P2 St.dev (mm)",1.1000000000000001,null,"Total batch dead wt (kg)",null,null,{"$f":"'Carcass Grader'!G4","v":13708.260214753584}]
[]
[null,null,"Stage 2",{"$f":"E20","v":55},80,null,null,"Feed",{"$nulls":8},"Total batch value (£)",null,null,{"$f":"'Q Grader'!G22","v":22481.546752195878}]
[]
[null,null,"Stage 3",{"$f":"E22","v":80},{"$f":"E42","v":100},null,null,"Stage 1 feed",null,{"$f":"E28*(E11/1000)","v":13.011441669543125},null,null,null,"Grade Price (p/kg)",160]
[]
[{"$nulls":7},"Stage 2 feed",null,{"$f":"E30*(E13/1000)","v":13.581739613678801},null,null,null,"Contract Specification","Carcass Weight",{"$nulls":4},"Backfat depth"]
[]
[null,null,"Grower 1 (kg/pig)",null,{"$f":"'Growth Model Outputs'!K12","v":48.190524702011572},null,null,"Stage 3 feed",null,{"$f":"E32*(E15/1000)","v":11.019911427381793},{"$nulls":4},"(kg)","(kg)","Boars","Gilts","(p/kg)",null,"(mm)","(p/kg)"]
[]
[null,null,"Grower 2  (kg/pig)",null,{"$f":"'Growth Model Outputs'!K13","v":59.051041798603478},null,null,"Overall feed",null,{"$f":"SUM(J24:J28)","v":37.613092710603716},{"$nulls":4},"up to",60,-25,-25,null,"up to",8,2]
[]
[null,null,"Finisher (kg/pig)",null,{"$f":"'Growth Model Outputs'!K14","v":51.255401987822296},{"$nulls":9},{"$f":"P30","v":60},{"$f":"P30+5","v":65},-15,-15,null,null,9,2]
[]
[null,null,"Total feed (kg/pig)",null,{"$f":"'Growth Model Outputs'!K15","v":158.49696848843735},null,null,"Veterinary & Med",null,1.5,{"$nulls":4},{"$f":"O32+5","v":65},{"$f":"P32+5","v":70},-15,-15,null,null,10,2]
[]
[{"$nulls":7},"Transport & Marketing",null,2.73,{"$nulls":4},{"$f":"O34+5","v":70},{"$f":"P34+5","v":75},0,0,null,null,11,2]
[]
[null,null,"FCR Overall",null,{"$f":"'Growth Model Outputs'!K19","v":2.2642424069776763},null,null,"Electricity & Gas",null,1.04,{"$nulls":4},{"$f":"O36+5","v":75},{"$f":"P36+5","v":80},0,0,null,null,12,2]
[]
[{"$nulls":7},"Water",null,0.6,{"$nulls":4},{"$f":"O38+5","v":80},{"$f":"P38+5","v":85},0,0,null,null,13,-10]
[]
[null,null,"Slaughter weight (kg)",null,100,null,null,"Straw & bedding",null,1.8,{"$nulls":4},{"$f":"O40+5","v":85},{"$f":"P40+5","v":90},0,0,null,null,14,-15]
[]
[{"$nulls":7},"Other variable costs",null,2.15,{"$nulls":4},{"$f":"O42+5","v":90},{"$f":"P42+5","v":95},0,0,null,null,15,-15]
[]
[null,null,"Predicted P2 (mm)",null,{"$f":"2.83+(0.118*E42)-(0.00036*E42*E42)","v":11.029999999999998},null,null,"Labour (including family)",null,3,{"$nulls":4},{"$f":"O44+5","v":95},{"$f":"P44+5","v":100},-3,0,null,null,16,-40]
[]
[null,null,"Predicted carcass weight (kg)",null,{"$f":"-4.94+(0.158*Calculator!E46)+(0.792*E42)","v":76.002740000000003},null,null,"Building depreciation",null,1.2,{"$nulls":4},{"$f":"O46+5","v":100},{"$f":"P46+5","v":105},-9,-50,null,null,17,-40]
[]
[{"$nulls":7},"Building repairs & maintenance",null,1.6,{"$nulls":4},{"$f":"O48+5","v":105},{"$f":"P48+5","v":110},-74,-74,null,null,18,-40]
[]
[null,null,"FCR Adjuster (%)",{"$f":"'Growth Model Outputs'!M27","v":-10},null,null,null,"Equipment depreciation",null,3,{"$nulls":4},{"$f":"O50+5","v":110},{"$f":"P50+5","v":115},-76,-76,null,null,19,-50]
[]
[{"$nulls":7},"Equipment repairs & maintenance",null,1,{"$nulls":4},{"$f":"O52+5","v":115},{"$f":"P52+5","v":120},-78,-78,null,null,20,-50]
[]
[{"$nulls":7},"Other fixed costs",null,0.76,{"$nulls":4},{"$f":"O54+5","v":120},{"$f":"P54+5","v":125},-80,-80,"more than ",null,{"$f":"U54","v":20},-50]
[]
[{"$nulls":7},"Total costs (£/pig)",null,{"$f":"SUM(J30:J56)+J13+T16","v":113.32642604393705},{"$nulls":4},{"$f":"O56+5","v":125},{"$f":"P56+5","v":130},-82,-82]
[]
[{"$nulls":7},"Total costs (p/kg Dead Weight)",null,{"$f":"(J58/O13)*100","v":149.78946040550591},{"$nulls":4},{"$f":"O58+5","v":130},{"$f":"P58+5","v":135},-83,-83]
[]
[null,null,"Enter figures in the yellow boxes                                      Change FCR using the adjuster",{"$nulls":11},{"$f":"O60+5","v":135},{"$f":"P60+5","v":140},-84,-84]
[]
[{"$nulls":7},"Average Sale value (£/pig)",null,{"$f":"T22/T11","v":124.89748195664377},null,null,null,"more than ",null,{"$f":"P62","v":140},-86,-86,"Pigs in Q Grade (%)",null,null,"(p/kg)"]
[]
[{"$nulls":7},"Average Sale value (p/kg Carcass)",null,{"$f":"'Q Grader'!G25","v":164},null,null,null,"Q Grade Requirements",{"$nulls":4},"more than ",null,85,4]
[]
[{"$nulls":13},"Minimum dead weight (kg)",70,null,"Factor limiting total batch value",null,null,80,85,3]
[]
[{"$nulls":13},"Maximum dead weight (kg)",90,{"$nulls":4},75,80,2]
[]
[null,null,"Feed cost of last kg Dead Weight gained (p/kg)",null,{"$f":"'Growth Model Outputs'!J44","v":80.040454783567839},null,null,"Net Margin ",{"$nulls":5},"Maximum P2 (mm)",12,{"$nulls":4},70,75,0]
[]
[{"$nulls":7},"(p/kg Dead Weight)",null,{"$f":"J66-J60","v":14.210539594494094},null,null,null,"% Pigs in Q Grade by Weight",{"$f":"('Carcass Grader'!G21)*100","v":100},null,"Weight",null,null,65,70,-3]
[]
[{"$nulls":7},"(£/pig)",null,{"$f":"J64-J58","v":11.571055912706726},null,null,null,"% Pigs in Q Grade by P2",{"$f":"('P2 Grader'!F18)*100","v":100},null,"Backfat",null,null,60,65,-9]
[]
[{"$nulls":13},"Max wt for premium (kg)",90,{"$nulls":4},"up to",60,-11]

{"sheet":"Carcass Plot","index":2,"n_rows":23,"n_cols":4,"rows_kept":23,"cut":false,"hidden":false,"merged":[[3,2,3,3],[4,2,4,3]]}
[]
[]
[null,null,"How to use:"]
[null,null,"Adjust the values in the yellow boxes to change the distribution"]
[null,null,"If alpha is bigger than beta there will be a tail to the left"]
[]
[null,null,"Average Carcass Weight (kg)",{"$f":"Calculator!O13","v":75.657142857142858}]
[]
[null,null,"Standard Deviation (kg)",{"$f":"Calculator!O15","v":3}]
[]
[null,null,"Minimum Value (kg)",70]
[]
[null,null,"Maximum Value (kg)",90]
[]
[null,null,"Alpha",{"$f":"'Carcass Dist'!B2","v":2.2672443148688055}]
[]
[null,null,"Beta",{"$f":"'Carcass Dist'!B3","v":5.7482658892128287}]
[]
[null,null,"Mean",{"$f":"D7","v":75.657142857142858}]
[]
[null,null,"Median",{"$f":"'Carcass Dist'!C5","v":75.2}]
[]
[null,null,"Mode",{"$f":"'Carcass Dist'!C6","v":74.400000000000006}]

{"sheet":"P2 Plot","index":3,"n_rows":23,"n_cols":4,"rows_kept":23,"cut":false,"hidden":false,"merged":[[3,2,3,3],[4,2,4,3],[2,2,2,3]]}
[]
[]
[null,null,"How to use:"]
[null,null,"Adjust the values in the yellow boxes to change the distribution"]
[null,null,"If alpha is bigger than beta there will be a tail to the left"]
[]
[null,null,"Average P2 (mm)",{"$f":"Calculator!O18","v":10.199999999999999}]
[]
[null,null,"Standard Deviation (mm)",{"$f":"Calculator!O20","v":1.1000000000000001}]
[]
[null,null,"Minimum Value (mm)",5]
[]
[null,null,"Maximum Value (mm)",12]
[]
[null,null,"Alpha",{"$f":"'P2 Dist'!$B$2","v":5.0035419126328211}]
[]
[null,null,"Beta",{"$f":"'P2 Dist'!$B$3","v":1.7319952774498233}]
[]
[null,null,"Mean",{"$f":"D7","v":10.199999999999999}]
[]
[null,null,"Median",{"$f":"'P2 Dist'!C5","v":10.320000000000004}]
[]
[null,null,"Mode",{"$f":"'P2 Dist'!C6","v":10.950000000000003}]

{"sheet":"Carcass Grader","index":4,"n_rows":286,"n_cols":19,"rows_kept":286,"cut":false,"hidden":true,"merged":[[1,14,1,15],[1,16,1,17],[27,8,27,10]]}
["Ave Cwt (kg)","% pigs","Number of pigs","Total DWt (kg)",{"$nulls":4},{"$f":"Calculator!O28","v":"(kg)"},{"$f":"Calculator!P28","v":"(kg)"},null,null,"Total DWt (kg)","%Dwt Dist",{"$f":"Calculator!Q28","v":"Boars"},{"$f":"Calculator!R28","v":"Gilts"},"Boars","Gilts","Total Value (£)"]
[{"$f":"I3","v":60},{"$f":"IFERROR(_xlfn.BETA.DIST(A2,'Carcass Dist'!$B$2,'Carcass Dist'!$B$3,1,'Carcass Dist'!$C$10,'Carcass Dist'!$C$11),0)","v":0},{"$f":"IF(A2=\"\",\"\",B2*$G$2)","v":0},{"$f":"IF(B2=\"\",0,C2*A2)","v":0},null,"Batch Size",{"$f":"Calculator!T11","v":180},null,"LB","UB",{"$nulls":4},{"$f":"Calculator!S30","v":0},null,"(Adjusted grade price p/kg)"]
[{"$f":"A2+1","v":61},{"$f":"IFERROR(_xlfn.BETA.DIST(A3,'Carcass Dist'!$B$2,'Carcass Dist'!$B$3,1,'Carcass Dist'!$C$10,'Carcass Dist'!$C$11)-_xlfn.BETA.DIST(A2,'Carcass Dist'!$B$2,'Carcass Dist'!$B$3,1,'Carcass Dist'!$C$10,'Carcass Dist'!$C$11),0)","v":0},{"$f":"B3*$G$2","v":0},0,null,"Grade Price (p/kg)",{"$f":"Calculator!O24","v":160},null,{"$f":"MIN('Carcass Dist'!C10,J3)","v":60},{"$f":"Calculator!P30","v":60},null,null,{"$f":"SUM(IF(I3-0.0001<$A$2:$A$282,1,0)*IF($A$2:$A$282<J3,1,0)*$D$2:$D$282)","v":0},{"$f":"(M3/$M$22)*100","v":0},{"$f":"Calculator!Q30","v":-25},{"$f":"Calculator!R30","v":-25},{"$f":"$G$3+O3","v":135},{"$f":"$G$3+P3","v":135},{"$f":"((M3*Q3*0.5)+(M3*R3*0.5))/100","v":0}]
[{"$f":"A3+1","v":62},{"$f":"IFERROR(_xlfn.BETA.DIST(A4,'Carcass Dist'!$B$2,'Carcass Dist'!$B$3,1,'Carcass Dist'!$C$10,'Carcass Dist'!$C$11)-_xlfn.BETA.DIST(A3,'Carcass Dist'!$B$2,'Carcass Dist'!$B$3,1,'Carcass Dist'!$C$10,'Carcass Dist'!$C$11),0)","v":0},{"$f":"B4*$G$2","v":0},0,null,"Total Dead Wt (kg)",{"$f":"SUM(D2:D282)","v":13708.260214753584},null,{"$f":"Calculator!O32","v":60},{"$f":"Calculator!P32","v":65},null,null,{"$f":"SUM(IF(I4-0.0001<$A$2:$A$282,1,0)*IF($A$2:$A$282<J4,1,0)*$D$2:$D$282)","v":0},0,{"$f":"Calculator!Q32","v":-15},{"$f":"Calculator!R32","v":-15},145,145,{"$f":"((M4*Q4*0.5)+(M4*R4*0.5))/100","v":0}]
[63,{"$f":"IFERROR(_xlfn.BETA.DIST(A5,'Carcass Dist'!$B$2,'Carcass Dist'!$B$3,1,'Carcass Dist'!$C$10,'Carcass Dist'!$C$11)-_xlfn.BETA.DIST(A4,'Carcass Dist'!$B$2,'Carcass Dist'!$B$3,1,'Carcass Dist'!$C$10,'Carcass Dist'!$C$11),0)","v":0},{"$f":"B5*$G$2","v":0},0,null,"Total Value (£)",{"$f":"S22","v":21933.216343605734},null,{"$f":"Calculator!O34","v":65},{"$f":"Calculator!P34","v":70},null,null,{"$f":"SUM(IF(I5-0.0001<$A$2:$A$282,1,0)*IF($A$2:$A$282<J5,1,0)*$D$2:$D$282)","v":0},0,{"$f":"Calculator!Q34","v":-15},{"$f":"Calculator!R34","v":-15},145,145,0]
[64,{"$f":"IFERROR(_xlfn.BETA.DIST(A6,'Carcass Dist'!$B$2,'Carcass Dist'!$B$3,1,'Carcass Dist'!$C$10,'Carcass Dist'!$C$11)-_xlfn.BETA.DIST(A5,'Carcass Dist'!$B$2,'Carcass Dist'!$B$3,1,'Carcass Dist'!$C$10,'Carcass Dist'!$C$11),0)","v":0},0,0,{"$nulls":4},{"$f":"Calculator!O36","v":70},{"$f":"Calculator!P36","v":75},null,null,{"$f":"SUM(IF(I6-0.0001<$A$2:$A$282,1,0)*IF($A$2:$A$282<J6,1,0)*$D$2:$D$282)","v":4397.3389862618169},32.078023887591208,{"$f":"Calculator!Q36","v":0},{"$f":"Calculator!R36","v":0},160,160,7035.7423780189074]
[65,{"$f":"IFERROR(_xlfn.BETA.DIST(A7,'Carcass Dist'!$B$2,'Carcass Dist'!$B$3,1,'Carcass Dist'!$C$10,'Carcass Dist'!$C$11)-_xlfn.BETA.DIST(A6,'Carcass Dist'!$B$2,'Carcass Dist'!$B$3,1,'Carcass Dist'!$C$10,'Carcass Dist'!$C$11),0)","v":0},0,0,null,"Slaughter Weight (kg)",{"$f":"Calculator!E42","v":100},null,{"$f":"Calculator!O38","v":75},{"$f":"Calculator!P38","v":80},null,null,{"$f":"SUM(IF(I7-0.0001<$A$2:$A$282,1,0)*IF($A$2:$A$282<J7,1,0)*$D$2:$D$282)","v":7175.0581045100671},52.341128575804788,{"$f":"Calculator!Q38","v":0},{"$f":"Calculator!R38","v":0},160,160,11480.092967216107]
[66,{"$f":"IFERROR(_xlfn.BETA.DIST(A8,'Carcass Dist'!$B$2,'Carcass Dist'!$B$3,1,'Carcass Dist'!$C$10,'Carcass Dist'!$C$11)-_xlfn.BETA.DIST(A7,'Carcass Dist'!$B$2,'Carcass Dist'!$B$3,1,'Carcass Dist'!$C$10,'Carcass Dist'!$C$11),0)","v":0},0,0,null,"Killing Out (%)",{"$f":"Calculator!O11","v":75.657142857142858},null,{"$f":"Calculator!O40","v":80},{"$f":"Calculator!P40","v":85},null,null,{"$f":"SUM(IF(I8-0.0001<$A$2:$A$282,1,0)*IF($A$2:$A$282<J8,1,0)*$D$2:$D$282)","v":2030.6256991111491},14.813154020272229,{"$f":"Calculator!Q40","v":0},{"$f":"Calculator!R40","v":0},160,160,3249.0011185778385]
[67,{"$f":"IFERROR(_xlfn.BETA.DIST(A9,'Carcass Dist'!$B$2,'Carcass Dist'!$B$3,1,'Carcass Dist'!$C$10,'Carcass Dist'!$C$11)-_xlfn.BETA.DIST(A8,'Carcass Dist'!$B$2,'Carcass Dist'!$B$3,1,'Carcass Dist'!$C$10,'Carcass Dist'!$C$11),0)","v":0},0,0,null,"Ave. Carcass Weight (kg)",{"$f":"'Carcass Plot'!D7","v":75.657142857142858},null,{"$f":"Calculator!O42","v":85},{"$f":"Calculator!P42","v":90},null,null,{"$f":"SUM(IF(I9-0.0001<$A$2:$A$282,1,0)*IF($A$2:$A$282<J9,1,0)*$D$2:$D$282)","v":105.23230062007849},0.76765613558182744,{"$f":"Calculator!Q42","v":0},{"$f":"Calculator!R42","v":0},160,160,168.37168099212559]
[68,{"$f":"IFERROR(_xlfn.BETA.DIST(A10,'Carcass Dist'!$B$2,'Carcass Dist'!$B$3,1,'Carcass Dist'!$C$10,'Carcass Dist'!$C$11)-_xlfn.BETA.DIST(A9,'Carcass Dist'!$B$2,'Carcass Dist'!$B$3,1,'Carcass Dist'!$C$10,'Carcass Dist'!$C$11),0)","v":0},0,0,{"$nulls":4},{"$f":"Calculator!O44","v":90},{"$f":"Calculator!P44","v":95},null,null,{"$f":"SUM(IF(I10-0.0001<$A$2:$A$282,1,0)*IF($A$2:$A$282<J10,1,0)*$D$2:$D$282)","v":5.1242504743420625E-3},3.7380749957073776E-5,{"$f":"Calculator!Q44","v":0},{"$f":"Calculator!R44","v":0},160,160,8.1988007589473E-3]
[69,{"$f":"IFERROR(_xlfn.BETA.DIST(A11,'Carcass Dist'!$B$2,'Carcass Dist'!$B$3,1,'Carcass Dist'!$C$10,'Carcass Dist'!$C$11)-_xlfn.BETA.DIST(A10,'Carcass Dist'!$B$2,'Carcass Dist'!$B$3,1,'Carcass Dist'!$C$10,'Carcass Dist'!$C$11),0)","v":0},0,0,null,"Check total value against total dead wt and grade price",{"$f":"G4*(G3/100)","v":21933.216343605734},null,{"$f":"Calculator!O46","v":95},{"$f":"Calculator!P46","v":100},null,null,{"$f":"SUM(IF(I11-0.0001<$A$2:$A$282,1,0)*IF($A$2:$A$282<J11,1,0)*$D$2:$D$282)","v":0},0,{"$f":"Calculator!Q46","v":-3},{"$f":"Calculator!R46","v":0},157,160,0]
[70,{"$f":"IFERROR(_xlfn.BETA.DIST(A12,'Carcass Dist'!$B$2,'Carcass Dist'!$B$3,1,'Carcass Dist'!$C$10,'Carcass Dist'!$C$11)-_xlfn.BETA.DIST(A11,'Carcass Dist'!$B$2,'Carcass Dist'!$B$3,1,'Carcass Dist'!$C$10,'Carcass Dist'!$C$11),0)","v":0},0,0,null,"Difference (£)",{"$f":"G5-G11","v":0},null,{"$f":"Calculator!O48","v":100},{"$f":"Calculator!P48","v":105},null,null,{"$f":"SUM(IF(I12-0.0001<$A$2:$A$282,1,0)*IF($A$2:$A$282<J12,1,0)*$D$2:$D$282)","v":0},0,{"$f":"Calculator!Q48","v":-9},{"$f":"Calculator!R48","v":-50},151,110,0]
[71,{"$f":"IFERROR(_xlfn.BETA.DIST(A13,'Carcass Dist'!$B$2,'Carcass Dist'!$B$3,1,'Carcass Dist'!$C$10,'Carcass Dist'!$C$11)-_xlfn.BETA.DIST(A12,'Carcass Dist'!$B$2,'Carcass Dist'!$B$3,1,'Carcass Dist'!$C$10,'Carcass Dist'!$C$11),0)","v":2.425030948489753E-2},4.365055707281555,309.91895521699041,{"$nulls":4},{"$f":"Calculator!O50","v":105},{"$f":"Calculator!P50","v":110},null,null,{"$f":"SUM(IF(I13-0.0001<$A$2:$A$282,1,0)*IF($A$2:$A$282<J13,1,0)*$D$2:$D$282)","v":0},0,{"$f":"Calculator!Q50","v":-74},{"$f":"Calculator!R50","v":-74},86,86,0]
[72,{"$f":"IFERROR(_xlfn.BETA.DIST(A14,'Carcass Dist'!$B$2,'Carcass Dist'!$B$3,1,'Carcass Dist'!$C$10,'Carcass Dist'!$C$11)-_xlfn.BETA.DIST(A13,'Carcass Dist'!$B$2,'Carcass Dist'!$B$3,1,'Carcass Dist'!$C$10,'Carcass Dist'!$C$11),0)","v":7.4257158134571899E-2},13.366288464222942,962.37276942405185,{"$nulls":4},{"$f":"Calculator!O52","v":110},{"$f":"Calculator!P52","v":115},null,null,{"$f":"SUM(IF(I14-0.0001<$A$2:$A$282,1,0)*IF($A$2:$A$282<J14,1,0)*$D$2:$D$282)","v":0},0,{"$f":"Calculator!Q52","v":-76},{"$f":"Calculator!R52","v":-76},84,84,0]
[73,{"$f":"IFERROR(_xlfn.BETA.DIST(A15,'Carcass Dist'!$B$2,'Carcass Dist'!$B$3,1,'Carcass Dist'!$C$10,'Carcass Dist'!$C$11)-_xlfn.BETA.DIST(A14,'Carcass Dist'!$B$2,'Carcass Dist'!$B$3,1,'Carcass Dist'!$C$10,'Carcass Dist'!$C$11),0)","v":0.10926816697376091},19.668270055276963,1435.7837140352183,null,"Minimum Q Carcass Weight (kg)",{"$f":"Calculator!O68","v":70},null,{"$f":"Calculator!O54","v":115},{"$f":"Calculator!P54","v":120},null,null,{"$f":"SUM(IF(I15-0.0001<$A$2:$A$282,1,0)*IF($A$2:$A$282<J15,1,0)*$D$2:$D$282)","v":0},0,{"$f":"Calculator!Q54","v":-78},{"$f":"Calculator!R54","v":-78},82,82,0]
[74,{"$f":"IFERROR(_xlfn.BETA.DIST(A16,'Carcass Dist'!$B$2,'Carcass Dist'!$B$3,1,'Carcass Dist'!$C$10,'Carcass Dist'!$C$11)-_xlfn.BETA.DIST(A15,'Carcass Dist'!$B$2,'Carcass Dist'!$B$3,1,'Carcass Dist'!$C$10,'Carcass Dist'!$C$11),0)","v":0.12682158765657331},22.827885778183195,1689.2635475855564,null,"Maximum Q Carcass Weight (kg)",{"$f":"Calculator!O70","v":90},null,{"$f":"Calculator!O56","v":120},{"$f":"Calculator!P56","v":125},null,null,{"$f":"SUM(IF(I16-0.0001<$A$2:$A$282,1,0)*IF($A$2:$A$282<J16,1,0)*$D$2:$D$282)","v":0},0,{"$f":"Calculator!Q56","v":-80},{"$f":"Calculator!R56","v":-80},80,80,0]
[75,{"$f":"IFERROR(_xlfn.BETA.DIST(A17,'Carcass Dist'!$B$2,'Carcass Dist'!$B$3,1,'Carcass Dist'!$C$10,'Carcass Dist'!$C$11)-_xlfn.BETA.DIST(A16,'Carcass Dist'!$B$2,'Carcass Dist'!$B$3,1,'Carcass Dist'!$C$10,'Carcass Dist'!$C$11),0)","v":0.12977449526502272},23.359409147704088,1751.9556860778066,null,"Maximum Weight For Q Premium Q (kg)",{"$f":"Calculator!O78","v":90},null,{"$f":"Calculator!O58","v":125},{"$f":"Calculator!P58","v":130},null,null,{"$f":"SUM(IF(I17-0.0001<$A$2:$A$282,1,0)*IF($A$2:$A$282<J17,1,0)*$D$2:$D$282)","v":0},0,{"$f":"Calculator!Q58","v":-82},{"$f":"Calculator!R58","v":-82},78,78,0]
[76,{"$f":"IFERROR(_xlfn.BETA.DIST(A18,'Carcass Dist'!$B$2,'Carcass Dist'!$B$3,1,'Carcass Dist'!$C$10,'Carcass Dist'!$C$11)-_xlfn.BETA.DIST(A17,'Carcass Dist'!$B$2,'Carcass Dist'!$B$3,1,'Carcass Dist'!$C$10,'Carcass Dist'!$C$11),0)","v":0.12206353672348252},21.971436610226853,1669.8291823772408,{"$nulls":4},{"$f":"Calculator!O60","v":130},{"$f":"Calculator!P60","v":135},null,null,{"$f":"SUM(IF(I18-0.0001<$A$2:$A$282,1,0)*IF($A$2:$A$282<J18,1,0)*$D$2:$D$282)","v":0},0,{"$f":"Calculator!Q60","v":-83},{"$f":"Calculator!R60","v":-83},77,77,0]
[77,{"$f":"IFERROR(_xlfn.BETA.DIST(A19,'Carcass Dist'!$B$2,'Carcass Dist'!$B$3,1,'Carcass Dist'!$C$10,'Carcass Dist'!$C$11)-_xlfn.BETA.DIST(A18,'Carcass Dist'!$B$2,'Carcass Dist'!$B$3,1,'Carcass Dist'!$C$10,'Carcass Dist'!$C$11),0)","v":0.10754584757010277},19.3582525626185,1490.5854473216245,null,"Percentage of pigs below Minimum Q Carcass Weight",{"$f":"SUMIF(A:A,\"<\"&G15,B:B)","v":0},null,{"$f":"Calculator!O62","v":135},{"$f":"Calculator!P62","v":140},null,null,{"$f":"SUM(IF(I19-0.0001<$A$2:$A$282,1,0)*IF($A$2:$A$282<J19,1,0)*$D$2:$D$282)","v":0},0,{"$f":"Calculator!Q62","v":-84},{"$f":"Calculator!R62","v":-84},76,76,0]
[78,{"$f":"IFERROR(_xlfn.BETA.DIST(A20,'Carcass Dist'!$B$2,'Carcass Dist'!$B$3,1,'Carcass Dist'!$C$10,'Carcass Dist'!$C$11)-_xlfn.BETA.DIST(A19,'Carcass Dist'!$B$2,'Carcass Dist'!$B$3,1,'Carcass Dist'!$C$10,'Carcass Dist'!$C$11),0)","v":8.954928563713227E-2},16.118871414683809,1257.2719703453372,null,"Percentage of pigs above Maximum Q Carcass Weight",{"$f":"SUMIF(A:A,\">\"&G16,B:B)","v":0},null,{"$f":"J19","v":140},{"$f":"MAX(I20,'Carcass Dist'!C11)","v":140},null,null,{"$f":"SUM(IF(I20-0.0001<$A$2:$A$282,1,0)*IF($A$2:$A$282<J20,1,0)*$D$2:$D$282)","v":0},0,{"$f":"Calculator!Q64","v":-86},{"$f":"Calculator!R64","v":-86},74,74,0]
[79,{"$f":"IFERROR(_xlfn.BETA.DIST(A21,'Carcass Dist'!$B$2,'Carcass Dist'!$B$3,1,'Carcass Dist'!$C$10,'Carcass Dist'!$C$11)-_xlfn.BETA.DIST(A20,'Carcass Dist'!$B$2,'Carcass Dist'!$B$3,1,'Carcass Dist'!$C$10,'Carcass Dist'!$C$11),0)","v":7.0704347284673563E-2},12.726782511241241,1005.415818388058,null,"Percentage of pigs in Q grade by Carcass Weight",{"$f":"1-(G19+G20)","v":1}]
[80,{"$f":"IFERROR(_xlfn.BETA.DIST(A22,'Carcass Dist'!$B$2,'Carcass Dist'!$B$3,1,'Carcass Dist'!$C$10,'Carcass Dist'!$C$11)-_xlfn.BETA.DIST(A21,'Carcass Dist'!$B$2,'Carcass Dist'!$B$3,1,'Carcass Dist'!$C$10,'Carcass Dist'!$C$11),0)","v":5.2914608845433753E-2},9.5246295921780764,761.97036737424605,null,"Check Total",{"$f":"G19+G20+G21","v":1},{"$nulls":5},{"$f":"SUM(M3:M21)","v":13708.260214753585},{"$f":"SUM(N3:N21)","v":100.00000000000001},{"$nulls":4},{"$f":"SUM(S3:S21)","v":21933.216343605734}]
[81,{"$f":"IFERROR(_xlfn.BETA.DIST(A23,'Carcass Dist'!$B$2,'Carcass Dist'!$B$3,1,'Carcass Dist'!$C$10,'Carcass Dist'!$C$11)-_xlfn.BETA.DIST(A22,'Carcass Dist'!$B$2,'Carcass Dist'!$B$3,1,'Carcass Dist'!$C$10,'Carcass Dist'!$C$11),0)","v":3.7402755958946821E-2},6.7324960726104273,545.33218188144463,{"$nulls":8},{"$f":"IF(ABS(SUM(D2:D282)-M22)<1,\"OK\",\"Error\")","v":"OK"}]
[82,{"$f":"IFERROR(_xlfn.BETA.DIST(A24,'Carcass Dist'!$B$2,'Carcass Dist'!$B$3,1,'Carcass Dist'!$C$10,'Carcass Dist'!$C$11)-_xlfn.BETA.DIST(A23,'Carcass Dist'!$B$2,'Carcass Dist'!$B$3,1,'Carcass Dist'!$C$10,'Carcass Dist'!$C$11),0)","v":2.4799237929793772E-2},4.4638628273628793,366.03675184375612,null,"Percentage of pigs above maximum weight for Q Premium",{"$f":"SUMIF(A:A,\">\"&G17,B:B)","v":0}]
[83,{"$f":"IFERROR(_xlfn.BETA.DIST(A25,'Carcass Dist'!$B$2,'Carcass Dist'!$B$3,1,'Carcass Dist'!$C$10,'Carcass Dist'!$C$11)-_xlfn.BETA.DIST(A24,'Carcass Dist'!$B$2,'Carcass Dist'!$B$3,1,'Carcass Dist'!$C$10,'Carcass Dist'!$C$11),0)","v":1.5253914282536751E-2},2.7457045708566152,227.89347938109907]
[84,{"$f":"IFERROR(_xlfn.BETA.DIST(A26,'Carcass Dist'!$B$2,'Carcass Dist'!$B$3,1,'Carcass Dist'!$C$10,'Carcass Dist'!$C$11)-_xlfn.BETA.DIST(A25,'Carcass Dist'!$B$2,'Carcass Dist'!$B$3,1,'Carcass Dist'!$C$10,'Carcass Dist'!$C$11),0)","v":8.5577327136642234E-3},1.5403918884595602,129.39291863060305,null,"Total Dead Weight below Minimum Q Carcass weight (kg)",{"$f":"SUMIF(A:A,\"<\"&G15,D:D)","v":0}]
[85,{"$f":"IFERROR(_xlfn.BETA.DIST(A27,'Carcass Dist'!$B$2,'Carcass Dist'!$B$3,1,'Carcass Dist'!$C$10,'Carcass Dist'!$C$11)-_xlfn.BETA.DIST(A26,'Carcass Dist'!$B$2,'Carcass Dist'!$B$3,1,'Carcass Dist'!$C$10,'Carcass Dist'!$C$11),0)","v":4.2650924502940502E-3},0.76771664105292903,65.255914489498963,null,"Total Dead Weight above Maximum weight For Q Premium (kg)",{"$f":"SUMIF(A:A,\">\"&G17,D:D)","v":0}]
[86,{"$f":"IFERROR(_xlfn.BETA.DIST(A28,'Carcass Dist'!$B$2,'Carcass Dist'!$B$3,1,'Carcass Dist'!$C$10,'Carcass Dist'!$C$11)-_xlfn.BETA.DIST(A27,'Carcass Dist'!$B$2,'Carcass Dist'!$B$3,1,'Carcass Dist'!$C$10,'Carcass Dist'!$C$11),0)","v":1.8095852839415949E-3},0.32572535110948708,28.01238019541589]
[87,{"$f":"IFERROR(_xlfn.BETA.DIST(A29,'Carcass Dist'!$B$2,'Carcass Dist'!$B$3,1,'Carcass Dist'!$C$10,'Carcass Dist'!$C$11)-_xlfn.BETA.DIST(A28,'Carcass Dist'!$B$2,'Carcass Dist'!$B$3,1,'Carcass Dist'!$C$10,'Carcass Dist'!$C$11),0)","v":6.0692575129839277E-4},0.1092466352337107,9.5044572653328316]
[88,{"$f":"IFERROR(_xlfn.BETA.DIST(A30,'Carcass Dist'!$B$2,'Carcass Dist'!$B$3,1,'Carcass Dist'!$C$10,'Carcass Dist'!$C$11)-_xlfn.BETA.DIST(A29,'Carcass Dist'!$B$2,'Carcass Dist'!$B$3,1,'Carcass Dist'!$C$10,'Carcass Dist'!$C$11),0)","v":1.3936177143936135E-4},2.5085118859085043E-2,2.2074904595994838,null,"Total Dead Weight Within Q Carcass Weight Range (kg)",{"$f":"D286-(G26+G27)","v":13708.260214753584}]
[89,{"$f":"IFERROR(_xlfn.BETA.DIST(A31,'Carcass Dist'!$B$2,'Carcass Dist'!$B$3,1,'Carcass Dist'!$C$10,'Carcass Dist'!$C$11)-_xlfn.BETA.DIST(A30,'Carcass Dist'!$B$2,'Carcass Dist'!$B$3,1,'Carcass Dist'!$C$10,'Carcass Dist'!$C$11),0)","v":1.5733970676112818E-5},2.8321147217003073E-3,0.25205821023132735,null,"Total Dead Weight Outside Q Carcass Weight Range (kg)",{"$f":"G26+G27","v":0}]
[90,{"$f":"IFERROR(_xlfn.BETA.DIST(A32,'Carcass Dist'!$B$2,'Carcass Dist'!$B$3,1,'Carcass Dist'!$C$10,'Carcass Dist'!$C$11)-_xlfn.BETA.DIST(A31,'Carcass Dist'!$B$2,'Carcass Dist'!$B$3,1,'Carcass Dist'!$C$10,'Carcass Dist'!$C$11),0)","v":3.1631175767543596E-7},5.6936116381578472E-5,5.1242504743420625E-3,null,"Total Dead Weight (kg)",{"$f":"G30+G31","v":13708.260214753584}]
[91,{"$f":"IFERROR(_xlfn.BETA.DIST(A33,'Carcass Dist'!$B$2,'Carcass Dist'!$B$3,1,'Carcass Dist'!$C$10,'Carcass Dist'!$C$11)-_xlfn.BETA.DIST(A32,'Carcass Dist'!$B$2,'Carcass Dist'!$B$3,1,'Carcass Dist'!$C$10,'Carcass Dist'!$C$11),0)","v":0},0,0,null,"Check Total Dead Weight (kg)",{"$f":"D286","v":13708.260214753584}]
[92,{"$f":"IFERROR(_xlfn.BETA.DIST(A34,'Carcass Dist'!$B$2,'Carcass Dist'!$B$3,1,'Carcass Dist'!$C$10,'Carcass Dist'!$C$11)-_xlfn.BETA.DIST(A33,'Carcass Dist'!$B$2,'Carcass Dist'!$B$3,1,'Carcass Dist'!$C$10,'Carcass Dist'!$C$11),0)","v":0},0,0]
[93,{"$f":"IFERROR(_xlfn.BETA.DIST(A35,'Carcass Dist'!$B$2,'Carcass Dist'!$B$3,1,'Carcass Dist'!$C$10,'Carcass Dist'!$C$11)-_xlfn.BETA.DIST(A34,'Carcass Dist'!$B$2,'Carcass Dist'!$B$3,1,'Carcass Dist'!$C$10,'Carcass Dist'!$C$11),0)","v":0},0,0]
[94,{"$f":"IFERROR(_xlfn.BETA.DIST(A36,'Carcass Dist'!$B$2,'Carcass Dist'!$B$3,1,'Carcass Dist'!$C$10,'Carcass Dist'!$C$11)-_xlfn.BETA.DIST(A35,'Carcass Dist'!$B$2,'Carcass Dist'!$B$3,1,'Carcass Dist'!$C$10,'Carcass Dist'!$C$11),0)","v":0},0,0]
[95,{"$f":"IFERROR(_xlfn.BETA.DIST(A37,'Carcass Dist'!$B$2,'Carcass Dist'!$B$3,1,'Carcass Dist'!$C$10,'Carcass Dist'!$C$11)-_xlfn.BETA.DIST(A36,'Carcass Dist'!$B$2,'Carcass Dist'!$B$3,1,'Carcass Dist'!$C$10,'Carcass Dist'!$C$11),0)","v":0},0,0]
[96,{"$f":"IFERROR(_xlfn.BETA.DIST(A38,'Carcass Dist'!$B$2,'Carcass Dist'!$B$3,1,'Carcass Dist'!$C$10,'Carcass Dist'!$C$11)-_xlfn.BETA.DIST(A37,'Carcass Dist'!$B$2,'Carcass Dist'!$B$3,1,'Carcass Dist'!$C$10,'Carcass Dist'!$C$11),0)","v":0},0,0]
[97,{"$f":"IFERROR(_xlfn.BETA.DIST(A39,'Carcass Dist'!$B$2,'Carcass Dist'!$B$3,1,'Carcass Dist'!$C$10,'Carcass Dist'!$C$11)-_xlfn.BETA.DIST(A38,'Carcass Dist'!$B$2,'Carcass Dist'!$B$3,1,'Carcass Dist'!$C$10,'Carcass Dist'!$C$11),0)","v":0},0,0]
[98,{"$f":"IFERROR(_xlfn.BETA.DIST(A40,'Carcass Dist'!$B$2,'Carcass Dist'!$B$3,1,'Carcass Dist'!$C$10,'Carcass Dist'!$C$11)-_xlfn.BETA.DIST(A39,'Carcass Dist'!$B$2,'Carcass Dist'!$B$3,1,'Carcass Dist'!$C$10,'Carcass Dist'!$C$11),0)","v":0},0,0]
[99,{"$f":"IFERROR(_xlfn.BETA.DIST(A41,'Carcass Dist'!$B$2,'Carcass Dist'!$B$3,1,'Carcass Dist'!$C$10,'Carcass Dist'!$C$11)-_xlfn.BETA.DIST(A40,'Carcass Dist'!$B$2,'Carcass Dist'!$B$3,1,'Carcass Dist'!$C$10,'Carcass Dist'!$C$11),0)","v":0},0,0]
[100,{"$f":"IFERROR(_xlfn.BETA.DIST(A42,'Carcass Dist'!$B$2,'Carcass Dist'!$B$3,1,'Carcass Dist'!$C$10,'Carcass Dist'!$C$11)-_xlfn.BETA.DIST(A41,'Carcass Dist'!$B$2,'Carcass Dist'!$B$3,1,'Carcass Dist'!$C$10,'Carcass Dist'!$C$11),0)","v":0},0,0]
[101,{"$f":"IFERROR(_xlfn.BETA.DIST(A43,'Carcass Dist'!$B$2,'Carcass Dist'!$B$3,1,'Carcass Dist'!$C$10,'Carcass Dist'!$C$11)-_xlfn.BETA.DIST(A42,'Carcass Dist'!$B$2,'Carcass Dist'!$B$3,1,'Carcass Dist'!$C$10,'Carcass Dist'!$C$11),0)","v":0},0,0]
[102,{"$f":"IFERROR(_xlfn.BETA.DIST(A44,'Carcass Dist'!$B$2,'Carcass Dist'!$B$3,1,'Carcass Dist'!$C$10,'Carcass Dist'!$C$11)-_xlfn.BETA.DIST(A43,'Carcass Dist'!$B$2,'Carcass Dist'!$B$3,1,'Carcass Dist'!$C$10,'Carcass Dist'!$C$11),0)","v":0},0,0]
[103,{"$f":"IFERROR(_xlfn.BETA.DIST(A45,'Carcass Dist'!$B$2,'Carcass Dist'!$B$3,1,'Carcass Dist'!$C$10,'Carcass Dist'!$C$11)-_xlfn.BETA.DIST(A44,'Carcass Dist'!$B$2,'Carcass Dist'!$B$3,1,'Carcass Dist'!$C$10,'Carcass Dist'!$C$11),0)","v":0},0,0]
[104,{"$f":"IFERROR(_xlfn.BETA.DIST(A46,'Carcass Dist'!$B$2,'Carcass Dist'!$B$3,1,'Carcass Dist'!$C$10,'Carcass Dist'!$C$11)-_xlfn.BETA.DIST(A45,'Carcass Dist'!$B$2,'Carcass Dist'!$B$3,1,'Carcass Dist'!$C$10,'Carcass Dist'!$C$11),0)","v":0},0,0]
[105,{"$f":"IFERROR(_xlfn.BETA.DIST(A47,'Carcass Dist'!$B$2,'Carcass Dist'!$B$3,1,'Carcass Dist'!$C$10,'Carcass Dist'!$C$11)-_xlfn.BETA.DIST(A46,'Carcass Dist'!$B$2,'Carcass Dist'!$B$3,1,'Carcass Dist'!$C$10,'Carcass Dist'!$C$11),0)","v":0},0,0]
[106,{"$f":"IFERROR(_xlfn.BETA.DIST(A48,'Carcass Dist'!$B$2,'Carcass Dist'!$B$3,1,'Carcass Dist'!$C$10,'Carcass Dist'!$C$11)-_xlfn.BETA.DIST(A47,'Carcass Dist'!$B$2,'Carcass Dist'!$B$3,1,'Carcass Dist'!$C$10,'Carcass Dist'!$C$11),0)","v":0},0,0]
[107,{"$f":"IFERROR(_xlfn.BETA.DIST(A49,'Carcass Dist'!$B$2,'Carcass Dist'!$B$3,1,'Carcass Dist'!$C$10,'Carcass Dist'!$C$11)-_xlfn.BETA.DIST(A48,'Carcass Dist'!$B$2,'Carcass Dist'!$B$3,1,'Carcass Dist'!$C$10,'Carcass Dist'!$C$11),0)","v":0},0,0]
[108,{"$f":"IFERROR(_xlfn.BETA.DIST(A50,'Carcass Dist'!$B$2,'Carcass Dist'!$B$3,1,'Carcass Dist'!$C$10,'Carcass Dist'!$C$11)-_xlfn.BETA.DIST(A49,'Carcass Dist'!$B$2,'Carcass Dist'!$B$3,1,'Carcass Dist'!$C$10,'Carcass Dist'!$C$11),0)","v":0},0,0]
[109,{"$f":"IFERROR(_xlfn.BETA.DIST(A51,'Carcass Dist'!$B$2,'Carcass Dist'!$B$3,1,'Carcass Dist'!$C$10,'Carcass Dist'!$C$11)-_xlfn.BETA.DIST(A50,'Carcass Dist'!$B$2,'Carcass Dist'!$B$3,1,'Carcass Dist'!$C$10,'Carcass Dist'!$C$11),0)","v":0},0,0]
[110,{"$f":"IFERROR(_xlfn.BETA.DIST(A52,'Carcass Dist'!$B$2,'Carcass Dist'!$B$3,1,'Carcass Dist'!$C$10,'Carcass Dist'!$C$11)-_xlfn.BETA.DIST(A51,'Carcass Dist'!$B$2,'Carcass Dist'!$B$3,1,'Carcass Dist'!$C$10,'Carcass Dist'!$C$11),0)","v":0},0,0]
[111,{"$f":"IFERROR(_xlfn.BETA.DIST(A53,'Carcass Dist'!$B$2,'Carcass Dist'!$B$3,1,'Carcass Dist'!$C$10,'Carcass Dist'!$C$11)-_xlfn.BETA.DIST(A52,'Carcass Dist'!$B$2,'Carcass Dist'!$B$3,1,'Carcass Dist'!$C$10,'Carcass Dist'!$C$11),0)","v":0},0,0]
[112,{"$f":"IFERROR(_xlfn.BETA.DIST(A54,'Carcass Dist'!$B$2,'Carcass Dist'!$B$3,1,'Carcass Dist'!$C$10,'Carcass Dist'!$C$11)-_xlfn.BETA.DIST(A53,'Carcass Dist'!$B$2,'Carcass Dist'!$B$3,1,'Carcass Dist'!$C$10,'Carcass Dist'!$C$11),0)","v":0},0,0]
[113,{"$f":"IFERROR(_xlfn.BETA.DIST(A55,'Carcass Dist'!$B$2,'Carcass Dist'!$B$3,1,'Carcass Dist'!$C$10,'Carcass Dist'!$C$11)-_xlfn.BETA.DIST(A54,'Carcass Dist'!$B$2,'Carcass Dist'!$B$3,1,'Carcass Dist'!$C$10,'Carcass Dist'!$C$11),0)","v":0},0,0]
[114,{"$f":"IFERROR(_xlfn.BETA.DIST(A56,'Carcass Dist'!$B$2,'Carcass Dist'!$B$3,1,'Carcass Dist'!$C$10,'Carcass Dist'!$C$11)-_xlfn.BETA.DIST(A55,'Carcass Dist'!$B$2,'Carcass Dist'!$B$3,1,'Carcass Dist'!$C$10,'Carcass Dist'!$C$11),0)","v":0},0,0]
[115,{"$f":"IFERROR(_xlfn.BETA.DIST(A57,'Carcass Dist'!$B$2,'Carcass Dist'!$B$3,1,'Carcass Dist'!$C$10,'Carcass Dist'!$C$11)-_xlfn.BETA.DIST(A56,'Carcass Dist'!$B$2,'Carcass Dist'!$B$3,1,'Carcass Dist'!$C$10,'Carcass Dist'!$C$11),0)","v":0},0,0]
[116,{"$f":"IFERROR(_xlfn.BETA.DIST(A58,'Carcass Dist'!$B$2,'Carcass Dist'!$B$3,1,'Carcass Dist'!$C$10,'Carcass Dist'!$C$11)-_xlfn.BETA.DIST(A57,'Carcass Dist'!$B$2,'Carcass Dist'!$B$3,1,'Carcass Dist'!$C$10,'Carcass Dist'!$C$11),0)","v":0},0,0]
[117,{"$f":"IFERROR(_xlfn.BETA.DIST(A59,'Carcass Dist'!$B$2,'Carcass Dist'!$B$3,1,'Carcass Dist'!$C$10,'Carcass Dist'!$C$11)-_xlfn.BETA.DIST(A58,'Carcass Dist'!$B$2,'Carcass Dist'!$B$3,1,'Carcass Dist'!$C$10,'Carcass Dist'!$C$11),0)","v":0},0,0]
[118,{"$f":"IFERROR(_xlfn.BETA.DIST(A60,'Carcass Dist'!$B$2,'Carcass Dist'!$B$3,1,'Carcass Dist'!$C$10,'Carcass Dist'!$C$11)-_xlfn.BETA.DIST(A59,'Carcass Dist'!$B$2,'Carcass Dist'!$B$3,1,'Carcass Dist'!$C$10,'Carcass Dist'!$C$11),0)","v":0},0,0]
[119,{"$f":"IFERROR(_xlfn.BETA.DIST(A61,'Carcass Dist'!$B$2,'Carcass Dist'!$B$3,1,'Carcass Dist'!$C$10,'Carcass Dist'!$C$11)-_xlfn.BETA.DIST(A60,'Carcass Dist'!$B$2,'Carcass Dist'!$B$3,1,'Carcass Dist'!$C$10,'Carcass Dist'!$C$11),0)","v":0},0,0]
[120,{"$f":"IFERROR(_xlfn.BETA.DIST(A62,'Carcass Dist'!$B$2,'Carcass Dist'!$B$3,1,'Carcass Dist'!$C$10,'Carcass Dist'!$C$11)-_xlfn.BETA.DIST(A61,'Carcass Dist'!$B$2,'Carcass Dist'!$B$3,1,'Carcass Dist'!$C$10,'Carcass Dist'!$C$11),0)","v":0},0,0]
[121,{"$f":"IFERROR(_xlfn.BETA.DIST(A63,'Carcass Dist'!$B$2,'Carcass Dist'!$B$3,1,'Carcass Dist'!$C$10,'Carcass Dist'!$C$11)-_xlfn.BETA.DIST(A62,'Carcass Dist'!$B$2,'Carcass Dist'!$B$3,1,'Carcass Dist'!$C$10,'Carcass Dist'!$C$11),0)","v":0},0,0]
[122,{"$f":"IFERROR(_xlfn.BETA.DIST(A64,'Carcass Dist'!$B$2,'Carcass Dist'!$B$3,1,'Carcass Dist'!$C$10,'Carcass Dist'!$C$11)-_xlfn.BETA.DIST(A63,'Carcass Dist'!$B$2,'Carcass Dist'!$B$3,1,'Carcass Dist'!$C$10,'Carcass Dist'!$C$11),0)","v":0},0,0]
[123,{"$f":"IFERROR(_xlfn.BETA.DIST(A65,'Carcass Dist'!$B$2,'Carcass Dist'!$B$3,1,'Carcass Dist'!$C$10,'Carcass Dist'!$C$11)-_xlfn.BETA.DIST(A64,'Carcass Dist'!$B$2,'Carcass Dist'!$B$3,1,'Carcass Dist'!$C$10,'Carcass Dist'!$C$11),0)","v":0},0,0]
[124,{"$f":"IFERROR(_xlfn.BETA.DIST(A66,'Carcass Dist'!$B$2,'Carcass Dist'!$B$3,1,'Carcass Dist'!$C$10,'Carcass Dist'!$C$11)-_xlfn.BETA.DIST(A65,'Carcass Dist'!$B$2,'Carcass Dist'!$B$3,1,'Carcass Dist'!$C$10,'Carcass Dist'!$C$11),0)","v":0},0,{"$f":"IF(B66=\"\",0,C66*A66)","v":0}]
[125,{"$f":"IFERROR(_xlfn.BETA.DIST(A67,'Carcass Dist'!$B$2,'Carcass Dist'!$B$3,1,'Carcass Dist'!$C$10,'Carcass Dist'!$C$11)-_xlfn.BETA.DIST(A66,'Carcass Dist'!$B$2,'Carcass Dist'!$B$3,1,'Carcass Dist'!$C$10,'Carcass Dist'!$C$11),0)","v":0},0,0]
[{"$f":"A67+1","v":126},{"$f":"IFERROR(_xlfn.BETA.DIST(A68,'Carcass Dist'!$B$2,'Carcass Dist'!$B$3,1,'Carcass Dist'!$C$10,'Carcass Dist'!$C$11)-_xlfn.BETA.DIST(A67,'Carcass Dist'!$B$2,'Carcass Dist'!$B$3,1,'Carcass Dist'!$C$10,'Carcass Dist'!$C$11),0)","v":0},{"$f":"B68*$G$2","v":0},0]
[127,{"$f":"IFERROR(_xlfn.BETA.DIST(A69,'Carcass Dist'!$B$2,'Carcass Dist'!$B$3,1,'Carcass Dist'!$C$10,'Carcass Dist'!$C$11)-_xlfn.BETA.DIST(A68,'Carcass Dist'!$B$2,'Carcass Dist'!$B$3,1,'Carcass Dist'!$C$10,'Carcass Dist'!$C$11),0)","v":0},0,0]
[128,{"$f":"IFERROR(_xlfn.BETA.DIST(A70,'Carcass Dist'!$B$2,'Carcass Dist'!$B$3,1,'Carcass Dist'!$C$10,'Carcass Dist'!$C$11)-_xlfn.BETA.DIST(A69,'Carcass Dist'!$B$2,'Carcass Dist'!$B$3,1,'Carcass Dist'!$C$10,'Carcass Dist'!$C$11),0)","v":0},0,0]
[129,{"$f":"IFERROR(_xlfn.BETA.DIST(A71,'Carcass Dist'!$B$2,'Carcass Dist'!$B$3,1,'Carcass Dist'!$C$10,'Carcass Dist'!$C$11)-_xlfn.BETA.DIST(A70,'Carcass Dist'!$B$2,'Carcass Dist'!$B$3,1,'Carcass Dist'!$C$10,'Carcass Dist'!$C$11),0)","v":0},0,0]
[130,{"$f":"IFERROR(_xlfn.BETA.DIST(A72,'Carcass Dist'!$B$2,'Carcass Dist'!$B$3,1,'Carcass Dist'!$C$10,'Carcass Dist'!$C$11)-_xlfn.BETA.DIST(A71,'Carcass Dist'!$B$2,'Carcass Dist'!$B$3,1,'Carcass Dist'!$C$10,'Carcass Dist'!$C$11),0)","v":0},0,0]
[131,{"$f":"IFERROR(_xlfn.BETA.DIST(A73,'Carcass Dist'!$B$2,'Carcass Dist'!$B$3,1,'Carcass Dist'!$C$10,'Carcass Dist'!$C$11)-_xlfn.BETA.DIST(A72,'Carcass Dist'!$B$2,'Carcass Dist'!$B$3,1,'Carcass Dist'!$C$10,'Carcass Dist'!$C$11),0)","v":0},0,0]
[132,{"$f":"IFERROR(_xlfn.BETA.DIST(A74,'Carcass Dist'!$B$2,'Carcass Dist'!$B$3,1,'Carcass Dist'!$C$10,'Carcass Dist'!$C$11)-_xlfn.BETA.DIST(A73,'Carcass Dist'!$B$2,'Carcass Dist'!$B$3,1,'Carcass Dist'!$C$10,'Carcass Dist'!$C$11),0)","v":0},0,0]
[133,{"$f":"IFERROR(_xlfn.BETA.DIST(A75,'Carcass Dist'!$B$2,'Carcass Dist'!$B$3,1,'Carcass Dist'!$C$10,'Carcass Dist'!$C$11)-_xlfn.BETA.DIST(A74,'Carcass Dist'!$B$2,'Carcass Dist'!$B$3,1,'Carcass Dist'!$C$10,'Carcass Dist'!$C$11),0)","v":0},0,0]
[134,{"$f":"IFERROR(_xlfn.BETA.DIST(A76,'Carcass Dist'!$B$2,'Carcass Dist'!$B$3,1,'Carcass Dist'!$C$10,'Carcass Dist'!$C$11)-_xlfn.BETA.DIST(A75,'Carcass Dist'!$B$2,'Carcass Dist'!$B$3,1,'Carcass Dist'!$C$10,'Carcass Dist'!$C$11),0)","v":0},0,0]
[135,{"$f":"IFERROR(_xlfn.BETA.DIST(A77,'Carcass Dist'!$B$2,'Carcass Dist'!$B$3,1,'Carcass Dist'!$C$10,'Carcass Dist'!$C$11)-_xlfn.BETA.DIST(A76,'Carcass Dist'!$B$2,'Carcass Dist'!$B$3,1,'Carcass Dist'!$C$10,'Carcass Dist'!$C$11),0)","v":0},0,0]
[136,{"$f":"IFERROR(_xlfn.BETA.DIST(A78,'Carcass Dist'!$B$2,'Carcass Dist'!$B$3,1,'Carcass Dist'!$C$10,'Carcass Dist'!$C$11)-_xlfn.BETA.DIST(A77,'Carcass Dist'!$B$2,'Carcass Dist'!$B$3,1,'Carcass Dist'!$C$10,'Carcass Dist'!$C$11),0)","v":0},0,0]
[137,{"$f":"IFERROR(_xlfn.BETA.DIST(A79,'Carcass Dist'!$B$2,'Carcass Dist'!$B$3,1,'Carcass Dist'!$C$10,'Carcass Dist'!$C$11)-_xlfn.BETA.DIST(A78,'Carcass Dist'!$B$2,'Carcass Dist'!$B$3,1,'Carcass Dist'!$C$10,'Carcass Dist'!$C$11),0)","v":0},0,0]
[138,{"$f":"IFERROR(_xlfn.BETA.DIST(A80,'Carcass Dist'!$B$2,'Carcass Dist'!$B$3,1,'Carcass Dist'!$C$10,'Carcass Dist'!$C$11)-_xlfn.BETA.DIST(A79,'Carcass Dist'!$B$2,'Carcass Dist'!$B$3,1,'Carcass Dist'!$C$10,'Carcass Dist'!$C$11),0)","v":0},0,0]
[139,{"$f":"IFERROR(_xlfn.BETA.DIST(A81,'Carcass Dist'!$B$2,'Carcass Dist'!$B$3,1,'Carcass Dist'!$C$10,'Carcass Dist'!$C$11)-_xlfn.BETA.DIST(A80,'Carcass Dist'!$B$2,'Carcass Dist'!$B$3,1,'Carcass Dist'!$C$10,'Carcass Dist'!$C$11),0)","v":0},0,0]
[140,{"$f":"IFERROR(_xlfn.BETA.DIST(A82,'Carcass Dist'!$B$2,'Carcass Dist'!$B$3,1,'Carcass Dist'!$C$10,'Carcass Dist'!$C$11)-_xlfn.BETA.DIST(A81,'Carcass Dist'!$B$2,'Carcass Dist'!$B$3,1,'Carcass Dist'!$C$10,'Carcass Dist'!$C$11),0)","v":0},0,0]
[141,{"$f":"IFERROR(_xlfn.BETA.DIST(A83,'Carcass Dist'!$B$2,'Carcass Dist'!$B$3,1,'Carcass Dist'!$C$10,'Carcass Dist'!$C$11)-_xlfn.BETA.DIST(A82,'Carcass Dist'!$B$2,'Carcass Dist'!$B$3,1,'Carcass Dist'!$C$10,'Carcass Dist'!$C$11),0)","v":0},0,0]
[142,{"$f":"IFERROR(_xlfn.BETA.DIST(A84,'Carcass Dist'!$B$2,'Carcass Dist'!$B$3,1,'Carcass Dist'!$C$10,'Carcass Dist'!$C$11)-_xlfn.BETA.DIST(A83,'Carcass Dist'!$B$2,'Carcass Dist'!$B$3,1,'Carcass Dist'!$C$10,'Carcass Dist'!$C$11),0)","v":0},0,0]
[143,{"$f":"IFERROR(_xlfn.BETA.DIST(A85,'Carcass Dist'!$B$2,'Carcass Dist'!$B$3,1,'Carcass Dist'!$C$10,'Carcass Dist'!$C$11)-_xlfn.BETA.DIST(A84,'Carcass Dist'!$B$2,'Carcass Dist'!$B$3,1,'Carcass Dist'!$C$10,'Carcass Dist'!$C$11),0)","v":0},0,0]
[144,{"$f":"IFERROR(_xlfn.BETA.DIST(A86,'Carcass Dist'!$B$2,'Carcass Dist'!$B$3,1,'Carcass Dist'!$C$10,'Carcass Dist'!$C$11)-_xlfn.BETA.DIST(A85,'Carcass Dist'!$B$2,'Carcass Dist'!$B$3,1,'Carcass Dist'!$C$10,'Carcass Dist'!$C$11),0)","v":0},0,0]
[145,{"$f":"IFERROR(_xlfn.BETA.DIST(A87,'Carcass Dist'!$B$2,'Carcass Dist'!$B$3,1,'Carcass Dist'!$C$10,'Carcass Dist'!$C$11)-_xlfn.BETA.DIST(A86,'Carcass Dist'!$B$2,'Carcass Dist'!$B$3,1,'Carcass Dist'!$C$10,'Carcass Dist'!$C$11),0)","v":0},0,0]
[146,{"$f":"IFERROR(_xlfn.BETA.DIST(A88,'Carcass Dist'!$B$2,'Carcass Dist'!$B$3,1,'Carcass Dist'!$C$10,'Carcass Dist'!$C$11)-_xlfn.BETA.DIST(A87,'Carcass Dist'!$B$2,'Carcass Dist'!$B$3,1,'Carcass Dist'!$C$10,'Carcass Dist'!$C$11),0)","v":0},0,0]
[147,{"$f":"IFERROR(_xlfn.BETA.DIST(A89,'Carcass Dist'!$B$2,'Carcass Dist'!$B$3,1,'Carcass Dist'!$C$10,'Carcass Dist'!$C$11)-_xlfn.BETA.DIST(A88,'Carcass Dist'!$B$2,'Carcass Dist'!$B$3,1,'Carcass Dist'!$C$10,'Carcass Dist'!$C$11),0)","v":0},0,0]
[148,{"$f":"IFERROR(_xlfn.BETA.DIST(A90,'Carcass Dist'!$B$2,'Carcass Dist'!$B$3,1,'Carcass Dist'!$C$10,'Carcass Dist'!$C$11)-_xlfn.BETA.DIST(A89,'Carcass Dist'!$B$2,'Carcass Dist'!$B$3,1,'Carcass Dist'!$C$10,'Carcass Dist'!$C$11),0)","v":0},0,0]
[149,{"$f":"IFERROR(_xlfn.BETA.DIST(A91,'Carcass Dist'!$B$2,'Carcass Dist'!$B$3,1,'Carcass Dist'!$C$10,'Carcass Dist'!$C$11)-_xlfn.BETA.DIST(A90,'Carcass Dist'!$B$2,'Carcass Dist'!$B$3,1,'Carcass Dist'!$C$10,'Carcass Dist'!$C$11),0)","v":0},0,0]
[150,{"$f":"IFERROR(_xlfn.BETA.DIST(A92,'Carcass Dist'!$B$2,'Carcass Dist'!$B$3,1,'Carcass Dist'!$C$10,'Carcass Dist'!$C$11)-_xlfn.BETA.DIST(A91,'Carcass Dist'!$B$2,'Carcass Dist'!$B$3,1,'Carcass Dist'!$C$10,'Carcass Dist'!$C$11),0)","v":0},0,0]
[151,{"$f":"IFERROR(_xlfn.BETA.DIST(A93,'Carcass Dist'!$B$2,'Carcass Dist'!$B$3,1,'Carcass Dist'!$C$10,'Carcass Dist'!$C$11)-_xlfn.BETA.DIST(A92,'Carcass Dist'!$B$2,'Carcass Dist'!$B$3,1,'Carcass Dist'!$C$10,'Carcass Dist'!$C$11),0)","v":0},0,0]
[152,{"$f":"IFERROR(_xlfn.BETA.DIST(A94,'Carcass Dist'!$B$2,'Carcass Dist'!$B$3,1,'Carcass Dist'!$C$10,'Carcass Dist'!$C$11)-_xlfn.BETA.DIST(A93,'Carcass Dist'!$B$2,'Carcass Dist'!$B$3,1,'Carcass Dist'!$C$10,'Carcass Dist'!$C$11),0)","v":0},0,0]
[153,{"$f":"IFERROR(_xlfn.BETA.DIST(A95,'Carcass Dist'!$B$2,'Carcass Dist'!$B$3,1,'Carcass Dist'!$C$10,'Carcass Dist'!$C$11)-_xlfn.BETA.DIST(A94,'Carcass Dist'!$B$2,'Carcass Dist'!$B$3,1,'Carcass Dist'!$C$10,'Carcass Dist'!$C$11),0)","v":0},0,0]
[154,{"$f":"IFERROR(_xlfn.BETA.DIST(A96,'Carcass Dist'!$B$2,'Carcass Dist'!$B$3,1,'Carcass Dist'!$C$10,'Carcass Dist'!$C$11)-_xlfn.BETA.DIST(A95,'Carcass Dist'!$B$2,'Carcass Dist'!$B$3,1,'Carcass Dist'!$C$10,'Carcass Dist'!$C$11),0)","v":0},0,0]
[155,{"$f":"IFERROR(_xlfn.BETA.DIST(A97,'Carcass Dist'!$B$2,'Carcass Dist'!$B$3,1,'Carcass Dist'!$C$10,'Carcass Dist'!$C$11)-_xlfn.BETA.DIST(A96,'Carcass Dist'!$B$2,'Carcass Dist'!$B$3,1,'Carcass Dist'!$C$10,'Carcass Dist'!$C$11),0)","v":0},0,0]
[156,{"$f":"IFERROR(_xlfn.BETA.DIST(A98,'Carcass Dist'!$B$2,'Carcass Dist'!$B$3,1,'Carcass Dist'!$C$10,'Carcass Dist'!$C$11)-_xlfn.BETA.DIST(A97,'Carcass Dist'!$B$2,'Carcass Dist'!$B$3,1,'Carcass Dist'!$C$10,'Carcass Dist'!$C$11),0)","v":0},0,0]
[157,{"$f":"IFERROR(_xlfn.BETA.DIST(A99,'Carcass Dist'!$B$2,'Carcass Dist'!$B$3,1,'Carcass Dist'!$C$10,'Carcass Dist'!$C$11)-_xlfn.BETA.DIST(A98,'Carcass Dist'!$B$2,'Carcass Dist'!$B$3,1,'Carcass Dist'!$C$10,'Carcass Dist'!$C$11),0)","v":0},0,0]
[158,{"$f":"IFERROR(_xlfn.BETA.DIST(A100,'Carcass Dist'!$B$2,'Carcass Dist'!$B$3,1,'Carcass Dist'!$C$10,'Carcass Dist'!$C$11)-_xlfn.BETA.DIST(A99,'Carcass Dist'!$B$2,'Carcass Dist'!$B$3,1,'Carcass Dist'!$C$10,'Carcass Dist'!$C$11),0)","v":0},0,0]
[159,{"$f":"IFERROR(_xlfn.BETA.DIST(A101,'Carcass Dist'!$B$2,'Carcass Dist'!$B$3,1,'Carcass Dist'!$C$10,'Carcass Dist'!$C$11)-_xlfn.BETA.DIST(A100,'Carcass Dist'!$B$2,'Carcass Dist'!$B$3,1,'Carcass Dist'!$C$10,'Carcass Dist'!$C$11),0)","v":0},0,0]
[160,{"$f":"IFERROR(_xlfn.BETA.DIST(A102,'Carcass Dist'!$B$2,'Carcass Dist'!$B$3,1,'Carcass Dist'!$C$10,'Carcass Dist'!$C$11)-_xlfn.BETA.DIST(A101,'Carcass Dist'!$B$2,'Carcass Dist'!$B$3,1,'Carcass Dist'!$C$10,'Carcass Dist'!$C$11),0)","v":0},0,0]
[161,{"$f":"IFERROR(_xlfn.BETA.DIST(A103,'Carcass Dist'!$B$2,'Carcass Dist'!$B$3,1,'Carcass Dist'!$C$10,'Carcass Dist'!$C$11)-_xlfn.BETA.DIST(A102,'Carcass Dist'!$B$2,'Carcass Dist'!$B$3,1,'Carcass Dist'!$C$10,'Carcass Dist'!$C$11),0)","v":0},0,0]
[162,{"$f":"IFERROR(_xlfn.BETA.DIST(A104,'Carcass Dist'!$B$2,'Carcass Dist'!$B$3,1,'Carcass Dist'!$C$10,'Carcass Dist'!$C$11)-_xlfn.BETA.DIST(A103,'Carcass Dist'!$B$2,'Carcass Dist'!$B$3,1,'Carcass Dist'!$C$10,'Carcass Dist'!$C$11),0)","v":0},0,0]
[163,{"$f":"IFERROR(_xlfn.BETA.DIST(A105,'Carcass Dist'!$B$2,'Carcass Dist'!$B$3,1,'Carcass Dist'!$C$10,'Carcass Dist'!$C$11)-_xlfn.BETA.DIST(A104,'Carcass Dist'!$B$2,'Carcass Dist'!$B$3,1,'Carcass Dist'!$C$10,'Carcass Dist'!$C$11),0)","v":0},0,0]
[164,{"$f":"IFERROR(_xlfn.BETA.DIST(A106,'Carcass Dist'!$B$2,'Carcass Dist'!$B$3,1,'Carcass Dist'!$C$10,'Carcass Dist'!$C$11)-_xlfn.BETA.DIST(A105,'Carcass Dist'!$B$2,'Carcass Dist'!$B$3,1,'Carcass Dist'!$C$10,'Carcass Dist'!$C$11),0)","v":0},0,0]
[165,{"$f":"IFERROR(_xlfn.BETA.DIST(A107,'Carcass Dist'!$B$2,'Carcass Dist'!$B$3,1,'Carcass Dist'!$C$10,'Carcass Dist'!$C$11)-_xlfn.BETA.DIST(A106,'Carcass Dist'!$B$2,'Carcass Dist'!$B$3,1,'Carcass Dist'!$C$10,'Carcass Dist'!$C$11),0)","v":0},0,0]
[166,{"$f":"IFERROR(_xlfn.BETA.DIST(A108,'Carcass Dist'!$B$2,'Carcass Dist'!$B$3,1,'Carcass Dist'!$C$10,'Carcass Dist'!$C$11)-_xlfn.BETA.DIST(A107,'Carcass Dist'!$B$2,'Carcass Dist'!$B$3,1,'Carcass Dist'!$C$10,'Carcass Dist'!$C$11),0)","v":0},0,0]
[167,{"$f":"IFERROR(_xlfn.BETA.DIST(A109,'Carcass Dist'!$B$2,'Carcass Dist'!$B$3,1,'Carcass Dist'!$C$10,'Carcass Dist'!$C$11)-_xlfn.BETA.DIST(A108,'Carcass Dist'!$B$2,'Carcass Dist'!$B$3,1,'Carcass Dist'!$C$10,'Carcass Dist'!$C$11),0)","v":0},0,0]
[168,{"$f":"IFERROR(_xlfn.BETA.DIST(A110,'Carcass Dist'!$B$2,'Carcass Dist'!$B$3,1,'Carcass Dist'!$C$10,'Carcass Dist'!$C$11)-_xlfn.BETA.DIST(A109,'Carcass Dist'!$B$2,'Carcass Dist'!$B$3,1,'Carcass Dist'!$C$10,'Carcass Dist'!$C$11),0)","v":0},0,0]
[169,{"$f":"IFERROR(_xlfn.BETA.DIST(A111,'Carcass Dist'!$B$2,'Carcass Dist'!$B$3,1,'Carcass Dist'!$C$10,'Carcass Dist'!$C$11)-_xlfn.BETA.DIST(A110,'Carcass Dist'!$B$2,'Carcass Dist'!$B$3,1,'Carcass Dist'!$C$10,'Carcass Dist'!$C$11),0)","v":0},0,0]
[170,{"$f":"IFERROR(_xlfn.BETA.DIST(A112,'Carcass Dist'!$B$2,'Carcass Dist'!$B$3,1,'Carcass Dist'!$C$10,'Carcass Dist'!$C$11)-_xlfn.BETA.DIST(A111,'Carcass Dist'!$B$2,'Carcass Dist'!$B$3,1,'Carcass Dist'!$C$10,'Carcass Dist'!$C$11),0)","v":0},0,0]
[171,{"$f":"IFERROR(_xlfn.BETA.DIST(A113,'Carcass Dist'!$B$2,'Carcass Dist'!$B$3,1,'Carcass Dist'!$C$10,'Carcass Dist'!$C$11)-_xlfn.BETA.DIST(A112,'Carcass Dist'!$B$2,'Carcass Dist'!$B$3,1,'Carcass Dist'!$C$10,'Carcass Dist'!$C$11),0)","v":0},0,0]
[172,{"$f":"IFERROR(_xlfn.BETA.DIST(A114,'Carcass Dist'!$B$2,'Carcass Dist'!$B$3,1,'Carcass Dist'!$C$10,'Carcass Dist'!$C$11)-_xlfn.BETA.DIST(A113,'Carcass Dist'!$B$2,'Carcass Dist'!$B$3,1,'Carcass Dist'!$C$10,'Carcass Dist'!$C$11),0)","v":0},0,0]
[173,{"$f":"IFERROR(_xlfn.BETA.DIST(A115,'Carcass Dist'!$B$2,'Carcass Dist'!$B$3,1,'Carcass Dist'!$C$10,'Carcass Dist'!$C$11)-_xlfn.BETA.DIST(A114,'Carcass Dist'!$B$2,'Carcass Dist'!$B$3,1,'Carcass Dist'!$C$10,'Carcass Dist'!$C$11),0)","v":0},0,0]
[174,{"$f":"IFERROR(_xlfn.BETA.DIST(A116,'Carcass Dist'!$B$2,'Carcass Dist'!$B$3,1,'Carcass Dist'!$C$10,'Carcass Dist'!$C$11)-_xlfn.BETA.DIST(A115,'Carcass Dist'!$B$2,'Carcass Dist'!$B$3,1,'Carcass Dist'!$C$10,'Carcass Dist'!$C$11),0)","v":0},0,0]
[175,{"$f":"IFERROR(_xlfn.BETA.DIST(A117,'Carcass Dist'!$B$2,'Carcass Dist'!$B$3,1,'Carcass Dist'!$C$10,'Carcass Dist'!$C$11)-_xlfn.BETA.DIST(A116,'Carcass Dist'!$B$2,'Carcass Dist'!$B$3,1,'Carcass Dist'!$C$10,'Carcass Dist'!$C$11),0)","v":0},0,0]
[176,{"$f":"IFERROR(_xlfn.BETA.DIST(A118,'Carcass Dist'!$B$2,'Carcass Dist'!$B$3,1,'Carcass Dist'!$C$10,'Carcass Dist'!$C$11)-_xlfn.BETA.DIST(A117,'Carcass Dist'!$B$2,'Carcass Dist'!$B$3,1,'Carcass Dist'!$C$10,'Carcass Dist'!$C$11),0)","v":0},0,0]
[177,{"$f":"IFERROR(_xlfn.BETA.DIST(A119,'Carcass Dist'!$B$2,'Carcass Dist'!$B$3,1,'Carcass Dist'!$C$10,'Carcass Dist'!$C$11)-_xlfn.BETA.DIST(A118,'Carcass Dist'!$B$2,'Carcass Dist'!$B$3,1,'Carcass Dist'!$C$10,'Carcass Dist'!$C$11),0)","v":0},0,0]
[178,{"$f":"IFERROR(_xlfn.BETA.DIST(A120,'Carcass Dist'!$B$2,'Carcass Dist'!$B$3,1,'Carcass Dist'!$C$10,'Carcass Dist'!$C$11)-_xlfn.BETA.DIST(A119,'Carcass Dist'!$B$2,'Carcass Dist'!$B$3,1,'Carcass Dist'!$C$10,'Carcass Dist'!$C$11),0)","v":0},0,0]
[179,{"$f":"IFERROR(_xlfn.BETA.DIST(A121,'Carcass Dist'!$B$2,'Carcass Dist'!$B$3,1,'Carcass Dist'!$C$10,'Carcass Dist'!$C$11)-_xlfn.BETA.DIST(A120,'Carcass Dist'!$B$2,'Carcass Dist'!$B$3,1,'Carcass Dist'!$C$10,'Carcass Dist'!$C$11),0)","v":0},0,0]
[180,{"$f":"IFERROR(_xlfn.BETA.DIST(A122,'Carcass Dist'!$B$2,'Carcass Dist'!$B$3,1,'Carcass Dist'!$C$10,'Carcass Dist'!$C$11)-_xlfn.BETA.DIST(A121,'Carcass Dist'!$B$2,'Carcass Dist'!$B$3,1,'Carcass Dist'!$C$10,'Carcass Dist'!$C$11),0)","v":0},0,0]
[181,{"$f":"IFERROR(_xlfn.BETA.DIST(A123,'Carcass Dist'!$B$2,'Carcass Dist'!$B$3,1,'Carcass Dist'!$C$10,'Carcass Dist'!$C$11)-_xlfn.BETA.DIST(A122,'Carcass Dist'!$B$2,'Carcass Dist'!$B$3,1,'Carcass Dist'!$C$10,'Carcass Dist'!$C$11),0)","v":0},0,0]
[182,{"$f":"IFERROR(_xlfn.BETA.DIST(A124,'Carcass Dist'!$B$2,'Carcass Dist'!$B$3,1,'Carcass Dist'!$C$10,'Carcass Dist'!$C$11)-_xlfn.BETA.DIST(A123,'Carcass Dist'!$B$2,'Carcass Dist'!$B$3,1,'Carcass Dist'!$C$10,'Carcass Dist'!$C$11),0)","v":0},0,0]
[183,{"$f":"IFERROR(_xlfn.BETA.DIST(A125,'Carcass Dist'!$B$2,'Carcass Dist'!$B$3,1,'Carcass Dist'!$C$10,'Carcass Dist'!$C$11)-_xlfn.BETA.DIST(A124,'Carcass Dist'!$B$2,'Carcass Dist'!$B$3,1,'Carcass Dist'!$C$10,'Carcass Dist'!$C$11),0)","v":0},0,0]
[184,{"$f":"IFERROR(_xlfn.BETA.DIST(A126,'Carcass Dist'!$B$2,'Carcass Dist'!$B$3,1,'Carcass Dist'!$C$10,'Carcass Dist'!$C$11)-_xlfn.BETA.DIST(A125,'Carcass Dist'!$B$2,'Carcass Dist'!$B$3,1,'Carcass Dist'!$C$10,'Carcass Dist'!$C$11),0)","v":0},0,0]
[185,{"$f":"IFERROR(_xlfn.BETA.DIST(A127,'Carcass Dist'!$B$2,'Carcass Dist'!$B$3,1,'Carcass Dist'!$C$10,'Carcass Dist'!$C$11)-_xlfn.BETA.DIST(A126,'Carcass Dist'!$B$2,'Carcass Dist'!$B$3,1,'Carcass Dist'!$C$10,'Carcass Dist'!$C$11),0)","v":0},0,0]
[186,{"$f":"IFERROR(_xlfn.BETA.DIST(A128,'Carcass Dist'!$B$2,'Carcass Dist'!$B$3,1,'Carcass Dist'!$C$10,'Carcass Dist'!$C$11)-_xlfn.BETA.DIST(A127,'Carcass Dist'!$B$2,'Carcass Dist'!$B$3,1,'Carcass Dist'!$C$10,'Carcass Dist'!$C$11),0)","v":0},0,0]
[187,{"$f":"IFERROR(_xlfn.BETA.DIST(A129,'Carcass Dist'!$B$2,'Carcass Dist'!$B$3,1,'Carcass Dist'!$C$10,'Carcass Dist'!$C$11)-_xlfn.BETA.DIST(A128,'Carcass Dist'!$B$2,'Carcass Dist'!$B$3,1,'Carcass Dist'!$C$10,'Carcass Dist'!$C$11),0)","v":0},0,0]
[188,{"$f":"IFERROR(_xlfn.BETA.DIST(A130,'Carcass Dist'!$B$2,'Carcass Dist'!$B$3,1,'Carcass Dist'!$C$10,'Carcass Dist'!$C$11)-_xlfn.BETA.DIST(A129,'Carcass Dist'!$B$2,'Carcass Dist'!$B$3,1,'Carcass Dist'!$C$10,'Carcass Dist'!$C$11),0)","v":0},0,{"$f":"IF(B130=\"\",0,C130*A130)","v":0}]
[189,{"$f":"IFERROR(_xlfn.BETA.DIST(A131,'Carcass Dist'!$B$2,'Carcass Dist'!$B$3,1,'Carcass Dist'!$C$10,'Carcass Dist'!$C$11)-_xlfn.BETA.DIST(A130,'Carcass Dist'!$B$2,'Carcass Dist'!$B$3,1,'Carcass Dist'!$C$10,'Carcass Dist'!$C$11),0)","v":0},0,0]
[{"$f":"A131+1","v":190},{"$f":"IFERROR(_xlfn.BETA.DIST(A132,'Carcass Dist'!$B$2,'Carcass Dist'!$B$3,1,'Carcass Dist'!$C$10,'Carcass Dist'!$C$11)-_xlfn.BETA.DIST(A131,'Carcass Dist'!$B$2,'Carcass Dist'!$B$3,1,'Carcass Dist'!$C$10,'Carcass Dist'!$C$11),0)","v":0},{"$f":"B132*$G$2","v":0},0]
[191,{"$f":"IFERROR(_xlfn.BETA.DIST(A133,'Carcass Dist'!$B$2,'Carcass Dist'!$B$3,1,'Carcass Dist'!$C$10,'Carcass Dist'!$C$11)-_xlfn.BETA.DIST(A132,'Carcass Dist'!$B$2,'Carcass Dist'!$B$3,1,'Carcass Dist'!$C$10,'Carcass Dist'!$C$11),0)","v":0},0,0]
[192,{"$f":"IFERROR(_xlfn.BETA.DIST(A134,'Carcass Dist'!$B$2,'Carcass Dist'!$B$3,1,'Carcass Dist'!$C$10,'Carcass Dist'!$C$11)-_xlfn.BETA.DIST(A133,'Carcass Dist'!$B$2,'Carcass Dist'!$B$3,1,'Carcass Dist'!$C$10,'Carcass Dist'!$C$11),0)","v":0},0,0]
[193,{"$f":"IFERROR(_xlfn.BETA.DIST(A135,'Carcass Dist'!$B$2,'Carcass Dist'!$B$3,1,'Carcass Dist'!$C$10,'Carcass Dist'!$C$11)-_xlfn.BETA.DIST(A134,'Carcass Dist'!$B$2,'Carcass Dist'!$B$3,1,'Carcass Dist'!$C$10,'Carcass Dist'!$C$11),0)","v":0},0,0]
[194,{"$f":"IFERROR(_xlfn.BETA.DIST(A136,'Carcass Dist'!$B$2,'Carcass Dist'!$B$3,1,'Carcass Dist'!$C$10,'Carcass Dist'!$C$11)-_xlfn.BETA.DIST(A135,'Carcass Dist'!$B$2,'Carcass Dist'!$B$3,1,'Carcass Dist'!$C$10,'Carcass Dist'!$C$11),0)","v":0},0,0]
[195,{"$f":"IFERROR(_xlfn.BETA.DIST(A137,'Carcass Dist'!$B$2,'Carcass Dist'!$B$3,1,'Carcass Dist'!$C$10,'Carcass Dist'!$C$11)-_xlfn.BETA.DIST(A136,'Carcass Dist'!$B$2,'Carcass Dist'!$B$3,1,'Carcass Dist'!$C$10,'Carcass Dist'!$C$11),0)","v":0},0,0]
[196,{"$f":"IFERROR(_xlfn.BETA.DIST(A138,'Carcass Dist'!$B$2,'Carcass Dist'!$B$3,1,'Carcass Dist'!$C$10,'Carcass Dist'!$C$11)-_xlfn.BETA.DIST(A137,'Carcass Dist'!$B$2,'Carcass Dist'!$B$3,1,'Carcass Dist'!$C$10,'Carcass Dist'!$C$11),0)","v":0},0,0]
[197,{"$f":"IFERROR(_xlfn.BETA.DIST(A139,'Carcass Dist'!$B$2,'Carcass Dist'!$B$3,1,'Carcass Dist'!$C$10,'Carcass Dist'!$C$11)-_xlfn.BETA.DIST(A138,'Carcass Dist'!$B$2,'Carcass Dist'!$B$3,1,'Carcass Dist'!$C$10,'Carcass Dist'!$C$11),0)","v":0},0,0]
[198,{"$f":"IFERROR(_xlfn.BETA.DIST(A140,'Carcass Dist'!$B$2,'Carcass Dist'!$B$3,1,'Carcass Dist'!$C$10,'Carcass Dist'!$C$11)-_xlfn.BETA.DIST(A139,'Carcass Dist'!$B$2,'Carcass Dist'!$B$3,1,'Carcass Dist'!$C$10,'Carcass Dist'!$C$11),0)","v":0},0,0]
[199,{"$f":"IFERROR(_xlfn.BETA.DIST(A141,'Carcass Dist'!$B$2,'Carcass Dist'!$B$3,1,'Carcass Dist'!$C$10,'Carcass Dist'!$C$11)-_xlfn.BETA.DIST(A140,'Carcass Dist'!$B$2,'Carcass Dist'!$B$3,1,'Carcass Dist'!$C$10,'Carcass Dist'!$C$11),0)","v":0},0,0]
[200,{"$f":"IFERROR(_xlfn.BETA.DIST(A142,'Carcass Dist'!$B$2,'Carcass Dist'!$B$3,1,'Carcass Dist'!$C$10,'Carcass Dist'!$C$11)-_xlfn.BETA.DIST(A141,'Carcass Dist'!$B$2,'Carcass Dist'!$B$3,1,'Carcass Dist'!$C$10,'Carcass Dist'!$C$11),0)","v":0},0,0]
[201,{"$f":"IFERROR(_xlfn.BETA.DIST(A143,'Carcass Dist'!$B$2,'Carcass Dist'!$B$3,1,'Carcass Dist'!$C$10,'Carcass Dist'!$C$11)-_xlfn.BETA.DIST(A142,'Carcass Dist'!$B$2,'Carcass Dist'!$B$3,1,'Carcass Dist'!$C$10,'Carcass Dist'!$C$11),0)","v":0},0,0]
[202,{"$f":"IFERROR(_xlfn.BETA.DIST(A144,'Carcass Dist'!$B$2,'Carcass Dist'!$B$3,1,'Carcass Dist'!$C$10,'Carcass Dist'!$C$11)-_xlfn.BETA.DIST(A143,'Carcass Dist'!$B$2,'Carcass Dist'!$B$3,1,'Carcass Dist'!$C$10,'Carcass Dist'!$C$11),0)","v":0},0,0]
[203,{"$f":"IFERROR(_xlfn.BETA.DIST(A145,'Carcass Dist'!$B$2,'Carcass Dist'!$B$3,1,'Carcass Dist'!$C$10,'Carcass Dist'!$C$11)-_xlfn.BETA.DIST(A144,'Carcass Dist'!$B$2,'Carcass Dist'!$B$3,1,'Carcass Dist'!$C$10,'Carcass Dist'!$C$11),0)","v":0},0,0]
[204,{"$f":"IFERROR(_xlfn.BETA.DIST(A146,'Carcass Dist'!$B$2,'Carcass Dist'!$B$3,1,'Carcass Dist'!$C$10,'Carcass Dist'!$C$11)-_xlfn.BETA.DIST(A145,'Carcass Dist'!$B$2,'Carcass Dist'!$B$3,1,'Carcass Dist'!$C$10,'Carcass Dist'!$C$11),0)","v":0},0,0]
[205,{"$f":"IFERROR(_xlfn.BETA.DIST(A147,'Carcass Dist'!$B$2,'Carcass Dist'!$B$3,1,'Carcass Dist'!$C$10,'Carcass Dist'!$C$11)-_xlfn.BETA.DIST(A146,'Carcass Dist'!$B$2,'Carcass Dist'!$B$3,1,'Carcass Dist'!$C$10,'Carcass Dist'!$C$11),0)","v":0},0,0]
[206,{"$f":"IFERROR(_xlfn.BETA.DIST(A148,'Carcass Dist'!$B$2,'Carcass Dist'!$B$3,1,'Carcass Dist'!$C$10,'Carcass Dist'!$C$11)-_xlfn.BETA.DIST(A147,'Carcass Dist'!$B$2,'Carcass Dist'!$B$3,1,'Carcass Dist'!$C$10,'Carcass Dist'!$C$11),0)","v":0},0,0]
[207,{"$f":"IFERROR(_xlfn.BETA.DIST(A149,'Carcass Dist'!$B$2,'Carcass Dist'!$B$3,1,'Carcass Dist'!$C$10,'Carcass Dist'!$C$11)-_xlfn.BETA.DIST(A148,'Carcass Dist'!$B$2,'Carcass Dist'!$B$3,1,'Carcass Dist'!$C$10,'Carcass Dist'!$C$11),0)","v":0},0,0]
[208,{"$f":"IFERROR(_xlfn.BETA.DIST(A150,'Carcass Dist'!$B$2,'Carcass Dist'!$B$3,1,'Carcass Dist'!$C$10,'Carcass Dist'!$C$11)-_xlfn.BETA.DIST(A149,'Carcass Dist'!$B$2,'Carcass Dist'!$B$3,1,'Carcass Dist'!$C$10,'Carcass Dist'!$C$11),0)","v":0},0,0]
[209,{"$f":"IFERROR(_xlfn.BETA.DIST(A151,'Carcass Dist'!$B$2,'Carcass Dist'!$B$3,1,'Carcass Dist'!$C$10,'Carcass Dist'!$C$11)-_xlfn.BETA.DIST(A150,'Carcass Dist'!$B$2,'Carcass Dist'!$B$3,1,'Carcass Dist'!$C$10,'Carcass Dist'!$C$11),0)","v":0},0,0]
[210,{"$f":"IFERROR(_xlfn.BETA.DIST(A152,'Carcass Dist'!$B$2,'Carcass Dist'!$B$3,1,'Carcass Dist'!$C$10,'Carcass Dist'!$C$11)-_xlfn.BETA.DIST(A151,'Carcass Dist'!$B$2,'Carcass Dist'!$B$3,1,'Carcass Dist'!$C$10,'Carcass Dist'!$C$11),0)","v":0},0,0]
[211,{"$f":"IFERROR(_xlfn.BETA.DIST(A153,'Carcass Dist'!$B$2,'Carcass Dist'!$B$3,1,'Carcass Dist'!$C$10,'Carcass Dist'!$C$11)-_xlfn.BETA.DIST(A152,'Carcass Dist'!$B$2,'Carcass Dist'!$B$3,1,'Carcass Dist'!$C$10,'Carcass Dist'!$C$11),0)","v":0},0,0]
[212,{"$f":"IFERROR(_xlfn.BETA.DIST(A154,'Carcass Dist'!$B$2,'Carcass Dist'!$B$3,1,'Carcass Dist'!$C$10,'Carcass Dist'!$C$11)-_xlfn.BETA.DIST(A153,'Carcass Dist'!$B$2,'Carcass Dist'!$B$3,1,'Carcass Dist'!$C$10,'Carcass Dist'!$C$11),0)","v":0},0,0]
[213,{"$f":"IFERROR(_xlfn.BETA.DIST(A155,'Carcass Dist'!$B$2,'Carcass Dist'!$B$3,1,'Carcass Dist'!$C$10,'Carcass Dist'!$C$11)-_xlfn.BETA.DIST(A154,'Carcass Dist'!$B$2,'Carcass Dist'!$B$3,1,'Carcass Dist'!$C$10,'Carcass Dist'!$C$11),0)","v":0},0,0]
[214,{"$f":"IFERROR(_xlfn.BETA.DIST(A156,'Carcass Dist'!$B$2,'Carcass Dist'!$B$3,1,'Carcass Dist'!$C$10,'Carcass Dist'!$C$11)-_xlfn.BETA.DIST(A155,'Carcass Dist'!$B$2,'Carcass Dist'!$B$3,1,'Carcass Dist'!$C$10,'Carcass Dist'!$C$11),0)","v":0},0,0]
[215,{"$f":"IFERROR(_xlfn.BETA.DIST(A157,'Carcass Dist'!$B$2,'Carcass Dist'!$B$3,1,'Carcass Dist'!$C$10,'Carcass Dist'!$C$11)-_xlfn.BETA.DIST(A156,'Carcass Dist'!$B$2,'Carcass Dist'!$B$3,1,'Carcass Dist'!$C$10,'Carcass Dist'!$C$11),0)","v":0},0,0]
[216,{"$f":"IFERROR(_xlfn.BETA.DIST(A158,'Carcass Dist'!$B$2,'Carcass Dist'!$B$3,1,'Carcass Dist'!$C$10,'Carcass Dist'!$C$11)-_xlfn.BETA.DIST(A157,'Carcass Dist'!$B$2,'Carcass Dist'!$B$3,1,'Carcass Dist'!$C$10,'Carcass Dist'!$C$11),0)","v":0},0,{"$f":"IF(B158=\"\",0,C158*A158)","v":0}]
[217,{"$f":"IFERROR(_xlfn.BETA.DIST(A159,'Carcass Dist'!$B$2,'Carcass Dist'!$B$3,1,'Carcass Dist'!$C$10,'Carcass Dist'!$C$11)-_xlfn.BETA.DIST(A158,'Carcass Dist'!$B$2,'Carcass Dist'!$B$3,1,'Carcass Dist'!$C$10,'Carcass Dist'!$C$11),0)","v":0},0,0]
[218,{"$f":"IFERROR(_xlfn.BETA.DIST(A160,'Carcass Dist'!$B$2,'Carcass Dist'!$B$3,1,'Carcass Dist'!$C$10,'Carcass Dist'!$C$11)-_xlfn.BETA.DIST(A159,'Carcass Dist'!$B$2,'Carcass Dist'!$B$3,1,'Carcass Dist'!$C$10,'Carcass Dist'!$C$11),0)","v":0},0,0]
[219,{"$f":"IFERROR(_xlfn.BETA.DIST(A161,'Carcass Dist'!$B$2,'Carcass Dist'!$B$3,1,'Carcass Dist'!$C$10,'Carcass Dist'!$C$11)-_xlfn.BETA.DIST(A160,'Carcass Dist'!$B$2,'Carcass Dist'!$B$3,1,'Carcass Dist'!$C$10,'Carcass Dist'!$C$11),0)","v":0},0,0]
[220,{"$f":"IFERROR(_xlfn.BETA.DIST(A162,'Carcass Dist'!$B$2,'Carcass Dist'!$B$3,1,'Carcass Dist'!$C$10,'Carcass Dist'!$C$11)-_xlfn.BETA.DIST(A161,'Carcass Dist'!$B$2,'Carcass Dist'!$B$3,1,'Carcass Dist'!$C$10,'Carcass Dist'!$C$11),0)","v":0},0,0]
[221,{"$f":"IFERROR(_xlfn.BETA.DIST(A163,'Carcass Dist'!$B$2,'Carcass Dist'!$B$3,1,'Carcass Dist'!$C$10,'Carcass Dist'!$C$11)-_xlfn.BETA.DIST(A162,'Carcass Dist'!$B$2,'Carcass Dist'!$B$3,1,'Carcass Dist'!$C$10,'Carcass Dist'!$C$11),0)","v":0},0,0]
[222,{"$f":"IFERROR(_xlfn.BETA.DIST(A164,'Carcass Dist'!$B$2,'Carcass Dist'!$B$3,1,'Carcass Dist'!$C$10,'Carcass Dist'!$C$11)-_xlfn.BETA.DIST(A163,'Carcass Dist'!$B$2,'Carcass Dist'!$B$3,1,'Carcass Dist'!$C$10,'Carcass Dist'!$C$11),0)","v":0},0,0]
[223,{"$f":"IFERROR(_xlfn.BETA.DIST(A165,'Carcass Dist'!$B$2,'Carcass Dist'!$B$3,1,'Carcass Dist'!$C$10,'Carcass Dist'!$C$11)-_xlfn.BETA.DIST(A164,'Carcass Dist'!$B$2,'Carcass Dist'!$B$3,1,'Carcass Dist'!$C$10,'Carcass Dist'!$C$11),0)","v":0},0,0]
[224,{"$f":"IFERROR(_xlfn.BETA.DIST(A166,'Carcass Dist'!$B$2,'Carcass Dist'!$B$3,1,'Carcass Dist'!$C$10,'Carcass Dist'!$C$11)-_xlfn.BETA.DIST(A165,'Carcass Dist'!$B$2,'Carcass Dist'!$B$3,1,'Carcass Dist'!$C$10,'Carcass Dist'!$C$11),0)","v":0},0,0]
[225,{"$f":"IFERROR(_xlfn.BETA.DIST(A167,'Carcass Dist'!$B$2,'Carcass Dist'!$B$3,1,'Carcass Dist'!$C$10,'Carcass Dist'!$C$11)-_xlfn.BETA.DIST(A166,'Carcass Dist'!$B$2,'Carcass Dist'!$B$3,1,'Carcass Dist'!$C$10,'Carcass Dist'!$C$11),0)","v":0},0,0]
[226,{"$f":"IFERROR(_xlfn.BETA.DIST(A168,'Carcass Dist'!$B$2,'Carcass Dist'!$B$3,1,'Carcass Dist'!$C$10,'Carcass Dist'!$C$11)-_xlfn.BETA.DIST(A167,'Carcass Dist'!$B$2,'Carcass Dist'!$B$3,1,'Carcass Dist'!$C$10,'Carcass Dist'!$C$11),0)","v":0},0,0]
[227,{"$f":"IFERROR(_xlfn.BETA.DIST(A169,'Carcass Dist'!$B$2,'Carcass Dist'!$B$3,1,'Carcass Dist'!$C$10,'Carcass Dist'!$C$11)-_xlfn.BETA.DIST(A168,'Carcass Dist'!$B$2,'Carcass Dist'!$B$3,1,'Carcass Dist'!$C$10,'Carcass Dist'!$C$11),0)","v":0},0,0]
[228,{"$f":"IFERROR(_xlfn.BETA.DIST(A170,'Carcass Dist'!$B$2,'Carcass Dist'!$B$3,1,'Carcass Dist'!$C$10,'Carcass Dist'!$C$11)-_xlfn.BETA.DIST(A169,'Carcass Dist'!$B$2,'Carcass Dist'!$B$3,1,'Carcass Dist'!$C$10,'Carcass Dist'!$C$11),0)","v":0},0,0]
[229,{"$f":"IFERROR(_xlfn.BETA.DIST(A171,'Carcass Dist'!$B$2,'Carcass Dist'!$B$3,1,'Carcass Dist'!$C$10,'Carcass Dist'!$C$11)-_xlfn.BETA.DIST(A170,'Carcass Dist'!$B$2,'Carcass Dist'!$B$3,1,'Carcass Dist'!$C$10,'Carcass Dist'!$C$11),0)","v":0},0,0]
[230,{"$f":"IFERROR(_xlfn.BETA.DIST(A172,'Carcass Dist'!$B$2,'Carcass Dist'!$B$3,1,'Carcass Dist'!$C$10,'Carcass Dist'!$C$11)-_xlfn.BETA.DIST(A171,'Carcass Dist'!$B$2,'Carcass Dist'!$B$3,1,'Carcass Dist'!$C$10,'Carcass Dist'!$C$11),0)","v":0},0,0]
[231,{"$f":"IFERROR(_xlfn.BETA.DIST(A173,'Carcass Dist'!$B$2,'Carcass Dist'!$B$3,1,'Carcass Dist'!$C$10,'Carcass Dist'!$C$11)-_xlfn.BETA.DIST(A172,'Carcass Dist'!$B$2,'Carcass Dist'!$B$3,1,'Carcass Dist'!$C$10,'Carcass Dist'!$C$11),0)","v":0},0,0]
[232,{"$f":"IFERROR(_xlfn.BETA.DIST(A174,'Carcass Dist'!$B$2,'Carcass Dist'!$B$3,1,'Carcass Dist'!$C$10,'Carcass Dist'!$C$11)-_xlfn.BETA.DIST(A173,'Carcass Dist'!$B$2,'Carcass Dist'!$B$3,1,'Carcass Dist'!$C$10,'Carcass Dist'!$C$11),0)","v":0},0,0]
[233,{"$f":"IFERROR(_xlfn.BETA.DIST(A175,'Carcass Dist'!$B$2,'Carcass Dist'!$B$3,1,'Carcass Dist'!$C$10,'Carcass Dist'!$C$11)-_xlfn.BETA.DIST(A174,'Carcass Dist'!$B$2,'Carcass Dist'!$B$3,1,'Carcass Dist'!$C$10,'Carcass Dist'!$C$11),0)","v":0},0,0]
[234,{"$f":"IFERROR(_xlfn.BETA.DIST(A176,'Carcass Dist'!$B$2,'Carcass Dist'!$B$3,1,'Carcass Dist'!$C$10,'Carcass Dist'!$C$11)-_xlfn.BETA.DIST(A175,'Carcass Dist'!$B$2,'Carcass Dist'!$B$3,1,'Carcass Dist'!$C$10,'Carcass Dist'!$C$11),0)","v":0},0,0]
[235,{"$f":"IFERROR(_xlfn.BETA.DIST(A177,'Carcass Dist'!$B$2,'Carcass Dist'!$B$3,1,'Carcass Dist'!$C$10,'Carcass Dist'!$C$11)-_xlfn.BETA.DIST(A176,'Carcass Dist'!$B$2,'Carcass Dist'!$B$3,1,'Carcass Dist'!$C$10,'Carcass Dist'!$C$11),0)","v":0},0,0]
[236,{"$f":"IFERROR(_xlfn.BETA.DIST(A178,'Carcass Dist'!$B$2,'Carcass Dist'!$B$3,1,'Carcass Dist'!$C$10,'Carcass Dist'!$C$11)-_xlfn.BETA.DIST(A177,'Carcass Dist'!$B$2,'Carcass Dist'!$B$3,1,'Carcass Dist'!$C$10,'Carcass Dist'!$C$11),0)","v":0},0,0]
[237,{"$f":"IFERROR(_xlfn.BETA.DIST(A179,'Carcass Dist'!$B$2,'Carcass Dist'!$B$3,1,'Carcass Dist'!$C$10,'Carcass Dist'!$C$11)-_xlfn.BETA.DIST(A178,'Carcass Dist'!$B$2,'Carcass Dist'!$B$3,1,'Carcass Dist'!$C$10,'Carcass Dist'!$C$11),0)","v":0},0,0]
[238,{"$f":"IFERROR(_xlfn.BETA.DIST(A180,'Carcass Dist'!$B$2,'Carcass Dist'!$B$3,1,'Carcass Dist'!$C$10,'Carcass Dist'!$C$11)-_xlfn.BETA.DIST(A179,'Carcass Dist'!$B$2,'Carcass Dist'!$B$3,1,'Carcass Dist'!$C$10,'Carcass Dist'!$C$11),0)","v":0},0,0]
[239,{"$f":"IFERROR(_xlfn.BETA.DIST(A181,'Carcass Dist'!$B$2,'Carcass Dist'!$B$3,1,'Carcass Dist'!$C$10,'Carcass Dist'!$C$11)-_xlfn.BETA.DIST(A180,'Carcass Dist'!$B$2,'Carcass Dist'!$B$3,1,'Carcass Dist'!$C$10,'Carcass Dist'!$C$11),0)","v":0},0,0]
[240,{"$f":"IFERROR(_xlfn.BETA.DIST(A182,'Carcass Dist'!$B$2,'Carcass Dist'!$B$3,1,'Carcass Dist'!$C$10,'Carcass Dist'!$C$11)-_xlfn.BETA.DIST(A181,'Carcass Dist'!$B$2,'Carcass Dist'!$B$3,1,'Carcass Dist'!$C$10,'Carcass Dist'!$C$11),0)","v":0},0,0]
[241,{"$f":"IFERROR(_xlfn.BETA.DIST(A183,'Carcass Dist'!$B$2,'Carcass Dist'!$B$3,1,'Carcass Dist'!$C$10,'Carcass Dist'!$C$11)-_xlfn.BETA.DIST(A182,'Carcass Dist'!$B$2,'Carcass Dist'!$B$3,1,'Carcass Dist'!$C$10,'Carcass Dist'!$C$11),0)","v":0},0,0]
[242,{"$f":"IFERROR(_xlfn.BETA.DIST(A184,'Carcass Dist'!$B$2,'Carcass Dist'!$B$3,1,'Carcass Dist'!$C$10,'Carcass Dist'!$C$11)-_xlfn.BETA.DIST(A183,'Carcass Dist'!$B$2,'Carcass Dist'!$B$3,1,'Carcass Dist'!$C$10,'Carcass Dist'!$C$11),0)","v":0},0,0]
[243,{"$f":"IFERROR(_xlfn.BETA.DIST(A185,'Carcass Dist'!$B$2,'Carcass Dist'!$B$3,1,'Carcass Dist'!$C$10,'Carcass Dist'!$C$11)-_xlfn.BETA.DIST(A184,'Carcass Dist'!$B$2,'Carcass Dist'!$B$3,1,'Carcass Dist'!$C$10,'Carcass Dist'!$C$11),0)","v":0},0,0]
[244,{"$f":"IFERROR(_xlfn.BETA.DIST(A186,'Carcass Dist'!$B$2,'Carcass Dist'!$B$3,1,'Carcass Dist'!$C$10,'Carcass Dist'!$C$11)-_xlfn.BETA.DIST(A185,'Carcass Dist'!$B$2,'Carcass Dist'!$B$3,1,'Carcass Dist'!$C$10,'Carcass Dist'!$C$11),0)","v":0},0,0]
[245,{"$f":"IFERROR(_xlfn.BETA.DIST(A187,'Carcass Dist'!$B$2,'Carcass Dist'!$B$3,1,'Carcass Dist'!$C$10,'Carcass Dist'!$C$11)-_xlfn.BETA.DIST(A186,'Carcass Dist'!$B$2,'Carcass Dist'!$B$3,1,'Carcass Dist'!$C$10,'Carcass Dist'!$C$11),0)","v":0},0,0]
[246,{"$f":"IFERROR(_xlfn.BETA.DIST(A188,'Carcass Dist'!$B$2,'Carcass Dist'!$B$3,1,'Carcass Dist'!$C$10,'Carcass Dist'!$C$11)-_xlfn.BETA.DIST(A187,'Carcass Dist'!$B$2,'Carcass Dist'!$B$3,1,'Carcass Dist'!$C$10,'Carcass Dist'!$C$11),0)","v":0},0,0]
[247,{"$f":"IFERROR(_xlfn.BETA.DIST(A189,'Carcass Dist'!$B$2,'Carcass Dist'!$B$3,1,'Carcass Dist'!$C$10,'Carcass Dist'!$C$11)-_xlfn.BETA.DIST(A188,'Carcass Dist'!$B$2,'Carcass Dist'!$B$3,1,'Carcass Dist'!$C$10,'Carcass Dist'!$C$11),0)","v":0},0,0]
[248,{"$f":"IFERROR(_xlfn.BETA.DIST(A190,'Carcass Dist'!$B$2,'Carcass Dist'!$B$3,1,'Carcass Dist'!$C$10,'Carcass Dist'!$C$11)-_xlfn.BETA.DIST(A189,'Carcass Dist'!$B$2,'Carcass Dist'!$B$3,1,'Carcass Dist'!$C$10,'Carcass Dist'!$C$11),0)","v":0},0,0]
[249,{"$f":"IFERROR(_xlfn.BETA.DIST(A191,'Carcass Dist'!$B$2,'Carcass Dist'!$B$3,1,'Carcass Dist'!$C$10,'Carcass Dist'!$C$11)-_xlfn.BETA.DIST(A190,'Carcass Dist'!$B$2,'Carcass Dist'!$B$3,1,'Carcass Dist'!$C$10,'Carcass Dist'!$C$11),0)","v":0},0,0]
[250,{"$f":"IFERROR(_xlfn.BETA.DIST(A192,'Carcass Dist'!$B$2,'Carcass Dist'!$B$3,1,'Carcass Dist'!$C$10,'Carcass Dist'!$C$11)-_xlfn.BETA.DIST(A191,'Carcass Dist'!$B$2,'Carcass Dist'!$B$3,1,'Carcass Dist'!$C$10,'Carcass Dist'!$C$11),0)","v":0},0,0]
[251,{"$f":"IFERROR(_xlfn.BETA.DIST(A193,'Carcass Dist'!$B$2,'Carcass Dist'!$B$3,1,'Carcass Dist'!$C$10,'Carcass Dist'!$C$11)-_xlfn.BETA.DIST(A192,'Carcass Dist'!$B$2,'Carcass Dist'!$B$3,1,'Carcass Dist'!$C$10,'Carcass Dist'!$C$11),0)","v":0},0,0]
[252,{"$f":"IFERROR(_xlfn.BETA.DIST(A194,'Carcass Dist'!$B$2,'Carcass Dist'!$B$3,1,'Carcass Dist'!$C$10,'Carcass Dist'!$C$11)-_xlfn.BETA.DIST(A193,'Carcass Dist'!$B$2,'Carcass Dist'!$B$3,1,'Carcass Dist'!$C$10,'Carcass Dist'!$C$11),0)","v":0},0,0]
[253,{"$f":"IFERROR(_xlfn.BETA.DIST(A195,'Carcass Dist'!$B$2,'Carcass Dist'!$B$3,1,'Carcass Dist'!$C$10,'Carcass Dist'!$C$11)-_xlfn.BETA.DIST(A194,'Carcass Dist'!$B$2,'Carcass Dist'!$B$3,1,'Carcass Dist'!$C$10,'Carcass Dist'!$C$11),0)","v":0},0,0]
[{"$f":"A195+1","v":254},{"$f":"IFERROR(_xlfn.BETA.DIST(A196,'Carcass Dist'!$B$2,'Carcass Dist'!$B$3,1,'Carcass Dist'!$C$10,'Carcass Dist'!$C$11)-_xlfn.BETA.DIST(A195,'Carcass Dist'!$B$2,'Carcass Dist'!$B$3,1,'Carcass Dist'!$C$10,'Carcass Dist'!$C$11),0)","v":0},0,0]
[255,{"$f":"IFERROR(_xlfn.BETA.DIST(A197,'Carcass Dist'!$B$2,'Carcass Dist'!$B$3,1,'Carcass Dist'!$C$10,'Carcass Dist'!$C$11)-_xlfn.BETA.DIST(A196,'Carcass Dist'!$B$2,'Carcass Dist'!$B$3,1,'Carcass Dist'!$C$10,'Carcass Dist'!$C$11),0)","v":0},0,0]
[256,{"$f":"IFERROR(_xlfn.BETA.DIST(A198,'Carcass Dist'!$B$2,'Carcass Dist'!$B$3,1,'Carcass Dist'!$C$10,'Carcass Dist'!$C$11)-_xlfn.BETA.DIST(A197,'Carcass Dist'!$B$2,'Carcass Dist'!$B$3,1,'Carcass Dist'!$C$10,'Carcass Dist'!$C$11),0)","v":0},0,0]
[257,{"$f":"IFERROR(_xlfn.BETA.DIST(A199,'Carcass Dist'!$B$2,'Carcass Dist'!$B$3,1,'Carcass Dist'!$C$10,'Carcass Dist'!$C$11)-_xlfn.BETA.DIST(A198,'Carcass Dist'!$B$2,'Carcass Dist'!$B$3,1,'Carcass Dist'!$C$10,'Carcass Dist'!$C$11),0)","v":0},0,0]
[258,{"$f":"IFERROR(_xlfn.BETA.DIST(A200,'Carcass Dist'!$B$2,'Carcass Dist'!$B$3,1,'Carcass Dist'!$C$10,'Carcass Dist'!$C$11)-_xlfn.BETA.DIST(A199,'Carcass Dist'!$B$2,'Carcass Dist'!$B$3,1,'Carcass Dist'!$C$10,'Carcass Dist'!$C$11),0)","v":0},0,0]
[259,{"$f":"IFERROR(_xlfn.BETA.DIST(A201,'Carcass Dist'!$B$2,'Carcass Dist'!$B$3,1,'Carcass Dist'!$C$10,'Carcass Dist'!$C$11)-_xlfn.BETA.DIST(A200,'Carcass Dist'!$B$2,'Carcass Dist'!$B$3,1,'Carcass Dist'!$C$10,'Carcass Dist'!$C$11),0)","v":0},0,0]
[260,{"$f":"IFERROR(_xlfn.BETA.DIST(A202,'Carcass Dist'!$B$2,'Carcass Dist'!$B$3,1,'Carcass Dist'!$C$10,'Carcass Dist'!$C$11)-_xlfn.BETA.DIST(A201,'Carcass Dist'!$B$2,'Carcass Dist'!$B$3,1,'Carcass Dist'!$C$10,'Carcass Dist'!$C$11),0)","v":0},0,0]
[261,{"$f":"IFERROR(_xlfn.BETA.DIST(A203,'Carcass Dist'!$B$2,'Carcass Dist'!$B$3,1,'Carcass Dist'!$C$10,'Carcass Dist'!$C$11)-_xlfn.BETA.DIST(A202,'Carcass Dist'!$B$2,'Carcass Dist'!$B$3,1,'Carcass Dist'!$C$10,'Carcass Dist'!$C$11),0)","v":0},0,0]
[262,{"$f":"IFERROR(_xlfn.BETA.DIST(A204,'Carcass Dist'!$B$2,'Carcass Dist'!$B$3,1,'Carcass Dist'!$C$10,'Carcass Dist'!$C$11)-_xlfn.BETA.DIST(A203,'Carcass Dist'!$B$2,'Carcass Dist'!$B$3,1,'Carcass Dist'!$C$10,'Carcass Dist'!$C$11),0)","v":0},0,0]
[263,{"$f":"IFERROR(_xlfn.BETA.DIST(A205,'Carcass Dist'!$B$2,'Carcass Dist'!$B$3,1,'Carcass Dist'!$C$10,'Carcass Dist'!$C$11)-_xlfn.BETA.DIST(A204,'Carcass Dist'!$B$2,'Carcass Dist'!$B$3,1,'Carcass Dist'!$C$10,'Carcass Dist'!$C$11),0)","v":0},0,0]
[264,{"$f":"IFERROR(_xlfn.BETA.DIST(A206,'Carcass Dist'!$B$2,'Carcass Dist'!$B$3,1,'Carcass Dist'!$C$10,'Carcass Dist'!$C$11)-_xlfn.BETA.DIST(A205,'Carcass Dist'!$B$2,'Carcass Dist'!$B$3,1,'Carcass Dist'!$C$10,'Carcass Dist'!$C$11),0)","v":0},0,0]
[265,{"$f":"IFERROR(_xlfn.BETA.DIST(A207,'Carcass Dist'!$B$2,'Carcass Dist'!$B$3,1,'Carcass Dist'!$C$10,'Carcass Dist'!$C$11)-_xlfn.BETA.DIST(A206,'Carcass Dist'!$B$2,'Carcass Dist'!$B$3,1,'Carcass Dist'!$C$10,'Carcass Dist'!$C$11),0)","v":0},0,0]
[266,{"$f":"IFERROR(_xlfn.BETA.DIST(A208,'Carcass Dist'!$B$2,'Carcass Dist'!$B$3,1,'Carcass Dist'!$C$10,'Carcass Dist'!$C$11)-_xlfn.BETA.DIST(A207,'Carcass Dist'!$B$2,'Carcass Dist'!$B$3,1,'Carcass Dist'!$C$10,'Carcass Dist'!$C$11),0)","v":0},0,0]
[267,{"$f":"IFERROR(_xlfn.BETA.DIST(A209,'Carcass Dist'!$B$2,'Carcass Dist'!$B$3,1,'Carcass Dist'!$C$10,'Carcass Dist'!$C$11)-_xlfn.BETA.DIST(A208,'Carcass Dist'!$B$2,'Carcass Dist'!$B$3,1,'Carcass Dist'!$C$10,'Carcass Dist'!$C$11),0)","v":0},0,0]
[268,{"$f":"IFERROR(_xlfn.BETA.DIST(A210,'Carcass Dist'!$B$2,'Carcass Dist'!$B$3,1,'Carcass Dist'!$C$10,'Carcass Dist'!$C$11)-_xlfn.BETA.DIST(A209,'Carcass Dist'!$B$2,'Carcass Dist'!$B$3,1,'Carcass Dist'!$C$10,'Carcass Dist'!$C$11),0)","v":0},0,0]
[269,{"$f":"IFERROR(_xlfn.BETA.DIST(A211,'Carcass Dist'!$B$2,'Carcass Dist'!$B$3,1,'Carcass Dist'!$C$10,'Carcass Dist'!$C$11)-_xlfn.BETA.DIST(A210,'Carcass Dist'!$B$2,'Carcass Dist'!$B$3,1,'Carcass Dist'!$C$10,'Carcass Dist'!$C$11),0)","v":0},0,0]
[270,{"$f":"IFERROR(_xlfn.BETA.DIST(A212,'Carcass Dist'!$B$2,'Carcass Dist'!$B$3,1,'Carcass Dist'!$C$10,'Carcass Dist'!$C$11)-_xlfn.BETA.DIST(A211,'Carcass Dist'!$B$2,'Carcass Dist'!$B$3,1,'Carcass Dist'!$C$10,'Carcass Dist'!$C$11),0)","v":0},0,0]
[271,{"$f":"IFERROR(_xlfn.BETA.DIST(A213,'Carcass Dist'!$B$2,'Carcass Dist'!$B$3,1,'Carcass Dist'!$C$10,'Carcass Dist'!$C$11)-_xlfn.BETA.DIST(A212,'Carcass Dist'!$B$2,'Carcass Dist'!$B$3,1,'Carcass Dist'!$C$10,'Carcass Dist'!$C$11),0)","v":0},0,0]
[272,{"$f":"IFERROR(_xlfn.BETA.DIST(A214,'Carcass Dist'!$B$2,'Carcass Dist'!$B$3,1,'Carcass Dist'!$C$10,'Carcass Dist'!$C$11)-_xlfn.BETA.DIST(A213,'Carcass Dist'!$B$2,'Carcass Dist'!$B$3,1,'Carcass Dist'!$C$10,'Carcass Dist'!$C$11),0)","v":0},0,0]
[273,{"$f":"IFERROR(_xlfn.BETA.DIST(A215,'Carcass Dist'!$B$2,'Carcass Dist'!$B$3,1,'Carcass Dist'!$C$10,'Carcass Dist'!$C$11)-_xlfn.BETA.DIST(A214,'Carcass Dist'!$B$2,'Carcass Dist'!$B$3,1,'Carcass Dist'!$C$10,'Carcass Dist'!$C$11),0)","v":0},0,0]
[274,{"$f":"IFERROR(_xlfn.BETA.DIST(A216,'Carcass Dist'!$B$2,'Carcass Dist'!$B$3,1,'Carcass Dist'!$C$10,'Carcass Dist'!$C$11)-_xlfn.BETA.DIST(A215,'Carcass Dist'!$B$2,'Carcass Dist'!$B$3,1,'Carcass Dist'!$C$10,'Carcass Dist'!$C$11),0)","v":0},0,0]
[275,{"$f":"IFERROR(_xlfn.BETA.DIST(A217,'Carcass Dist'!$B$2,'Carcass Dist'!$B$3,1,'Carcass Dist'!$C$10,'Carcass Dist'!$C$11)-_xlfn.BETA.DIST(A216,'Carcass Dist'!$B$2,'Carcass Dist'!$B$3,1,'Carcass Dist'!$C$10,'Carcass Dist'!$C$11),0)","v":0},0,0]
[276,{"$f":"IFERROR(_xlfn.BETA.DIST(A218,'Carcass Dist'!$B$2,'Carcass Dist'!$B$3,1,'Carcass Dist'!$C$10,'Carcass Dist'!$C$11)-_xlfn.BETA.DIST(A217,'Carcass Dist'!$B$2,'Carcass Dist'!$B$3,1,'Carcass Dist'!$C$10,'Carcass Dist'!$C$11),0)","v":0},0,0]
[277,{"$f":"IFERROR(_xlfn.BETA.DIST(A219,'Carcass Dist'!$B$2,'Carcass Dist'!$B$3,1,'Carcass Dist'!$C$10,'Carcass Dist'!$C$11)-_xlfn.BETA.DIST(A218,'Carcass Dist'!$B$2,'Carcass Dist'!$B$3,1,'Carcass Dist'!$C$10,'Carcass Dist'!$C$11),0)","v":0},0,0]
[278,{"$f":"IFERROR(_xlfn.BETA.DIST(A220,'Carcass Dist'!$B$2,'Carcass Dist'!$B$3,1,'Carcass Dist'!$C$10,'Carcass Dist'!$C$11)-_xlfn.BETA.DIST(A219,'Carcass Dist'!$B$2,'Carcass Dist'!$B$3,1,'Carcass Dist'!$C$10,'Carcass Dist'!$C$11),0)","v":0},0,0]
[279,{"$f":"IFERROR(_xlfn.BETA.DIST(A221,'Carcass Dist'!$B$2,'Carcass Dist'!$B$3,1,'Carcass Dist'!$C$10,'Carcass Dist'!$C$11)-_xlfn.BETA.DIST(A220,'Carcass Dist'!$B$2,'Carcass Dist'!$B$3,1,'Carcass Dist'!$C$10,'Carcass Dist'!$C$11),0)","v":0},0,0]
[280,{"$f":"IFERROR(_xlfn.BETA.DIST(A222,'Carcass Dist'!$B$2,'Carcass Dist'!$B$3,1,'Carcass Dist'!$C$10,'Carcass Dist'!$C$11)-_xlfn.BETA.DIST(A221,'Carcass Dist'!$B$2,'Carcass Dist'!$B$3,1,'Carcass Dist'!$C$10,'Carcass Dist'!$C$11),0)","v":0},0,{"$f":"IF(B222=\"\",0,C222*A222)","v":0}]
[281,{"$f":"IFERROR(_xlfn.BETA.DIST(A223,'Carcass Dist'!$B$2,'Carcass Dist'!$B$3,1,'Carcass Dist'!$C$10,'Carcass Dist'!$C$11)-_xlfn.BETA.DIST(A222,'Carcass Dist'!$B$2,'Carcass Dist'!$B$3,1,'Carcass Dist'!$C$10,'Carcass Dist'!$C$11),0)","v":0},0,0]
[282,{"$f":"IFERROR(_xlfn.BETA.DIST(A224,'Carcass Dist'!$B$2,'Carcass Dist'!$B$3,1,'Carcass Dist'!$C$10,'Carcass Dist'!$C$11)-_xlfn.BETA.DIST(A223,'Carcass Dist'!$B$2,'Carcass Dist'!$B$3,1,'Carcass Dist'!$C$10,'Carcass Dist'!$C$11),0)","v":0},0,0]
[283,{"$f":"IFERROR(_xlfn.BETA.DIST(A225,'Carcass Dist'!$B$2,'Carcass Dist'!$B$3,1,'Carcass Dist'!$C$10,'Carcass Dist'!$C$11)-_xlfn.BETA.DIST(A224,'Carcass Dist'!$B$2,'Carcass Dist'!$B$3,1,'Carcass Dist'!$C$10,'Carcass Dist'!$C$11),0)","v":0},0,0]
[284,{"$f":"IFERROR(_xlfn.BETA.DIST(A226,'Carcass Dist'!$B$2,'Carcass Dist'!$B$3,1,'Carcass Dist'!$C$10,'Carcass Dist'!$C$11)-_xlfn.BETA.DIST(A225,'Carcass Dist'!$B$2,'Carcass Dist'!$B$3,1,'Carcass Dist'!$C$10,'Carcass Dist'!$C$11),0)","v":0},0,0]
[285,{"$f":"IFERROR(_xlfn.BETA.DIST(A227,'Carcass Dist'!$B$2,'Carcass Dist'!$B$3,1,'Carcass Dist'!$C$10,'Carcass Dist'!$C$11)-_xlfn.BETA.DIST(A226,'Carcass Dist'!$B$2,'Carcass Dist'!$B$3,1,'Carcass Dist'!$C$10,'Carcass Dist'!$C$11),0)","v":0},0,0]
[286,{"$f":"IFERROR(_xlfn.BETA.DIST(A228,'Carcass Dist'!$B$2,'Carcass Dist'!$B$3,1,'Carcass Dist'!$C$10,'Carcass Dist'!$C$11)-_xlfn.BETA.DIST(A227,'Carcass Dist'!$B$2,'Carcass Dist'!$B$3,1,'Carcass Dist'!$C$10,'Carcass Dist'!$C$11),0)","v":0},0,0]
[287,{"$f":"IFERROR(_xlfn.BETA.DIST(A229,'Carcass Dist'!$B$2,'Carcass Dist'!$B$3,1,'Carcass Dist'!$C$10,'Carcass Dist'!$C$11)-_xlfn.BETA.DIST(A228,'Carcass Dist'!$B$2,'Carcass Dist'!$B$3,1,'Carcass Dist'!$C$10,'Carcass Dist'!$C$11),0)","v":0},0,0]
[288,{"$f":"IFERROR(_xlfn.BETA.DIST(A230,'Carcass Dist'!$B$2,'Carcass Dist'!$B$3,1,'Carcass Dist'!$C$10,'Carcass Dist'!$C$11)-_xlfn.BETA.DIST(A229,'Carcass Dist'!$B$2,'Carcass Dist'!$B$3,1,'Carcass Dist'!$C$10,'Carcass Dist'!$C$11),0)","v":0},0,0]
[289,{"$f":"IFERROR(_xlfn.BETA.DIST(A231,'Carcass Dist'!$B$2,'Carcass Dist'!$B$3,1,'Carcass Dist'!$C$10,'Carcass Dist'!$C$11)-_xlfn.BETA.DIST(A230,'Carcass Dist'!$B$2,'Carcass Dist'!$B$3,1,'Carcass Dist'!$C$10,'Carcass Dist'!$C$11),0)","v":0},{"$f":"B231*$G$2","v":0},0]
[290,{"$f":"IFERROR(_xlfn.BETA.DIST(A232,'Carcass Dist'!$B$2,'Carcass Dist'!$B$3,1,'Carcass Dist'!$C$10,'Carcass Dist'!$C$11)-_xlfn.BETA.DIST(A231,'Carcass Dist'!$B$2,'Carcass Dist'!$B$3,1,'Carcass Dist'!$C$10,'Carcass Dist'!$C$11),0)","v":0},0,0]
[291,{"$f":"IFERROR(_xlfn.BETA.DIST(A233,'Carcass Dist'!$B$2,'Carcass Dist'!$B$3,1,'Carcass Dist'!$C$10,'Carcass Dist'!$C$11)-_xlfn.BETA.DIST(A232,'Carcass Dist'!$B$2,'Carcass Dist'!$B$3,1,'Carcass Dist'!$C$10,'Carcass Dist'!$C$11),0)","v":0},0,0]
[292,{"$f":"IFERROR(_xlfn.BETA.DIST(A234,'Carcass Dist'!$B$2,'Carcass Dist'!$B$3,1,'Carcass Dist'!$C$10,'Carcass Dist'!$C$11)-_xlfn.BETA.DIST(A233,'Carcass Dist'!$B$2,'Carcass Dist'!$B$3,1,'Carcass Dist'!$C$10,'Carcass Dist'!$C$11),0)","v":0},0,0]
[293,{"$f":"IFERROR(_xlfn.BETA.DIST(A235,'Carcass Dist'!$B$2,'Carcass Dist'!$B$3,1,'Carcass Dist'!$C$10,'Carcass Dist'!$C$11)-_xlfn.BETA.DIST(A234,'Carcass Dist'!$B$2,'Carcass Dist'!$B$3,1,'Carcass Dist'!$C$10,'Carcass Dist'!$C$11),0)","v":0},0,0]
[294,{"$f":"IFERROR(_xlfn.BETA.DIST(A236,'Carcass Dist'!$B$2,'Carcass Dist'!$B$3,1,'Carcass Dist'!$C$10,'Carcass Dist'!$C$11)-_xlfn.BETA.DIST(A235,'Carcass Dist'!$B$2,'Carcass Dist'!$B$3,1,'Carcass Dist'!$C$10,'Carcass Dist'!$C$11),0)","v":0},0,0]
[295,{"$f":"IFERROR(_xlfn.BETA.DIST(A237,'Carcass Dist'!$B$2,'Carcass Dist'!$B$3,1,'Carcass Dist'!$C$10,'Carcass Dist'!$C$11)-_xlfn.BETA.DIST(A236,'Carcass Dist'!$B$2,'Carcass Dist'!$B$3,1,'Carcass Dist'!$C$10,'Carcass Dist'!$C$11),0)","v":0},0,0]
[296,{"$f":"IFERROR(_xlfn.BETA.DIST(A238,'Carcass Dist'!$B$2,'Carcass Dist'!$B$3,1,'Carcass Dist'!$C$10,'Carcass Dist'!$C$11)-_xlfn.BETA.DIST(A237,'Carcass Dist'!$B$2,'Carcass Dist'!$B$3,1,'Carcass Dist'!$C$10,'Carcass Dist'!$C$11),0)","v":0},0,0]
[297,{"$f":"IFERROR(_xlfn.BETA.DIST(A239,'Carcass Dist'!$B$2,'Carcass Dist'!$B$3,1,'Carcass Dist'!$C$10,'Carcass Dist'!$C$11)-_xlfn.BETA.DIST(A238,'Carcass Dist'!$B$2,'Carcass Dist'!$B$3,1,'Carcass Dist'!$C$10,'Carcass Dist'!$C$11),0)","v":0},0,0]
[298,{"$f":"IFERROR(_xlfn.BETA.DIST(A240,'Carcass Dist'!$B$2,'Carcass Dist'!$B$3,1,'Carcass Dist'!$C$10,'Carcass Dist'!$C$11)-_xlfn.BETA.DIST(A239,'Carcass Dist'!$B$2,'Carcass Dist'!$B$3,1,'Carcass Dist'!$C$10,'Carcass Dist'!$C$11),0)","v":0},0,0]
[299,{"$f":"IFERROR(_xlfn.BETA.DIST(A241,'Carcass Dist'!$B$2,'Carcass Dist'!$B$3,1,'Carcass Dist'!$C$10,'Carcass Dist'!$C$11)-_xlfn.BETA.DIST(A240,'Carcass Dist'!$B$2,'Carcass Dist'!$B$3,1,'Carcass Dist'!$C$10,'Carcass Dist'!$C$11),0)","v":0},0,0]
[300,{"$f":"IFERROR(_xlfn.BETA.DIST(A242,'Carcass Dist'!$B$2,'Carcass Dist'!$B$3,1,'Carcass Dist'!$C$10,'Carcass Dist'!$C$11)-_xlfn.BETA.DIST(A241,'Carcass Dist'!$B$2,'Carcass Dist'!$B$3,1,'Carcass Dist'!$C$10,'Carcass Dist'!$C$11),0)","v":0},0,0]
[301,{"$f":"IFERROR(_xlfn.BETA.DIST(A243,'Carcass Dist'!$B$2,'Carcass Dist'!$B$3,1,'Carcass Dist'!$C$10,'Carcass Dist'!$C$11)-_xlfn.BETA.DIST(A242,'Carcass Dist'!$B$2,'Carcass Dist'!$B$3,1,'Carcass Dist'!$C$10,'Carcass Dist'!$C$11),0)","v":0},0,0]
[302,{"$f":"IFERROR(_xlfn.BETA.DIST(A244,'Carcass Dist'!$B$2,'Carcass Dist'!$B$3,1,'Carcass Dist'!$C$10,'Carcass Dist'!$C$11)-_xlfn.BETA.DIST(A243,'Carcass Dist'!$B$2,'Carcass Dist'!$B$3,1,'Carcass Dist'!$C$10,'Carcass Dist'!$C$11),0)","v":0},0,0]
[303,{"$f":"IFERROR(_xlfn.BETA.DIST(A245,'Carcass Dist'!$B$2,'Carcass Dist'!$B$3,1,'Carcass Dist'!$C$10,'Carcass Dist'!$C$11)-_xlfn.BETA.DIST(A244,'Carcass Dist'!$B$2,'Carcass Dist'!$B$3,1,'Carcass Dist'!$C$10,'Carcass Dist'!$C$11),0)","v":0},0,0]
[304,{"$f":"IFERROR(_xlfn.BETA.DIST(A246,'Carcass Dist'!$B$2,'Carcass Dist'!$B$3,1,'Carcass Dist'!$C$10,'Carcass Dist'!$C$11)-_xlfn.BETA.DIST(A245,'Carcass Dist'!$B$2,'Carcass Dist'!$B$3,1,'Carcass Dist'!$C$10,'Carcass Dist'!$C$11),0)","v":0},0,0]
[305,{"$f":"IFERROR(_xlfn.BETA.DIST(A247,'Carcass Dist'!$B$2,'Carcass Dist'!$B$3,1,'Carcass Dist'!$C$10,'Carcass Dist'!$C$11)-_xlfn.BETA.DIST(A246,'Carcass Dist'!$B$2,'Carcass Dist'!$B$3,1,'Carcass Dist'!$C$10,'Carcass Dist'!$C$11),0)","v":0},0,0]
[306,{"$f":"IFERROR(_xlfn.BETA.DIST(A248,'Carcass Dist'!$B$2,'Carcass Dist'!$B$3,1,'Carcass Dist'!$C$10,'Carcass Dist'!$C$11)-_xlfn.BETA.DIST(A247,'Carcass Dist'!$B$2,'Carcass Dist'!$B$3,1,'Carcass Dist'!$C$10,'Carcass Dist'!$C$11),0)","v":0},0,0]
[307,{"$f":"IFERROR(_xlfn.BETA.DIST(A249,'Carcass Dist'!$B$2,'Carcass Dist'!$B$3,1,'Carcass Dist'!$C$10,'Carcass Dist'!$C$11)-_xlfn.BETA.DIST(A248,'Carcass Dist'!$B$2,'Carcass Dist'!$B$3,1,'Carcass Dist'!$C$10,'Carcass Dist'!$C$11),0)","v":0},0,0]
[308,{"$f":"IFERROR(_xlfn.BETA.DIST(A250,'Carcass Dist'!$B$2,'Carcass Dist'!$B$3,1,'Carcass Dist'!$C$10,'Carcass Dist'!$C$11)-_xlfn.BETA.DIST(A249,'Carcass Dist'!$B$2,'Carcass Dist'!$B$3,1,'Carcass Dist'!$C$10,'Carcass Dist'!$C$11),0)","v":0},0,0]
[309,{"$f":"IFERROR(_xlfn.BETA.DIST(A251,'Carcass Dist'!$B$2,'Carcass Dist'!$B$3,1,'Carcass Dist'!$C$10,'Carcass Dist'!$C$11)-_xlfn.BETA.DIST(A250,'Carcass Dist'!$B$2,'Carcass Dist'!$B$3,1,'Carcass Dist'!$C$10,'Carcass Dist'!$C$11),0)","v":0},0,0]
[310,{"$f":"IFERROR(_xlfn.BETA.DIST(A252,'Carcass Dist'!$B$2,'Carcass Dist'!$B$3,1,'Carcass Dist'!$C$10,'Carcass Dist'!$C$11)-_xlfn.BETA.DIST(A251,'Carcass Dist'!$B$2,'Carcass Dist'!$B$3,1,'Carcass Dist'!$C$10,'Carcass Dist'!$C$11),0)","v":0},0,0]
[311,{"$f":"IFERROR(_xlfn.BETA.DIST(A253,'Carcass Dist'!$B$2,'Carcass Dist'!$B$3,1,'Carcass Dist'!$C$10,'Carcass Dist'!$C$11)-_xlfn.BETA.DIST(A252,'Carcass Dist'!$B$2,'Carcass Dist'!$B$3,1,'Carcass Dist'!$C$10,'Carcass Dist'!$C$11),0)","v":0},0,0]
[312,{"$f":"IFERROR(_xlfn.BETA.DIST(A254,'Carcass Dist'!$B$2,'Carcass Dist'!$B$3,1,'Carcass Dist'!$C$10,'Carcass Dist'!$C$11)-_xlfn.BETA.DIST(A253,'Carcass Dist'!$B$2,'Carcass Dist'!$B$3,1,'Carcass Dist'!$C$10,'Carcass Dist'!$C$11),0)","v":0},0,0]
[313,{"$f":"IFERROR(_xlfn.BETA.DIST(A255,'Carcass Dist'!$B$2,'Carcass Dist'!$B$3,1,'Carcass Dist'!$C$10,'Carcass Dist'!$C$11)-_xlfn.BETA.DIST(A254,'Carcass Dist'!$B$2,'Carcass Dist'!$B$3,1,'Carcass Dist'!$C$10,'Carcass Dist'!$C$11),0)","v":0},0,0]
[314,{"$f":"IFERROR(_xlfn.BETA.DIST(A256,'Carcass Dist'!$B$2,'Carcass Dist'!$B$3,1,'Carcass Dist'!$C$10,'Carcass Dist'!$C$11)-_xlfn.BETA.DIST(A255,'Carcass Dist'!$B$2,'Carcass Dist'!$B$3,1,'Carcass Dist'!$C$10,'Carcass Dist'!$C$11),0)","v":0},0,0]
[315,{"$f":"IFERROR(_xlfn.BETA.DIST(A257,'Carcass Dist'!$B$2,'Carcass Dist'!$B$3,1,'Carcass Dist'!$C$10,'Carcass Dist'!$C$11)-_xlfn.BETA.DIST(A256,'Carcass Dist'!$B$2,'Carcass Dist'!$B$3,1,'Carcass Dist'!$C$10,'Carcass Dist'!$C$11),0)","v":0},0,0]
[316,{"$f":"IFERROR(_xlfn.BETA.DIST(A258,'Carcass Dist'!$B$2,'Carcass Dist'!$B$3,1,'Carcass Dist'!$C$10,'Carcass Dist'!$C$11)-_xlfn.BETA.DIST(A257,'Carcass Dist'!$B$2,'Carcass Dist'!$B$3,1,'Carcass Dist'!$C$10,'Carcass Dist'!$C$11),0)","v":0},0,0]
[317,{"$f":"IFERROR(_xlfn.BETA.DIST(A259,'Carcass Dist'!$B$2,'Carcass Dist'!$B$3,1,'Carcass Dist'!$C$10,'Carcass Dist'!$C$11)-_xlfn.BETA.DIST(A258,'Carcass Dist'!$B$2,'Carcass Dist'!$B$3,1,'Carcass Dist'!$C$10,'Carcass Dist'!$C$11),0)","v":0},0,0]
[{"$f":"A259+1","v":318},{"$f":"IFERROR(_xlfn.BETA.DIST(A260,'Carcass Dist'!$B$2,'Carcass Dist'!$B$3,1,'Carcass Dist'!$C$10,'Carcass Dist'!$C$11)-_xlfn.BETA.DIST(A259,'Carcass Dist'!$B$2,'Carcass Dist'!$B$3,1,'Carcass Dist'!$C$10,'Carcass Dist'!$C$11),0)","v":0},0,0]
[319,{"$f":"IFERROR(_xlfn.BETA.DIST(A261,'Carcass Dist'!$B$2,'Carcass Dist'!$B$3,1,'Carcass Dist'!$C$10,'Carcass Dist'!$C$11)-_xlfn.BETA.DIST(A260,'Carcass Dist'!$B$2,'Carcass Dist'!$B$3,1,'Carcass Dist'!$C$10,'Carcass Dist'!$C$11),0)","v":0},0,0]
[320,{"$f":"IFERROR(_xlfn.BETA.DIST(A262,'Carcass Dist'!$B$2,'Carcass Dist'!$B$3,1,'Carcass Dist'!$C$10,'Carcass Dist'!$C$11)-_xlfn.BETA.DIST(A261,'Carcass Dist'!$B$2,'Carcass Dist'!$B$3,1,'Carcass Dist'!$C$10,'Carcass Dist'!$C$11),0)","v":0},0,0]
[321,{"$f":"IFERROR(_xlfn.BETA.DIST(A263,'Carcass Dist'!$B$2,'Carcass Dist'!$B$3,1,'Carcass Dist'!$C$10,'Carcass Dist'!$C$11)-_xlfn.BETA.DIST(A262,'Carcass Dist'!$B$2,'Carcass Dist'!$B$3,1,'Carcass Dist'!$C$10,'Carcass Dist'!$C$11),0)","v":0},0,0]
[322,{"$f":"IFERROR(_xlfn.BETA.DIST(A264,'Carcass Dist'!$B$2,'Carcass Dist'!$B$3,1,'Carcass Dist'!$C$10,'Carcass Dist'!$C$11)-_xlfn.BETA.DIST(A263,'Carcass Dist'!$B$2,'Carcass Dist'!$B$3,1,'Carcass Dist'!$C$10,'Carcass Dist'!$C$11),0)","v":0},0,0]
[323,{"$f":"IFERROR(_xlfn.BETA.DIST(A265,'Carcass Dist'!$B$2,'Carcass Dist'!$B$3,1,'Carcass Dist'!$C$10,'Carcass Dist'!$C$11)-_xlfn.BETA.DIST(A264,'Carcass Dist'!$B$2,'Carcass Dist'!$B$3,1,'Carcass Dist'!$C$10,'Carcass Dist'!$C$11),0)","v":0},0,0]
[324,{"$f":"IFERROR(_xlfn.BETA.DIST(A266,'Carcass Dist'!$B$2,'Carcass Dist'!$B$3,1,'Carcass Dist'!$C$10,'Carcass Dist'!$C$11)-_xlfn.BETA.DIST(A265,'Carcass Dist'!$B$2,'Carcass Dist'!$B$3,1,'Carcass Dist'!$C$10,'Carcass Dist'!$C$11),0)","v":0},0,0]
[325,{"$f":"IFERROR(_xlfn.BETA.DIST(A267,'Carcass Dist'!$B$2,'Carcass Dist'!$B$3,1,'Carcass Dist'!$C$10,'Carcass Dist'!$C$11)-_xlfn.BETA.DIST(A266,'Carcass Dist'!$B$2,'Carcass Dist'!$B$3,1,'Carcass Dist'!$C$10,'Carcass Dist'!$C$11),0)","v":0},0,0]
[326,{"$f":"IFERROR(_xlfn.BETA.DIST(A268,'Carcass Dist'!$B$2,'Carcass Dist'!$B$3,1,'Carcass Dist'!$C$10,'Carcass Dist'!$C$11)-_xlfn.BETA.DIST(A267,'Carcass Dist'!$B$2,'Carcass Dist'!$B$3,1,'Carcass Dist'!$C$10,'Carcass Dist'!$C$11),0)","v":0},0,0]
[327,{"$f":"IFERROR(_xlfn.BETA.DIST(A269,'Carcass Dist'!$B$2,'Carcass Dist'!$B$3,1,'Carcass Dist'!$C$10,'Carcass Dist'!$C$11)-_xlfn.BETA.DIST(A268,'Carcass Dist'!$B$2,'Carcass Dist'!$B$3,1,'Carcass Dist'!$C$10,'Carcass Dist'!$C$11),0)","v":0},0,0]
[328,{"$f":"IFERROR(_xlfn.BETA.DIST(A270,'Carcass Dist'!$B$2,'Carcass Dist'!$B$3,1,'Carcass Dist'!$C$10,'Carcass Dist'!$C$11)-_xlfn.BETA.DIST(A269,'Carcass Dist'!$B$2,'Carcass Dist'!$B$3,1,'Carcass Dist'!$C$10,'Carcass Dist'!$C$11),0)","v":0},0,0]
[329,{"$f":"IFERROR(_xlfn.BETA.DIST(A271,'Carcass Dist'!$B$2,'Carcass Dist'!$B$3,1,'Carcass Dist'!$C$10,'Carcass Dist'!$C$11)-_xlfn.BETA.DIST(A270,'Carcass Dist'!$B$2,'Carcass Dist'!$B$3,1,'Carcass Dist'!$C$10,'Carcass Dist'!$C$11),0)","v":0},0,0]
[330,{"$f":"IFERROR(_xlfn.BETA.DIST(A272,'Carcass Dist'!$B$2,'Carcass Dist'!$B$3,1,'Carcass Dist'!$C$10,'Carcass Dist'!$C$11)-_xlfn.BETA.DIST(A271,'Carcass Dist'!$B$2,'Carcass Dist'!$B$3,1,'Carcass Dist'!$C$10,'Carcass Dist'!$C$11),0)","v":0},0,0]
[331,{"$f":"IFERROR(_xlfn.BETA.DIST(A273,'Carcass Dist'!$B$2,'Carcass Dist'!$B$3,1,'Carcass Dist'!$C$10,'Carcass Dist'!$C$11)-_xlfn.BETA.DIST(A272,'Carcass Dist'!$B$2,'Carcass Dist'!$B$3,1,'Carcass Dist'!$C$10,'Carcass Dist'!$C$11),0)","v":0},0,0]
[332,{"$f":"IFERROR(_xlfn.BETA.DIST(A274,'Carcass Dist'!$B$2,'Carcass Dist'!$B$3,1,'Carcass Dist'!$C$10,'Carcass Dist'!$C$11)-_xlfn.BETA.DIST(A273,'Carcass Dist'!$B$2,'Carcass Dist'!$B$3,1,'Carcass Dist'!$C$10,'Carcass Dist'!$C$11),0)","v":0},0,0]
[333,{"$f":"IFERROR(_xlfn.BETA.DIST(A275,'Carcass Dist'!$B$2,'Carcass Dist'!$B$3,1,'Carcass Dist'!$C$10,'Carcass Dist'!$C$11)-_xlfn.BETA.DIST(A274,'Carcass Dist'!$B$2,'Carcass Dist'!$B$3,1,'Carcass Dist'!$C$10,'Carcass Dist'!$C$11),0)","v":0},0,0]
[334,{"$f":"IFERROR(_xlfn.BETA.DIST(A276,'Carcass Dist'!$B$2,'Carcass Dist'!$B$3,1,'Carcass Dist'!$C$10,'Carcass Dist'!$C$11)-_xlfn.BETA.DIST(A275,'Carcass Dist'!$B$2,'Carcass Dist'!$B$3,1,'Carcass Dist'!$C$10,'Carcass Dist'!$C$11),0)","v":0},0,0]
[335,{"$f":"IFERROR(_xlfn.BETA.DIST(A277,'Carcass Dist'!$B$2,'Carcass Dist'!$B$3,1,'Carcass Dist'!$C$10,'Carcass Dist'!$C$11)-_xlfn.BETA.DIST(A276,'Carcass Dist'!$B$2,'Carcass Dist'!$B$3,1,'Carcass Dist'!$C$10,'Carcass Dist'!$C$11),0)","v":0},0,0]
[336,{"$f":"IFERROR(_xlfn.BETA.DIST(A278,'Carcass Dist'!$B$2,'Carcass Dist'!$B$3,1,'Carcass Dist'!$C$10,'Carcass Dist'!$C$11)-_xlfn.BETA.DIST(A277,'Carcass Dist'!$B$2,'Carcass Dist'!$B$3,1,'Carcass Dist'!$C$10,'Carcass Dist'!$C$11),0)","v":0},0,{"$f":"IF(B278=\"\",0,C278*A278)","v":0}]
[337,{"$f":"IFERROR(_xlfn.BETA.DIST(A279,'Carcass Dist'!$B$2,'Carcass Dist'!$B$3,1,'Carcass Dist'!$C$10,'Carcass Dist'!$C$11)-_xlfn.BETA.DIST(A278,'Carcass Dist'!$B$2,'Carcass Dist'!$B$3,1,'Carcass Dist'!$C$10,'Carcass Dist'!$C$11),0)","v":0},0,0]
[338,{"$f":"IFERROR(_xlfn.BETA.DIST(A280,'Carcass Dist'!$B$2,'Carcass Dist'!$B$3,1,'Carcass Dist'!$C$10,'Carcass Dist'!$C$11)-_xlfn.BETA.DIST(A279,'Carcass Dist'!$B$2,'Carcass Dist'!$B$3,1,'Carcass Dist'!$C$10,'Carcass Dist'!$C$11),0)","v":0},0,0]
[339,{"$f":"IFERROR(_xlfn.BETA.DIST(A281,'Carcass Dist'!$B$2,'Carcass Dist'!$B$3,1,'Carcass Dist'!$C$10,'Carcass Dist'!$C$11)-_xlfn.BETA.DIST(A280,'Carcass Dist'!$B$2,'Carcass Dist'!$B$3,1,'Carcass Dist'!$C$10,'Carcass Dist'!$C$11),0)","v":0},0,0]
[340,{"$f":"IFERROR(_xlfn.BETA.DIST(A282,'Carcass Dist'!$B$2,'Carcass Dist'!$B$3,1,'Carcass Dist'!$C$10,'Carcass Dist'!$C$11)-_xlfn.BETA.DIST(A281,'Carcass Dist'!$B$2,'Carcass Dist'!$B$3,1,'Carcass Dist'!$C$10,'Carcass Dist'!$C$11),0)","v":0},0,0]
[]
[]
[]
[null,{"$f":"SUM(B2:B285)","v":1},{"$f":"SUM(C2:C285)","v":180.00000000000006},{"$f":"SUM(D2:D285)","v":13708.260214753584}]

{"sheet":"P2 Grader","index":5,"n_rows":106,"n_cols":21,"rows_kept":106,"cut":false,"hidden":true,"merged":[]}
["P2 (mm)","% pigs","Number of pigs","Dead Weight (kg)",{"$nulls":4},{"$f":"Calculator!T28","v":0},{"$f":"Calculator!U28","v":"(mm)"},null,null,"Total (%)",null,"Adjustment (p/kg)",null,"Adjusted value (p/kg)","Dead Wt (kg)","Value(£)"]
[{"$f":"'P2 Dist'!B14","v":5},{"$f":"'P2 Dist'!C14","v":0},{"$f":"(B2*$F$2)","v":0},{"$f":"B2*$R$18","v":0},"Batch Size",{"$f":"Calculator!T11","v":180}]
[{"$f":"'P2 Dist'!B15","v":5.07},{"$f":"'P2 Dist'!C15","v":3.9046650624550874E-10},7.028397112419157E-8,{"$f":"B3*$R$18","v":5.3526164727591387E-6},"Grade Price (p/kg)",{"$f":"Calculator!O24","v":160},null,null,{"$f":"MIN('P2 Dist'!$C$10,J3)","v":5},{"$f":"Calculator!U30","v":8},{"$f":"IFERROR(_xlfn.BETA.DIST(J3,'P2 Dist'!$B$2,'P2 Dist'!$B$3,1,'P2 Dist'!$C$10,'P2 Dist'!$C$11)-_xlfn.BETA.DIST(I3,'P2 Dist'!$B$2,'P2 Dist'!$B$3,1,'P2 Dist'!$C$10,'P2 Dist'!$C$11),0)","v":4.1619814552289865E-2},null,{"$f":"K3","v":4.1619814552289865E-2},null,{"$f":"Calculator!V30","v":2},null,{"$f":"$F$3+O3","v":162},{"$f":"$F$4*M3","v":570.53524797257739},{"$f":"R3*Q3/100","v":924.26710171557545},null,{"$f":"R3*$F$3/100","v":912.8563967561239}]
[{"$f":"'P2 Dist'!B16","v":5.14},{"$f":"'P2 Dist'!C16","v":1.2058023476310403E-8},2.1704442257358724E-6,1.652945234888706E-4,"Total Dead Wt (kg)",{"$f":"'Carcass Grader'!G4","v":13708.260214753584},null,null,{"$f":"J3","v":8},{"$f":"Calculator!U32","v":9},{"$f":"IFERROR(_xlfn.BETA.DIST(J4,'P2 Dist'!$B$2,'P2 Dist'!$B$3,1,'P2 Dist'!$C$10,'P2 Dist'!$C$11)-_xlfn.BETA.DIST(I4,'P2 Dist'!$B$2,'P2 Dist'!$B$3,1,'P2 Dist'!$C$10,'P2 Dist'!$C$11),0)","v":0.10929480347160375},null,{"$f":"K4","v":0.10929480347160375},null,{"$f":"Calculator!V32","v":2},null,{"$f":"$F$3+O4","v":162},{"$f":"$F$4*M4","v":1498.2416061090976},{"$f":"R4*Q4/100","v":2427.1514018967382},null,{"$f":"R4*$F$3/100","v":2397.1865697745561}]
[{"$f":"'P2 Dist'!B17","v":5.21},{"$f":"'P2 Dist'!C17","v":8.1629998950767222E-8},1.4693399811138099E-5,1.1190052669471792E-3,"Total Value (£)",{"$f":"S18","v":22207.381547900804},null,null,{"$f":"J4","v":9},{"$f":"Calculator!U34","v":10},{"$f":"IFERROR(_xlfn.BETA.DIST(J5,'P2 Dist'!$B$2,'P2 Dist'!$B$3,1,'P2 Dist'!$C$10,'P2 Dist'!$C$11)-_xlfn.BETA.DIST(I5,'P2 Dist'!$B$2,'P2 Dist'!$B$3,1,'P2 Dist'!$C$10,'P2 Dist'!$C$11),0)","v":0.22941364650883284},null,0.22941364650883284,null,{"$f":"Calculator!V34","v":2},null,162,3144.8619631585757,5094.6763803168924,null,5031.7791410537211]
[{"$f":"'P2 Dist'!B18","v":5.28},{"$f":"'P2 Dist'!C18","v":3.0028507040145673E-7},5.4051312672262208E-5,4.1163858836687685E-3,{"$nulls":4},10,{"$f":"Calculator!U36","v":11},{"$f":"IFERROR(_xlfn.BETA.DIST(J6,'P2 Dist'!$B$2,'P2 Dist'!$B$3,1,'P2 Dist'!$C$10,'P2 Dist'!$C$11)-_xlfn.BETA.DIST(I6,'P2 Dist'!$B$2,'P2 Dist'!$B$3,1,'P2 Dist'!$C$10,'P2 Dist'!$C$11),0)","v":0.34593824025629666},null,0.34593824025629666,null,{"$f":"Calculator!V36","v":2},null,162,4742.2114156672578,7682.3824933809574,null,7587.5382650676129]
[{"$f":"'P2 Dist'!B19","v":5.35},{"$f":"'P2 Dist'!C19","v":8.0247753424466501E-7},1.444459561640397E-4,1.1000570855919697E-2,"Slaughter Weight (kg)",{"$f":"Calculator!E42","v":100},null,null,11,{"$f":"Calculator!U38","v":12},{"$f":"IFERROR(_xlfn.BETA.DIST(J7,'P2 Dist'!$B$2,'P2 Dist'!$B$3,1,'P2 Dist'!$C$10,'P2 Dist'!$C$11)-_xlfn.BETA.DIST(I7,'P2 Dist'!$B$2,'P2 Dist'!$B$3,1,'P2 Dist'!$C$10,'P2 Dist'!$C$11),0)","v":0.2737334952109769},null,0.2737334952109769,null,{"$f":"Calculator!V38","v":2},null,162,3752.409981846075,6078.9041705906411,null,6003.8559709537203]
[{"$f":"'P2 Dist'!B20","v":5.42},{"$f":"'P2 Dist'!C20","v":1.7642060289538015E-6},3.1755708521168428E-4,2.4184195317335806E-2,"Killing Out (%)",{"$f":"Calculator!O11","v":75.657142857142858},null,null,12,{"$f":"Calculator!U40","v":13},{"$f":"IFERROR(_xlfn.BETA.DIST(J8,'P2 Dist'!$B$2,'P2 Dist'!$B$3,1,'P2 Dist'!$C$10,'P2 Dist'!$C$11)-_xlfn.BETA.DIST(I8,'P2 Dist'!$B$2,'P2 Dist'!$B$3,1,'P2 Dist'!$C$10,'P2 Dist'!$C$11),0)","v":0},null,0,null,{"$f":"Calculator!V40","v":-10},null,150,0,0,null,0]
[{"$f":"'P2 Dist'!B21","v":5.49},{"$f":"'P2 Dist'!C21","v":3.4012483758066142E-6},6.1222470764519057E-4,4.6625197790565051E-2,"Ave. Carcass Weight (kg)",{"$f":"'Carcass Plot'!D7","v":75.657142857142858},null,null,13,{"$f":"Calculator!U42","v":14},{"$f":"IFERROR(_xlfn.BETA.DIST(J9,'P2 Dist'!$B$2,'P2 Dist'!$B$3,1,'P2 Dist'!$C$10,'P2 Dist'!$C$11)-_xlfn.BETA.DIST(I9,'P2 Dist'!$B$2,'P2 Dist'!$B$3,1,'P2 Dist'!$C$10,'P2 Dist'!$C$11),0)","v":0},null,0,null,{"$f":"Calculator!V42","v":-15},null,145,0,0,null,0]
[{"$f":"'P2 Dist'!B22","v":5.5600000000000005},{"$f":"'P2 Dist'!C22","v":5.9673696716636779E-6},1.0741265408994621E-3,8.1802256256794353E-2,"P2 (mm)",{"$f":"Calculator!O18","v":10.199999999999999},null,null,14,{"$f":"Calculator!U44","v":15},{"$f":"IFERROR(_xlfn.BETA.DIST(J10,'P2 Dist'!$B$2,'P2 Dist'!$B$3,1,'P2 Dist'!$C$10,'P2 Dist'!$C$11)-_xlfn.BETA.DIST(I10,'P2 Dist'!$B$2,'P2 Dist'!$B$3,1,'P2 Dist'!$C$10,'P2 Dist'!$C$11),0)","v":0},null,0,null,{"$f":"Calculator!V44","v":-15},null,145,0,0,null,0]
[{"$f":"'P2 Dist'!B23","v":5.63},{"$f":"'P2 Dist'!C23","v":9.7525065972682675E-6},1.7554511875082881E-3,0.13368989818145444,{"$nulls":4},15,{"$f":"Calculator!U46","v":16},{"$f":"IFERROR(_xlfn.BETA.DIST(J11,'P2 Dist'!$B$2,'P2 Dist'!$B$3,1,'P2 Dist'!$C$10,'P2 Dist'!$C$11)-_xlfn.BETA.DIST(I11,'P2 Dist'!$B$2,'P2 Dist'!$B$3,1,'P2 Dist'!$C$10,'P2 Dist'!$C$11),0)","v":0},null,0,null,{"$f":"Calculator!V46","v":-40},null,120,0,0,null,0]
[{"$f":"'P2 Dist'!B24","v":5.7},{"$f":"'P2 Dist'!C24","v":1.5080929321079944E-5},2.7145672777943897E-3,0.20673330341367097,"Check total value against total dead wt and grade price",{"$f":"F4*(F3/100)","v":21933.216343605734},null,null,16,{"$f":"Calculator!U48","v":17},{"$f":"IFERROR(_xlfn.BETA.DIST(J12,'P2 Dist'!$B$2,'P2 Dist'!$B$3,1,'P2 Dist'!$C$10,'P2 Dist'!$C$11)-_xlfn.BETA.DIST(I12,'P2 Dist'!$B$2,'P2 Dist'!$B$3,1,'P2 Dist'!$C$10,'P2 Dist'!$C$11),0)","v":0},null,0,null,{"$f":"Calculator!V48","v":-40},null,120,0,0,null,0]
[{"$f":"'P2 Dist'!B25","v":5.77},{"$f":"'P2 Dist'!C25","v":2.2309381612541276E-5},4.0156886902574301E-3,0.30582280837495474,"Difference (£)",{"$f":"F5-F12","v":274.16520429507},null,null,17,{"$f":"Calculator!U50","v":18},{"$f":"IFERROR(_xlfn.BETA.DIST(J13,'P2 Dist'!$B$2,'P2 Dist'!$B$3,1,'P2 Dist'!$C$10,'P2 Dist'!$C$11)-_xlfn.BETA.DIST(I13,'P2 Dist'!$B$2,'P2 Dist'!$B$3,1,'P2 Dist'!$C$10,'P2 Dist'!$C$11),0)","v":0},null,0,null,{"$f":"Calculator!V50","v":-40},null,120,0,0,null,0]
[{"$f":"'P2 Dist'!B26","v":5.84},{"$f":"'P2 Dist'!C26","v":3.1825199348811643E-5},5.7285358827860958E-3,0.43626811405991628,{"$nulls":4},18,{"$f":"Calculator!U52","v":19},{"$f":"IFERROR(_xlfn.BETA.DIST(J14,'P2 Dist'!$B$2,'P2 Dist'!$B$3,1,'P2 Dist'!$C$10,'P2 Dist'!$C$11)-_xlfn.BETA.DIST(I14,'P2 Dist'!$B$2,'P2 Dist'!$B$3,1,'P2 Dist'!$C$10,'P2 Dist'!$C$11),0)","v":0},null,0,null,{"$f":"Calculator!V52","v":-50},null,110,0,0,null,0]
[{"$f":"'P2 Dist'!B27","v":5.91},{"$f":"'P2 Dist'!C27","v":4.404440732978679E-5},7.9279933193616217E-3,0.60377219668131732,{"$nulls":4},19,{"$f":"Calculator!U54","v":20},{"$f":"IFERROR(_xlfn.BETA.DIST(J15,'P2 Dist'!$B$2,'P2 Dist'!$B$3,1,'P2 Dist'!$C$10,'P2 Dist'!$C$11)-_xlfn.BETA.DIST(I15,'P2 Dist'!$B$2,'P2 Dist'!$B$3,1,'P2 Dist'!$C$10,'P2 Dist'!$C$11),0)","v":0},null,0,null,{"$f":"Calculator!V54","v":-50},null,110,0,0,null,0]
[{"$f":"'P2 Dist'!B28","v":5.9799999999999995},{"$f":"'P2 Dist'!C28","v":5.940979413166341E-5},1.0693762943699415E-2,0.81440491726178244,"Max Q (mm)",{"$f":"Calculator!O72","v":12},null,null,20,{"$f":"MAX('P2 Dist'!$C$11,I16)","v":20},{"$f":"IFERROR(_xlfn.BETA.DIST(J16,'P2 Dist'!$B$2,'P2 Dist'!$B$3,1,'P2 Dist'!$C$10,'P2 Dist'!$C$11)-_xlfn.BETA.DIST(I16,'P2 Dist'!$B$2,'P2 Dist'!$B$3,1,'P2 Dist'!$C$10,'P2 Dist'!$C$11),0)","v":0},null,0,null,{"$f":"Calculator!V56","v":-50},null,110,0,0,null,0]
[{"$f":"'P2 Dist'!B29","v":6.05},{"$f":"'P2 Dist'!C29","v":7.8388964592438621E-5},1.4110013626638952E-2,1.0745763245982538,"Percentage of pigs above Max Q backfat",{"$f":"SUMIF(A:A,\">\"&F16,B:B)","v":0}]
[{"$f":"'P2 Dist'!B30","v":6.12},{"$f":"'P2 Dist'!C30","v":1.0147236941388264E-4},1.8265026494498876E-2,1.3910096445331059,"Percentage of pigs below Max Q backfat",{"$f":"1-F17","v":1},{"$nulls":4},{"$f":"IF(ABS(SUM(K3:K16)-1)<0.001,\"OK\",\"error; probabilities don’t sum to 100\")","v":"OK"},null,{"$f":"SUM(M3:M16)","v":1},{"$nulls":4},{"$f":"SUM(R3:R17)","v":13708.260214753584},{"$f":"SUM(S3:S17)","v":22207.381547900804},null,{"$f":"SUM(U3:U17)","v":21933.216343605734}]
[{"$f":"'P2 Dist'!B31","v":6.19},{"$f":"'P2 Dist'!C31","v":1.2917131127254428E-4},2.3250836029057972E-2,1.7707139472049698,{"$nulls":13},{"$f":"IF(ABS(R18-'Carcass Grader'!M22)<1,\"OK\",\"Error\")","v":"OK"}]
[{"$f":"'P2 Dist'!B32","v":6.26},{"$f":"'P2 Dist'!C32","v":1.6201592675033722E-4},2.9162866815060702E-2,2.2209564828280786,"Total Dead Weight above Max Q backfat (kg)",{"$f":"SUMIF(A:A,\">\"&F16,D:D)","v":0},{"$nulls":14},{"$f":"U18-S18","v":-274.16520429507}]
[{"$f":"'P2 Dist'!B33","v":6.33},{"$f":"'P2 Dist'!C33","v":2.0055314331902528E-4},3.609956579742455E-2,2.7492346755039678,"Total Dead Weight within Max Q backfat (kg)",{"$f":"F4-F20","v":13708.260214753584}]
[{"$f":"'P2 Dist'!B34","v":6.4},{"$f":"'P2 Dist'!C34","v":2.4534461053940526E-4},4.4162029897092947E-2,3.3632477635615419,"Check TotalDead Weight (kg)",{"$f":"F20+F21","v":13708.260214753584}]
[{"$f":"'P2 Dist'!B35","v":6.4700000000000006},{"$f":"'P2 Dist'!C35","v":2.9696460456318341E-4},5.3453628821373014E-2,4.0708680739235179]
[{"$f":"'P2 Dist'!B36","v":6.5400000000000009},{"$f":"'P2 Dist'!C36","v":3.5599790495179366E-4},6.4079622891322865E-2,4.8801119169863005]
[{"$f":"'P2 Dist'!B37","v":6.61},{"$f":"'P2 Dist'!C37","v":4.2303764275077428E-4},7.6146775695139376E-2,5.7991100874635793]
[{"$f":"'P2 Dist'!B38","v":6.6800000000000006},{"$f":"'P2 Dist'!C38","v":4.9868311867911014E-4},8.9762961362239824E-2,6.8360779555580855]
[{"$f":"'P2 Dist'!B39","v":6.75},{"$f":"'P2 Dist'!C39","v":5.8353759021005777E-4},0.1050367662378104,7.9992851316897156]
[{"$f":"'P2 Dist'!B40","v":6.82},{"$f":"'P2 Dist'!C40","v":6.7820602623199031E-4},0.12207708472175825,9.2970246868021178]
[{"$f":"'P2 Dist'!B41","v":6.8900000000000006},{"$f":"'P2 Dist'!C41","v":7.8329282788367881E-4},0.14099270901906219,10.73758190897966]
[{"$f":"'P2 Dist'!B42","v":6.9600000000000009},{"$f":"'P2 Dist'!C42","v":8.993995140582408E-4},0.16189191253048335,12.329202575733289]
[{"$f":"'P2 Dist'!B43","v":7.0300000000000011},{"$f":"'P2 Dist'!C43","v":1.0271223699615268E-3},0.18488202659307482,14.080060719827008]
[{"$f":"'P2 Dist'!B44","v":7.1000000000000005},{"$f":"'P2 Dist'!C44","v":1.1670500569943747E-3},0.21006901025898744,15.998225864921888]
[{"$f":"'P2 Dist'!B45","v":7.1700000000000008},{"$f":"'P2 Dist'!C45","v":1.3197611821013939E-3},0.23755701277825089,18.091629705576697]
[{"$f":"'P2 Dist'!B46","v":7.24},{"$f":"'P2 Dist'!C46","v":1.4858218245925887E-3},{"$f":"(B34*$F$2)","v":0.26744792842666598},20.36803220427516]
[{"$f":"'P2 Dist'!B47","v":7.3100000000000005},{"$f":"'P2 Dist'!C47","v":1.6657830182942018E-3},0.2998409432929563,22.834987076094546]
[{"$f":"'P2 Dist'!B48","v":7.3800000000000008},{"$f":"'P2 Dist'!C48","v":1.8601781867240864E-3},0.33483207361033557,25.499806629422256]
[{"$f":"'P2 Dist'!B49","v":7.4500000000000011},{"$f":"'P2 Dist'!C49","v":2.0695205288079298E-3},0.37251369518542737,28.369525928673543]
[{"$f":"'P2 Dist'!B50","v":7.5200000000000014},{"$f":"'P2 Dist'!C50","v":2.2943003524597619E-3},0.41297406344275711,31.450866242319279]
[{"$f":"'P2 Dist'!B51","v":7.5900000000000016},{"$f":"'P2 Dist'!C51","v":2.5349823531375659E-3},0.45629682356476187,34.750197736618112]
[{"$f":"'P2 Dist'!B52","v":7.660000000000001},{"$f":"'P2 Dist'!C52","v":2.7920028342492652E-3},0.50256051016486769,38.273501372218448]
[{"$f":"'P2 Dist'!B53","v":7.7300000000000013},{"$f":"'P2 Dist'!C53","v":3.0657668660301549E-3},0.5518380358854279,42.026329957310949]
[{"$f":"'P2 Dist'!B54","v":7.8000000000000007},{"$f":"'P2 Dist'!C54","v":3.3566453792262391E-3},0.60419616826072309,46.01376830708351]
[{"$f":"'P2 Dist'!B55","v":7.870000000000001},{"$f":"'P2 Dist'!C55","v":3.6649721896063261E-3},0.65969499412913868,50.24039245495873]
[{"$f":"'P2 Dist'!B56","v":7.9400000000000013},{"$f":"'P2 Dist'!C56","v":3.9910409489795559E-3},0.71838737081632009,54.71022785634883]
[{"$f":"'P2 Dist'!B57","v":8.0100000000000016},{"$f":"'P2 Dist'!C57","v":4.3351020180082273E-3},0.78031836324148096,59.426706520360156]
[{"$f":"'P2 Dist'!B58","v":8.0800000000000018},{"$f":"'P2 Dist'!C58","v":4.6973592556808774E-3},0.84552466602255794,64.39262299905468]
[{"$f":"'P2 Dist'!B59","v":8.1500000000000021},{"$f":"'P2 Dist'!C59","v":5.0779667198334252E-3},0.91403400957001657,69.610089157335295]
[{"$f":"'P2 Dist'!B60","v":8.2200000000000024},{"$f":"'P2 Dist'!C60","v":5.4770252725753962E-3},0.98586454906357135,75.080487639245206]
[{"$f":"'P2 Dist'!B61","v":8.2900000000000027},{"$f":"'P2 Dist'!C61","v":5.8945790838840217E-3},1.0610242350991239,80.804423938325968]
[{"$f":"'P2 Dist'!B62","v":8.3600000000000012},{"$f":"'P2 Dist'!C62","v":6.3306120259642301E-3},1.1395101646735615,86.781676970566039]
[{"$f":"'P2 Dist'!B63","v":8.4300000000000015},{"$f":"'P2 Dist'!C63","v":6.7850439502235571E-3},1.2213079110402403,93.011148038204084]
[{"$f":"'P2 Dist'!B64","v":8.5000000000000018},{"$f":"'P2 Dist'!C64","v":7.2577268378685167E-3},1.306390830816333,99.490808061102314]
[{"$f":"'P2 Dist'!B65","v":8.5700000000000021},{"$f":"'P2 Dist'!C65","v":7.7484408141781091E-3},1.3947193465520598,106.21764293937063]
[{"$f":"'P2 Dist'!B66","v":8.64},{"$f":"'P2 Dist'!C66","v":8.2568900154336849E-3},1.4862402027780632,113.18759689616569]
[{"$f":"'P2 Dist'!B67","v":8.7100000000000009},{"$f":"'P2 Dist'!C67","v":8.7826982962599665E-3},1.5808856933267941,120.39551363280458]
[{"$f":"'P2 Dist'!B68","v":8.7800000000000011},{"$f":"'P2 Dist'!C68","v":9.3254047637434667E-3},1.6785728574738239,127.8350751092981]
[{"$f":"'P2 Dist'!B69","v":8.8500000000000014},{"$f":"'P2 Dist'!C69","v":9.8844591231026929E-3},1.7792026421584848,135.49873774158675]
[{"$f":"'P2 Dist'!B70","v":8.9200000000000017},{"$f":"'P2 Dist'!C70","v":1.0459216817868766E-2},1.8826590272163779,143.377665781872]
[{"$f":"'P2 Dist'!B71","v":8.990000000000002},{"$f":"'P2 Dist'!C71","v":1.1048933945441985E-2},1.9888081101795574,151.4616616197427]
[{"$f":"'P2 Dist'!B72","v":9.0600000000000023},{"$f":"'P2 Dist'!C72","v":1.1652761926486621E-2},2.0974971467675916,159.73909270885187]
[{"$f":"'P2 Dist'!B73","v":9.1300000000000026},{"$f":"'P2 Dist'!C73","v":1.2269741903834841E-2},2.2085535426902716,168.19681478563405]
[{"$f":"'P2 Dist'!B74","v":9.2000000000000028},{"$f":"'P2 Dist'!C74","v":1.2898798843346354E-2},2.3217837918023436,176.82009100235436]
[{"$f":"'P2 Dist'!B75","v":9.2700000000000031},{"$f":"'P2 Dist'!C75","v":1.3538735305397925E-2},2.4369723549716267,185.5925065450661]
[{"$f":"'P2 Dist'!B76","v":9.3400000000000034},{"$f":"'P2 Dist'!C76","v":1.4188224851281656E-2},2.5538804732306981,194.49587824680239]
[{"$f":"'P2 Dist'!B77","v":9.4100000000000019},{"$f":"'P2 Dist'!C77","v":1.4845805043611771E-2},2.6722449078501187,203.51015863533132]
[{"$f":"'P2 Dist'!B78","v":9.4800000000000022},{"$f":"'P2 Dist'!C78","v":1.5509869993750341E-2},{"$f":"(B66*$F$2)","v":2.7917765988750616},212.61333377132823]
[{"$f":"'P2 Dist'!B79","v":9.5500000000000025},{"$f":"'P2 Dist'!C79","v":1.6178662402032917E-2},2.9121592323659251,{"$f":"B67*$R$18","v":221.78131413371747}]
[{"$f":"'P2 Dist'!B80","v":9.6200000000000028},{"$f":"'P2 Dist'!C80","v":1.6850265027976874E-2},3.0330477050358375,230.98781769106907]
[{"$f":"'P2 Dist'!B81","v":9.6900000000000031},{"$f":"'P2 Dist'!C81","v":1.7522591517369568E-2},3.1540664731265222,240.20424415693589]
[{"$f":"'P2 Dist'!B82","v":9.7600000000000016},{"$f":"'P2 Dist'!C82","v":1.8193376500760416E-2},3.2748077701368752,249.39953925740679]
[{"$f":"'P2 Dist'!B83","v":9.8300000000000018},{"$f":"'P2 Dist'!C83","v":1.8860164862918305E-2},3.3948296753252949,258.54004763403645]
[{"$f":"'P2 Dist'!B84","v":9.9000000000000021},{"$f":"'P2 Dist'!C84","v":1.9520300064616636E-2},3.5136540116309947,267.58935275583605]
[{"$f":"'P2 Dist'!B85","v":9.9700000000000024},{"$f":"'P2 Dist'!C85","v":2.0170911375821887E-2},3.6307640476479399,276.50810190849967]
[{"$f":"'P2 Dist'!B86","v":10.040000000000003},{"$f":"'P2 Dist'!C86","v":2.0808899851912976E-2},3.7456019733443355,285.25381395277037]
[{"$f":"'P2 Dist'!B87","v":10.110000000000003},{"$f":"'P2 Dist'!C87","v":2.1430922850479484E-2},3.8575661130863068,293.78066707668137]
[{"$f":"'P2 Dist'!B88","v":10.180000000000003},{"$f":"'P2 Dist'!C88","v":2.2033376843645258E-2},3.9660078318561465,302.0392631824152]
[{"$f":"'P2 Dist'!B89","v":10.250000000000004},{"$f":"'P2 Dist'!C89","v":2.2612378227173213E-2},4.0702280808911784,309.97636481251874]
[{"$f":"'P2 Dist'!B90","v":10.320000000000004},{"$f":"'P2 Dist'!C90","v":2.3163741759342771E-2},4.1694735166816983,317.53459958442465]
[{"$f":"'P2 Dist'!B91","v":10.390000000000004},{"$f":"'P2 Dist'!C91","v":2.3682956175005487E-2},4.2629321115009873,324.6521259015804]
[{"$f":"'P2 Dist'!B92","v":10.460000000000004},{"$f":"'P2 Dist'!C92","v":2.4165156406763755E-2},4.3497281532174759,331.26225215413723]
[{"$f":"'P2 Dist'!B93","v":10.530000000000003},{"$f":"'P2 Dist'!C93","v":2.4605091696570436E-2},4.4289165053826789,337.29299958446023]
[{"$f":"'P2 Dist'!B94","v":10.600000000000003},{"$f":"'P2 Dist'!C94","v":2.4997088684152291E-2},4.4994759631474128,342.66659629363187]
[{"$f":"'P2 Dist'!B95","v":10.670000000000003},{"$f":"'P2 Dist'!C95","v":2.5335008294475658E-2},4.5603014930056185,347.29888624361269]
[{"$f":"'P2 Dist'!B96","v":10.740000000000004},{"$f":"'P2 Dist'!C96","v":2.5612194887177586E-2},4.610195079691966,351.09863218441166]
[{"$f":"'P2 Dist'!B97","v":10.810000000000004},{"$f":"'P2 Dist'!C97","v":2.5821415634829425E-2},4.6478548142692961,353.96668463554835]
[{"$f":"'P2 Dist'!B98","v":10.880000000000003},{"$f":"'P2 Dist'!C98","v":2.5954787400738977E-2},4.6718617321330154,355.79497950793768]
[{"$f":"'P2 Dist'!B99","v":10.950000000000003},{"$f":"'P2 Dist'!C99","v":2.6003687392038732E-2},4.6806637305669714,356.46531331317391]
[{"$f":"'P2 Dist'!B100","v":11.020000000000003},{"$f":"'P2 Dist'!C100","v":2.595864241292789E-2},4.6725556343270203,355.84782501815437]
[{"$f":"'P2 Dist'!B101","v":11.090000000000003},{"$f":"'P2 Dist'!C101","v":2.5809189378946606E-2},4.6456540882103887,353.79908393845454]
[{"$f":"'P2 Dist'!B102","v":11.160000000000004},{"$f":"'P2 Dist'!C102","v":2.5543696442812736E-2},4.597865359706292,350.15963768475245]
[{"$f":"'P2 Dist'!B103","v":11.230000000000004},{"$f":"'P2 Dist'!C103","v":2.5149128870638693E-2},4.5268431967149647,344.75080273308714]
[{"$f":"'P2 Dist'!B104","v":11.300000000000004},{"$f":"'P2 Dist'!C104","v":2.4610735327885269E-2},4.4299323590193485,337.37036395108015]
[{"$f":"'P2 Dist'!B105","v":11.370000000000005},{"$f":"'P2 Dist'!C105","v":2.3911615903177696E-2},4.3040908625719858,327.7866529559999]
[{"$f":"'P2 Dist'!B106","v":11.440000000000005},{"$f":"'P2 Dist'!C106","v":2.3032107872580476E-2},4.1457794170644853,315.73012801160775]
[{"$f":"'P2 Dist'!B107","v":11.510000000000005},{"$f":"'P2 Dist'!C107","v":2.194887801505585E-2},3.9507980427100531,300.8809312522697]
[{"$f":"'P2 Dist'!B108","v":11.580000000000005},{"$f":"'P2 Dist'!C108","v":2.063351651141665E-2},3.7140329720549969,282.84961348391403]
[{"$f":"'P2 Dist'!B109","v":11.650000000000004},{"$f":"'P2 Dist'!C109","v":1.905022560829428E-2},3.4290406094929704,261.14544978826035]
[{"$f":"'P2 Dist'!B110","v":11.720000000000004},{"$f":"'P2 Dist'!C110","v":1.7151714870891066E-2},{"$f":"(B98*$F$2)","v":3.0873086767603919},235.12017057943339]
[{"$f":"'P2 Dist'!B111","v":11.790000000000004},{"$f":"'P2 Dist'!C111","v":1.4871097540217759E-2},2.6767975572391967,203.85687476028698]
[{"$f":"'P2 Dist'!B112","v":11.860000000000005},{"$f":"'P2 Dist'!C112","v":1.2103185542236661E-2},2.1785733976025989,165.9136168404236]
[{"$f":"'P2 Dist'!B113","v":11.930000000000005},{"$f":"'P2 Dist'!C113","v":8.6482150547626535E-3},1.5566787098572776,118.55198236383586]
[{"$f":"'P2 Dist'!B114","v":12.000000000000004},{"$f":"'P2 Dist'!C114","v":3.8639104546840386E-3},0.69550388184312695,52.967489959315635]
[]
[]
[null,{"$f":"SUM(B2:B104)","v":1},{"$f":"SUM(C2:C104)","v":180.00000000000003},{"$f":"SUM(D2:D102)","v":13708.260214753587}]
[{"$nulls":5},{"$f":"SUM(B50:B102)","v":0.93659220212012539}]

{"sheet":"Q Grader","index":6,"n_rows":25,"n_cols":14,"rows_kept":25,"cut":false,"hidden":true,"merged":[[2,1,2,3],[13,1,13,3],[5,9,8,13]]}
[]
[]
[null,{"$f":"Calculator!S64","v":"Pigs in Q Grade (%)"}]
[null,null,null,"(p/kg)"]
[null,"more than",{"$f":"Calculator!U66","v":85},{"$f":"Calculator!V66","v":4},null,null,{"$f":"IF(G14>C5,D5,0)","v":4}]
[null,{"$f":"Calculator!T68","v":80},{"$f":"Calculator!U68","v":85},{"$f":"Calculator!V68","v":3},null,null,{"$f":"IF($G$14<B6,0,IF($G$14<C6,D6,(0)))","v":0},null,null,"Total Dead Weight Within or Outside Q Premium for either Backfat OR Carcass Weight Q Specification"]
[null,{"$f":"Calculator!T70","v":75},{"$f":"Calculator!U70","v":80},{"$f":"Calculator!V70","v":2},null,null,{"$f":"IF($G$14<B7,0,IF($G$14<C7,D7,(0)))","v":0}]
[null,{"$f":"Calculator!T72","v":70},{"$f":"Calculator!U72","v":75},{"$f":"Calculator!V72","v":0},null,null,0]
[null,{"$f":"Calculator!T74","v":65},{"$f":"Calculator!U74","v":70},{"$f":"Calculator!V74","v":-3},null,null,0]
[null,{"$f":"Calculator!T76","v":60},{"$f":"Calculator!U76","v":65},{"$f":"Calculator!V76","v":-9},null,null,0,{"$nulls":4},"Within","Outside","Total"]
[null,{"$f":"Calculator!T78","v":"up to"},{"$f":"Calculator!U78","v":60},{"$f":"Calculator!V78","v":-11},null,null,{"$f":"IF($G$14<C11,D11,0)","v":0},null,null,"Backfat",null,{"$f":"'P2 Grader'!F21","v":13708.260214753584},{"$f":"'P2 Grader'!F20","v":0},{"$f":"L11+M11","v":13708.260214753584}]
[{"$nulls":6},{"$f":"SUM(G5:G11)","v":4},null,null,"Carcass Weight",null,{"$f":"'Carcass Grader'!G30","v":13708.260214753584},{"$f":"'Carcass Grader'!G31","v":0},{"$f":"L12+M12","v":13708.260214753584}]
[]
[null,"% pig achieving Q Grade",{"$nulls":4},{"$f":"(IF('P2 Grader'!F18<'Carcass Grader'!G21,'P2 Grader'!F18,'Carcass Grader'!G21))*100","v":100},null,null,"Lowest",null,{"$f":"IF(L12<L11,L12,L11)","v":13708.260214753584},{"$f":"N14-L14","v":0},{"$f":"'Carcass Grader'!G4","v":13708.260214753584}]
[]
[null,"Total Dead Weight Within Specification for Q Premium",{"$nulls":4},{"$f":"IF(G18>0,L14,N14)","v":13708.260214753584}]
[]
[null,"Premium Paid or Penalty Imposed (p/kg)",{"$nulls":4},{"$f":"G12","v":4}]
[null,"Total premium or penalty (£)",{"$nulls":4},{"$f":"G16*G18/100","v":548.33040859014329}]
[]
[null,"Total Grade Price (£)",{"$nulls":4},{"$f":"IF('P2 Grader'!F5<'Carcass Grader'!G5,'P2 Grader'!F5,'Carcass Grader'!G5)","v":21933.216343605734}]
[null,"Total Batch Value (£)",{"$nulls":4},{"$f":"G19+G21","v":22481.546752195878}]
[null,"Total Batch Weight (kg)",{"$nulls":4},{"$f":"'Carcass Grader'!M22","v":13708.260214753585}]
[]
[null,"Value (p/kg)",{"$nulls":4},{"$f":"(G22/G23)*100","v":164}]

{"sheet":"Carcass Dist","index":7,"n_rows":114,"n_cols":5,"rows_kept":114,"cut":false,"hidden":true,"merged":[]}
[null,"Orig beta","Shifted beta",null,"How to use:"]
["Alpha",{"$f":"(((1-B4)/B7)-1/B4)*B4^2","v":2.2672443148688055},null,null,"Adjust the values in the green boxes to change the distribution"]
["Beta",{"$f":"B2*((1/B4)-1)","v":5.7482658892128287},null,null,"If alpha is bigger than beta there will be a tail to the left"]
["Mean",{"$f":"(C4-C10)/(C11-C10)","v":0.28285714285714292},{"$f":"'Carcass Plot'!D7","v":75.657142857142858}]
["Median",null,{"$f":"INDEX(B14:B114,MATCH(0.5,D14:D113,1))","v":75.2}]
["Mode",null,{"$f":"INDEX(B14:B114,MATCH(MAX(C14:C114),C14:C114,0))","v":74.400000000000006}]
["Variance",{"$f":"C7/(C11-C10)^2","v":2.2499999999999999E-2},{"$f":"C8^2","v":9}]
["St Dev",{"$f":"SQRT(B7)","v":0.15},{"$f":"'Carcass Plot'!D9","v":3}]
[]
["LB",0,{"$f":"'Carcass Plot'!D11","v":70}]
["UB",1,{"$f":"'Carcass Plot'!D13","v":90}]
[]
["zero to 1","pig equivalent","beta interval prob","beta cum"]
[0,{"$f":"A14*($C$11-$C$10)+$C$10","v":70},{"$f":"_xlfn.BETA.DIST(A14,$B$2,$B$3,1)","v":0},{"$f":"_xlfn.BETA.DIST(A14,$B$2,$B$3,1)","v":0}]
[{"$f":"A14+0.01","v":0.01},{"$f":"A15*($C$11-$C$10)+$C$10","v":70.2},{"$f":"_xlfn.BETA.DIST(A15,$B$2,$B$3,1)-_xlfn.BETA.DIST(A14,$B$2,$B$3,1)","v":7.2101115646584064E-4},{"$f":"_xlfn.BETA.DIST(A15,$B$2,$B$3,1)","v":7.2101115646584064E-4}]
[{"$f":"A15+0.01","v":0.02},70.400000000000006,2.6367505731750892E-3,3.3577617296409296E-3]
[0.03,70.599999999999994,4.7861141655845922E-3,8.1438758952255223E-3]
[0.04,70.8,6.9770250650422194E-3,1.5120900960267742E-2]
[0.05,71,9.1294085246297878E-3,2.425030948489753E-2]
[6.0000000000000005E-2,71.2,1.1198618765545912E-2,3.5448928250443441E-2]
[7.0000000000000007E-2,71.400000000000006,1.3157390798081245E-2,4.8606319048524686E-2]
[0.08,71.599999999999994,1.4988618746512437E-2,6.3594937795037124E-2]
[0.09,71.8,1.6681756892263089E-2,8.0276694687300212E-2]
[9.9999999999999992E-2,72,1.8230772932169154E-2,9.8507467619469366E-2]
[0.10999999999999999,72.2,1.9632874596811803E-2,0.11814034221628117]
[0.11999999999999998,72.400000000000006,2.0887663911798027E-2,0.1390280061280792]
[0.12999999999999998,72.599999999999994,2.1996546910594467E-2,0.16102455303867366]
[0.13999999999999999,72.8,2.2962305349805867E-2,0.18398685838847953]
[0.15,73,2.3788776204750811E-2,0.20777563459323034]
[0.16,73.2,2.448060574574254E-2,0.23225624033897288]
[0.17,73.400000000000006,2.5043056946271153E-2,0.25729929728524403]
[0.18000000000000002,73.599999999999994,2.5481856107496204E-2,0.28278115339274024]
[0.19000000000000003,73.8,2.5803069019554814E-2,0.30858422241229505]
[0.20000000000000004,74,2.6012999837508599E-2,0.33459722224980365]
[0.21000000000000005,74.2,2.611810774696921E-2,0.36071532999677286]
[0.22000000000000006,74.400000000000006,2.612493778806213E-2,0.38684026778483499]
[0.23000000000000007,74.599999999999994,2.6040063109391554E-2,0.41288033089422654]
[0.24000000000000007,74.8,2.587003656732173E-2,0.43875036746154827]
[0.25000000000000006,75,2.5621350053278313E-2,0.46437171751482659]
[0.26000000000000006,75.2,2.5300400277022128E-2,0.48967211779184872]
[0.27000000000000007,75.400000000000006,2.491345999270056E-2,0.51458557778454928]
[0.28000000000000008,75.599999999999994,2.4466653851364373E-2,0.53905223163591365]
[0.29000000000000009,75.8,2.3965938215236071E-2,0.56301816985114972]
[0.3000000000000001,76,2.3417084387159171E-2,0.58643525423830889]
[0.31000000000000011,76.2,2.2825664801695345E-2,0.60926091904000423]
[0.32000000000000012,76.400000000000006,2.2197041798368344E-2,0.63145796083837258]
[0.33000000000000013,76.600000000000009,2.1536358656963572E-2,0.65299431949533615]
[0.34000000000000014,76.8,2.08485326229223E-2,0.67384285211825845]
[0.35000000000000014,77,2.013824969015332E-2,0.69398110180841177]
[0.36000000000000015,77.2,1.9409960940884319E-2,0.71339106274929609]
[0.37000000000000016,77.400000000000006,1.8667880268922632E-2,0.73205894301821872]
[0.38000000000000017,77.600000000000009,1.7915983335014762E-2,0.74997492635323348]
[0.39000000000000018,77.8,1.7158007621672744E-2,0.76713293397490623]
[0.40000000000000019,78,1.6397453470637924E-2,0.78353038744554415]
[0.4100000000000002,78.2,1.5637585999521031E-2,0.79916797344506518]
[0.42000000000000021,78.400000000000006,1.4881437805578157E-2,0.81404941125064334]
[0.43000000000000022,78.600000000000009,1.4131812374349462E-2,0.8281812236249928]
[0.44000000000000022,78.800000000000011,1.3391288119305345E-2,0.84157251174429815]
[0.45000000000000023,79,1.2662222985919569E-2,0.85423473473021772]
[0.46000000000000024,79.2,1.1946759559885334E-2,0.86618149429010305]
[0.47000000000000025,79.400000000000006,1.1246830624704995E-2,0.87742832491480804]
[0.48000000000000026,79.600000000000009,1.0564165118677415E-2,0.88799249003348546]
[0.49000000000000027,79.800000000000011,9.9002944455286457E-3,0.89789278447901411]
[0.50000000000000022,80,9.2565590966372513E-3,0.90714934357565136]
[0.51000000000000023,80.2,8.6341155460888386E-3,0.9157834591217402]
[0.52000000000000024,80.400000000000006,8.0339433826777107E-3,0.92381740250441791]
[0.53000000000000025,80.600000000000009,7.4568526455638384E-3,0.93127425514998174]
[0.54000000000000026,80.800000000000011,6.9034913325568548E-3,0.9381777464825386]
[0.55000000000000027,81,6.3743530520595781E-3,0.94455209953459818]
[0.56000000000000028,81.2,5.8697847915036849E-3,0.95042188432610186]
[0.57000000000000028,81.400000000000006,5.3899947767459544E-3,0.95581187910284782]
[0.58000000000000029,81.600000000000009,4.9350603983481234E-3,0.96074693950119594]
[0.5900000000000003,81.800000000000011,4.5049361819643474E-3,0.96525187568316029]
[0.60000000000000031,82,4.0994617812317724E-3,0.96935133746439206]
[0.61000000000000032,82.2,3.7183699726123232E-3,0.97306970743700438]
[0.62000000000000033,82.4,3.3612946325646265E-3,0.97643100206956901]
[0.63000000000000034,82.600000000000009,3.0277786782750837E-3,0.97945878074784409]
[0.64000000000000035,82.800000000000011,2.7172819539269533E-3,0.98217606270177105]
[0.65000000000000036,{"$f":"A79*($C$11-$C$10)+$C$10","v":83},{"$f":"_xlfn.BETA.DIST(A79,$B$2,$B$3,1)-_xlfn.BETA.DIST(A78,$B$2,$B$3,1)","v":2.4291890451575426E-3},{"$f":"_xlfn.BETA.DIST(A79,$B$2,$B$3,1)","v":0.98460525174692859}]
[{"$f":"A79+0.01","v":0.66000000000000036},83.2,2.1628170049473594E-3,0.98676806875187595]
[0.67000000000000037,83.4,1.917422974717975E-3,0.98868549172659392]
[0.68000000000000038,83.600000000000009,1.6922116848741009E-3,0.99037770341146802]
[0.69000000000000039,83.800000000000011,1.4863428194293871E-3,0.99186404623089741]
[0.7000000000000004,84,1.2989382296955121E-3,0.99316298446059292]
[0.71000000000000041,84.2,1.1290889823162287E-3,0.99429207344290915]
[0.72000000000000042,84.4,9.758622271494044E-4,0.99526793567005856]
[0.73000000000000043,84.600000000000009,8.3830787069494317E-4,0.9961062435407535]
[0.74000000000000044,84.800000000000011,7.1546504089825547E-4,0.99682170858165176]
[0.75000000000000044,85.000000000000014,6.0636832923510742E-4,0.99742807691088686]
[0.76000000000000045,85.200000000000017,5.1005379601742895E-4,0.99793813070690429]
[0.77000000000000046,85.4,4.2556472482468966E-4,0.99836369543172898]
[0.78000000000000047,85.600000000000009,3.5195711188862333E-4,0.9987156525436176]
[0.79000000000000048,85.800000000000011,2.883048761017637E-4,0.99900395741971937]
[0.80000000000000049,86.000000000000014,2.3370477510908927E-4,0.99923766219482846]
[0.8100000000000005,86.200000000000017,1.8728101265097497E-4,0.99942494320747943]
[0.82000000000000051,86.4,1.4818952194273205E-4,0.99957313272942216]
[0.83000000000000052,86.600000000000009,1.1562190941516448E-4,0.99968875463883733]
[0.84000000000000052,86.800000000000011,8.880904253838473E-5,0.99977756368137571]
[0.85000000000000053,87.000000000000014,6.7024264751136542E-5,0.99984458794612685]
[0.86000000000000054,87.200000000000017,4.9586219626251982E-5,0.9998941741657531]
[0.87000000000000055,87.4,3.5861265339165449E-5,0.99993003543109227]
[0.88000000000000056,87.600000000000009,2.5265459196011086E-5,0.99995530089028828]
[0.89000000000000057,87.800000000000011,1.7266090360790187E-5,0.99997256698064907]
[0.90000000000000058,88.000000000000014,1.1382736917142644E-5,0.99998394971756621]
[0.91000000000000059,88.200000000000017,7.1878208847131475E-6,0.99999113753845092]
[0.9200000000000006,88.4,4.3066315938977695E-6,0.99999544417004482]
[0.9300000000000006,88.600000000000009,2.4167836525368358E-6,0.99999786095369736]
[0.94000000000000061,88.800000000000011,1.2470701791222893E-6,0.99999910802387648]
[0.95000000000000062,89.000000000000014,5.7566436584277625E-7,0.99999968368824232]
[0.96000000000000063,89.200000000000017,2.2761157458806025E-7,0.99999991129981691]
[0.97000000000000064,89.4,7.1537917034625309E-8,0.99999998283773395]
[0.98000000000000065,89.600000000000009,1.5475151160515566E-8,0.99999999831288511]
[0.99000000000000066,89.800000000000011,1.6553832749011121E-9,0.99999999996826838]
[1.0000000000000007,90.000000000000014,{"$f":"1-SUM(C14:C113)","v":3.1731617333718987E-11},1]

{"sheet":"P2 Dist","index":8,"n_rows":114,"n_cols":5,"rows_kept":114,"cut":false,"hidden":true,"merged":[]}
[null,"Orig beta","Shifted beta",null,"How to use:"]
["Alpha",{"$f":"(((1-B4)/B7)-1/B4)*B4^2","v":5.0035419126328211},null,null,"Adjust the values in the green boxes to change the distribution"]
["Beta",{"$f":"B2*((1/B4)-1)","v":1.7319952774498233},null,null,"If alpha is bigger than beta there will be a tail to the left"]
["Mean",{"$f":"(C4-C10)/(C11-C10)","v":0.74285714285714277},{"$f":"'P2 Plot'!$D$19","v":10.199999999999999}]
["Median",null,{"$f":"INDEX(B14:B114,MATCH(0.5,D14:D113,1))","v":10.320000000000004}]
["Mode",null,{"$f":"INDEX(B14:B114,MATCH(MAX(C14:C114),C14:C114,0))","v":10.950000000000003}]
["Variance",{"$f":"C7/(C11-C10)^2","v":2.4693877551020413E-2},{"$f":"C8^2","v":1.2100000000000002}]
["St Dev",{"$f":"SQRT(B7)","v":0.15714285714285717},{"$f":"'P2 Plot'!D9","v":1.1000000000000001}]
[]
["LB",0,{"$f":"'P2 Plot'!D11","v":5}]
["UB",1,{"$f":"'P2 Plot'!D13","v":12}]
[]
["zero to 1","pig equivalent","beta interval prob","beta cum"]
[0,{"$f":"A14*($C$11-$C$10)+$C$10","v":5},{"$f":"_xlfn.BETA.DIST(A14,$B$2,$B$3,1)","v":0},{"$f":"_xlfn.BETA.DIST(A14,$B$2,$B$3,1)","v":0}]
[{"$f":"A14+0.01","v":0.01},{"$f":"A15*($C$11-$C$10)+$C$10","v":5.07},{"$f":"_xlfn.BETA.DIST(A15,$B$2,$B$3,1)-_xlfn.BETA.DIST(A14,$B$2,$B$3,1)","v":3.9046650624550874E-10},{"$f":"_xlfn.BETA.DIST(A15,$B$2,$B$3,1)","v":3.9046650624550874E-10}]
[{"$f":"A15+0.01","v":0.02},5.14,1.2058023476310403E-8,1.2448489982555911E-8]
[0.03,5.21,8.1629998950767222E-8,9.4078488933323132E-8]
[0.04,5.28,3.0028507040145673E-7,3.9436355933477986E-7]
[0.05,5.35,8.0247753424466501E-7,1.1968410935794449E-6]
[6.0000000000000005E-2,5.42,1.7642060289538015E-6,2.9610471225332464E-6]
[7.0000000000000007E-2,5.49,3.4012483758066142E-6,6.3622954983398606E-6]
[0.08,5.5600000000000005,5.9673696716636779E-6,1.2329665170003538E-5]
[0.09,5.63,9.7525065972682675E-6,2.2082171767271806E-5]
[9.9999999999999992E-2,5.7,1.5080929321079944E-5,3.716310108835175E-5]
[0.10999999999999999,5.77,2.2309381612541276E-5,5.9472482700893026E-5]
[0.11999999999999998,5.84,3.1825199348811643E-5,9.1297682049704668E-5]
[0.12999999999999998,5.91,4.404440732978679E-5,1.3534208937949146E-4]
[0.13999999999999999,5.9799999999999995,5.940979413166341E-5,1.9475188351115487E-4]
[0.15,6.05,7.8388964592438621E-5,2.7314084810359349E-4]
[0.16,6.12,1.0147236941388264E-4,3.7461321751747613E-4]
[0.17,6.19,1.2917131127254428E-4,5.0378452879002041E-4]
[0.18000000000000002,6.26,1.6201592675033722E-4,6.6580045554035763E-4]
[0.19000000000000003,6.33,2.0055314331902528E-4,8.6635359885938292E-4]
[0.20000000000000004,6.4,2.4534461053940526E-4,1.1116982093987882E-3]
[0.21000000000000005,6.4700000000000006,2.9696460456318341E-4,1.4086628139619716E-3]
[0.22000000000000006,6.5400000000000009,3.5599790495179366E-4,1.7646607189137653E-3]
[0.23000000000000007,6.61,4.2303764275077428E-4,2.1876983616645395E-3]
[0.24000000000000007,6.6800000000000006,4.9868311867911014E-4,2.6863814803436497E-3]
[0.25000000000000006,6.75,5.8353759021005777E-4,3.2699190705537074E-3]
[0.26000000000000006,6.82,6.7820602623199031E-4,3.9481250967856978E-3]
[0.27000000000000007,6.8900000000000006,7.8329282788367881E-4,4.7314179246693766E-3]
[0.28000000000000008,6.9600000000000009,8.993995140582408E-4,5.6308174387276174E-3]
[0.29000000000000009,7.0300000000000011,1.0271223699615268E-3,6.6579398086891442E-3]
[0.3000000000000001,7.1000000000000005,1.1670500569943747E-3,7.8249898656835189E-3]
[0.31000000000000011,7.1700000000000008,1.3197611821013939E-3,9.1447510477849128E-3]
[0.32000000000000012,7.24,1.4858218245925887E-3,1.0630572872377501E-2]
[0.33000000000000013,7.3100000000000005,1.6657830182942018E-3,1.2296355890671703E-2]
[0.34000000000000014,7.3800000000000008,1.8601781867240864E-3,1.415653407739579E-2]
[0.35000000000000014,7.4500000000000011,2.0695205288079298E-3,1.6226054606203719E-2]
[0.36000000000000015,7.5200000000000014,2.2943003524597619E-3,1.8520354958663481E-2]
[0.37000000000000016,7.5900000000000016,2.5349823531375659E-3,2.1055337311801047E-2]
[0.38000000000000017,7.660000000000001,2.7920028342492652E-3,2.3847340146050312E-2]
[0.39000000000000018,7.7300000000000013,3.0657668660301549E-3,2.6913107012080467E-2]
[0.40000000000000019,7.8000000000000007,3.3566453792262391E-3,3.0269752391306706E-2]
[0.4100000000000002,7.870000000000001,3.6649721896063261E-3,3.3934724580913032E-2]
[0.42000000000000021,7.9400000000000013,3.9910409489795559E-3,3.7925765529892588E-2]
[0.43000000000000022,8.0100000000000016,4.3351020180082273E-3,4.2260867547900816E-2]
[0.44000000000000022,8.0800000000000018,4.6973592556808774E-3,4.6958226803581693E-2]
[0.45000000000000023,8.1500000000000021,5.0779667198334252E-3,5.2036193523415118E-2]
[0.46000000000000024,8.2200000000000024,5.4770252725753962E-3,5.7513218795990514E-2]
[0.47000000000000025,8.2900000000000027,5.8945790838840217E-3,6.3407797879874536E-2]
[0.48000000000000026,8.3600000000000012,6.3306120259642301E-3,6.9738409905838766E-2]
[0.49000000000000027,8.4300000000000015,6.7850439502235571E-3,7.6523453856062323E-2]
[0.50000000000000022,8.5000000000000018,7.2577268378685167E-3,8.378118069393084E-2]
[0.51000000000000023,8.5700000000000021,7.7484408141781091E-3,9.1529621508108949E-2]
[0.52000000000000024,8.64,8.2568900154336849E-3,9.9786511523542634E-2]
[0.53000000000000025,8.7100000000000009,8.7826982962599665E-3,0.1085692098198026]
[0.54000000000000026,8.7800000000000011,9.3254047637434667E-3,0.11789461458354607]
[0.55000000000000027,8.8500000000000014,9.8844591231026929E-3,0.12777907370664876]
[0.56000000000000028,8.9200000000000017,1.0459216817868766E-2,0.13823829052451753]
[0.57000000000000028,8.990000000000002,1.1048933945441985E-2,0.14928722446995951]
[0.58000000000000029,9.0600000000000023,1.1652761926486621E-2,0.16093998639644613]
[0.5900000000000003,9.1300000000000026,1.2269741903834841E-2,0.17320972830028097]
[0.60000000000000031,9.2000000000000028,1.2898798843346354E-2,0.18610852714362733]
[0.61000000000000032,9.2700000000000031,1.3538735305397925E-2,0.19964726244902525]
[0.62000000000000033,9.3400000000000034,1.4188224851281656E-2,0.21383548730030691]
[0.63000000000000034,9.4100000000000019,1.4845805043611771E-2,0.22868129234391868]
[0.64000000000000035,9.4800000000000022,1.5509869993750341E-2,0.24419116233766902]
[0.65000000000000036,{"$f":"A79*($C$11-$C$10)+$C$10","v":9.5500000000000025},{"$f":"_xlfn.BETA.DIST(A79,$B$2,$B$3,1)-_xlfn.BETA.DIST(A78,$B$2,$B$3,1)","v":1.6178662402032917E-2},{"$f":"_xlfn.BETA.DIST(A79,$B$2,$B$3,1)","v":0.26036982473970194}]
[{"$f":"A79+0.01","v":0.66000000000000036},9.6200000000000028,1.6850265027976874E-2,0.27722008976767881]
[0.67000000000000037,9.6900000000000031,1.7522591517369568E-2,0.29474268128504838]
[0.68000000000000038,9.7600000000000016,1.8193376500760416E-2,0.3129360577858088]
[0.69000000000000039,9.8300000000000018,1.8860164862918305E-2,0.3317962226487271]
[0.7000000000000004,9.9000000000000021,1.9520300064616636E-2,0.35131652271334374]
[0.71000000000000041,9.9700000000000024,2.0170911375821887E-2,0.37148743408916562]
[0.72000000000000042,10.040000000000003,2.0808899851912976E-2,0.3922963339410786]
[0.73000000000000043,10.110000000000003,2.1430922850479484E-2,0.41372725679155808]
[0.74000000000000044,10.180000000000003,2.2033376843645258E-2,0.43576063363520334]
[0.75000000000000044,10.250000000000004,2.2612378227173213E-2,0.45837301186237656]
[0.76000000000000045,10.320000000000004,2.3163741759342771E-2,0.48153675362171933]
[0.77000000000000046,10.390000000000004,2.3682956175005487E-2,0.50521970979672481]
[0.78000000000000047,10.460000000000004,2.4165156406763755E-2,0.52938486620348857]
[0.79000000000000048,10.530000000000003,2.4605091696570436E-2,0.553989957900059]
[0.80000000000000049,10.600000000000003,2.4997088684152291E-2,0.5789870465842113]
[0.8100000000000005,10.670000000000003,2.5335008294475658E-2,0.60432205487868695]
[0.82000000000000051,10.740000000000004,2.5612194887177586E-2,0.62993424976586454]
[0.83000000000000052,10.810000000000004,2.5821415634829425E-2,0.65575566540069397]
[0.84000000000000052,10.880000000000003,2.5954787400738977E-2,0.68171045280143294]
[0.85000000000000053,10.950000000000003,2.6003687392038732E-2,0.70771414019347167]
[0.86000000000000054,11.020000000000003,2.595864241292789E-2,0.73367278260639956]
[0.87000000000000055,11.090000000000003,2.5809189378946606E-2,0.75948197198534617]
[0.88000000000000056,11.160000000000004,2.5543696442812736E-2,0.78502566842815891]
[0.89000000000000057,11.230000000000004,2.5149128870638693E-2,0.8101747972987976]
[0.90000000000000058,11.300000000000004,2.4610735327885269E-2,0.83478553262668287]
[0.91000000000000059,11.370000000000005,2.3911615903177696E-2,0.85869714852986057]
[0.9200000000000006,11.440000000000005,2.3032107872580476E-2,0.88172925640244104]
[0.9300000000000006,11.510000000000005,2.194887801505585E-2,0.90367813441749689]
[0.94000000000000061,11.580000000000005,2.063351651141665E-2,0.92431165092891354]
[0.95000000000000062,11.650000000000004,1.905022560829428E-2,0.94336187653720782]
[0.96000000000000063,11.720000000000004,1.7151714870891066E-2,0.96051359140809889]
[0.97000000000000064,11.790000000000004,1.4871097540217759E-2,0.97538468894831665]
[0.98000000000000065,11.860000000000005,1.2103185542236661E-2,0.98748787449055331]
[0.99000000000000066,11.930000000000005,8.6482150547626535E-3,0.99613608954531596]
[1.0000000000000007,12.000000000000004,{"$f":"1-SUM(C14:C113)","v":3.8639104546840386E-3},1]

{"sheet":"Ave Performance 2015","index":9,"n_rows":22,"n_cols":7,"rows_kept":22,"cut":false,"hidden":true,"merged":[]}
[null,"Unit","Value",null,null,"Values in Growth Model"]
[]
["Weaning Age","d",26.38,null,null,"Age (day)","Wt (kg)"]
["Weanng Weight","kg",7.17,null,null,26,{"$f":"(F4/C3)*C4","v":7.0667172100075817}]
[{"$nulls":5},{"$f":"F4+((G5-G4)/(C9/1000))","v":90.650718768882115},37]
["Rearing Herd",{"$nulls":4},{"$f":"F5+((G6-G5)/(C17/1000))","v":177.30922550082826},107.8]
["Weight at Start","kg",7.57,null,null,"P2",11.3]
["End Weight","kg",36.85]
["Daily Dain","g",463]
["FCR",null,1.89]
["Total Feed per pig","kg",{"$f":"(C8-C7)*C10","v":55.339199999999998}]
["Days","d",{"$f":"(C8-C7)/(C9/1000)","v":63.23974082073434}]
[]
["Finishing Herd"]
["Weight at Start","kg",37.200000000000003]
["End Weight","kg",107.8]
["Daily Dain","g",817]
["FCR",null,2.69]
["Total Feed per pig","kg",{"$f":"(C16-C15)*C18","v":189.91399999999999}]
["Days","d",{"$f":"(C16-C15)/(C17/1000)","v":86.413708690330481}]
["Carcase Weight","kg",80.599999999999994]
["Backfat thickness P2","mm",11.3]

{"sheet":"Growth Model Outputs","index":10,"n_rows":181,"n_cols":14,"rows_kept":181,"cut":false,"hidden":true,"merged":[[9,8,10,8],[9,9,10,9],[9,10,10,10]]}
["Age","Weight (kg)","VFI (kg/day)","P2 (mm)","Adjusted VFI","FCR","ADLWG",null,null,"FCR Adjuster (%)"]
[81,30.531564531294144,1.039221946302016,6.0616954684898703,{"$f":"C2*(1+($J$2/100))","v":1.0608725344461629},{"$f":"E2/(B2-#REF!)","v":{"$error":"#REF!"}},615.462442905594,null,"Finishing Herd (37 to 108kg)",{"$f":"L27","v":2.0833459321359165}]
[82,31.150250463015915,1.0553278889972995,6.1238635879022452,{"$f":"C3*(1+($J$2/100))","v":1.0773140196434206},{"$f":"E3/(B3-B2)","v":1.74129386883796},621.900615028738]
[83,31.775347837670328,1.0714717240068752,6.1859691540242858,{"$f":"C4*(1+($J$2/100))","v":1.093794186582959},{"$f":"E4/(B4-B3)","v":1.7497980809592539},628.28501732298832]
[84,32.406801957202092,1.0876495864934406,6.2480082733212257,{"$f":"C5*(1+($J$2/100))","v":1.1103090899095449},{"$f":"E5/(B5-B4)","v":1.7583369172298091},634.61379948079025]
[85,33.044556291821785,1.1038576073847608,6.3099770628020417,{"$f":"C6*(1+($J$2/100))","v":1.1268547799447841},{"$f":"E6/(B6-B5)","v":1.7669104211055697},640.88514847757767]
[86,33.688552517689324,1.1200919160174263,6.3718716521571874,1.1434273053859587,{"$f":"E7/(B7-B6)","v":1.7755186435225243},647.097289364885,null,null,"Entry Weight (kg)","End Weight (kg)"]
[87,34.338730555367214,1.1363486427516301,6.4336881858267487,1.1600227159752781,{"$f":"E8/(B8-B7)","v":1.7841616430451854},653.24848601680048,null,"Stage 1",{"$f":"Calculator!D20","v":30},{"$f":"Calculator!E20","v":55},null,{"$f":"SUMIF(B2:B131,\">=\"&J8,E2:E131)","v":270.57100458640531},{"$f":"SUMIF(B2:B131,\">\"&K8,E2:E131)","v":222.38047988439374}]
[88,34.995028608996876,1.1526239215544325,6.4954228249992836,1.1766370651369624,1.7928394860072507,659.33704182993313,null,"Stage 2",{"$f":"Calculator!D22","v":55},{"$f":"Calculator!E22","v":80},null,{"$f":"SUMIF(B:B,\">=\"&J9,E:E)","v":360.54937432490516},{"$f":"SUMIF(B:B,\">\"&K9,E:E)","v":301.49833252630168}]
[89,35.657383206151884,1.1689138925491649,6.5570717495419117,1.1932664125797596,1.8015522466442599,665.36130037712019,null,"Stage 3",{"$f":"Calculator!D24","v":80},{"$f":"Calculator!E24","v":100},null,{"$f":"SUMIF(B:B,\">=\"&J10,E:E)","v":301.49833252630168},{"$f":"SUMIF(B:B,\">\"&K10,E:E)","v":250.24293053847938}]
[90,36.325729238321941,1.1852147045287926,6.6186311598623471,1.20990682686267,1.8103000072196385,671.3196460151662]
[91,37.000000001981597,1.2015225174301341,6.6800972787033777,1.2265543879207119,1.819082858143654,677.2105044469439,null,"Stage 1 feed (kg/pig)",null,{"$f":"M8-N8","v":48.190524702011572}]
[92,37.680127240198551,1.2613275585095496,6.7414663528706971,1.2876053748906677,1.8931830730177777,683.03234323825586,null,"Stage 2 feed (kg/pig)",null,{"$f":"M9-N9","v":59.051041798603478}]
[93,38.366041184736346,1.2782204223117353,6.8027346548948211,1.3048501754836974,1.9023525995859065,688.78367228989759,null,"Stage 3 feed (kg/pig)",null,{"$f":"M10-N10","v":51.255401987822296}]
[94,39.057670598606848,1.2951086996783847,6.8638984846280282,1.3220902940898729,1.9115588024100683,694.46304426540689,null,"Total feed (kg/pig)",null,{"$f":"SUM(K12:K14)","v":158.49696848843735}]
[95,39.754942819028621,1.3119884843215439,6.9249541707771538,1.3393217430397486,1.9208018099869315,700.06905497504033,null,"FCR Stage 1",null,{"$f":"K12/(K8-J8)","v":1.9276209880804629}]
[96,40.457783800747649,1.3288558936344166,6.9858980723733435,1.3565405588383976,1.9300817597752098,705.60034371654945,null,"FCR Stage 2",null,{"$f":"K13/(K9-J9)","v":2.3620416719441391}]
[97,41.16611815967741,1.3457070709705259,7.0467265801796497,1.3737428044920559,1.939398798284578,711.05559357337688,null,"FCR Stage 3",null,{"$f":"K14/(K10-J10)","v":2.5627700993911149}]
[98,41.879869216816175,1.3625381878691749,7.1074361180375512,1.3909245717799459,1.9487530811593978,716.43353167092903,null,"FCR Overall",null,{"$f":"K15/(K10-J8)","v":2.2642424069776763}]
[99,42.598959042399912,1.3793454462258021,7.1680231441535076,1.4080819834698495,1.9581447732580672,721.73292939161774]
[100,43.32330850024988,1.3961250804059582,7.2284841523265424,1.4252111954761251,1.9675740487284583,726.95260254939683]
[101,44.05283729227488,1.4128733593012583,7.2888156731180409,1.4423083989584933,1.9770410910787828,732.09141152455493,null,null,null,"Adjuster","FCR"]
[102,44.787464003088658,1.4295865883264856,7.3490142749648779,1.4593698223607461,1.986546093245287,737.14826135954763,null,null,null,-3.5439600000000002,2.29,{"$f":"(L23-L24)/L24","v":-0.14869888475836429}]
[103,45.527106144704192,1.446261111356653,7.4090765652369415,1.4763917333881658,1.9960892576556235,742.12210181668831,null,null,null,13.304260452135919,2.69,{"$f":"(L24-L24)/L24","v":0}]
[104,46.271680201266634,1.4628933126025996,7.46899919124031,1.4933704409221944,2.0056707962896319,747.01192739853559,null,null,null,30.152480000000001,3.09,{"$f":"(L25-L24)/L24","v":0.14869888475836429}]
[105,47.021101673788671,1.4794796184253245,7.5287788411671066,1.5103022968725686,2.0152909307361178,751.81677733184199]
[106,47.775285124851806,1.4960164990870795,7.5884122449933358,1.5271836979648925,2.0249498922471689,756.53573551594707,null,null,null,{"$f":"(K25-K23)/100","v":0.33696440000000005},{"$f":"K24+(K27*M27*L30)","v":2.0833459321359165},{"$f":"20-N27","v":-10},30]
[107,48.534144223238606,1.5125004704392342,7.6478961753256662,1.5440110874636668,2.0346479217893814,761.16793043651978]
[108,49.297591788461915,1.5289280955463092,7.7072274481985428,1.5607809568301565,2.0443852700920284,765.7125350455683]
[109,50.065539835157395,1.5452959862456208,7.7664029238226258,1.5774898473145287,2.0541621976936444,770.16876660865557,{"$nulls":4},3.33]
[110,50.837899617307428,1.5616008046418111,7.8254195072856945,1.5941343514815181,2.0639789749848112,774.53588652026622,null,"Feed cost of last kg LWG"]
[111,51.614581672264826,1.5778392645369941,7.8842741492073536,1.610711114670369,2.0738358822500653,778.8132000882872,null,"Slaughter weight (kg)",{"$f":"Calculator!E24","v":100},{"$f":"J32","v":100},"lower weight",{"$f":"INDEX($B$2:$B$181,K33)","v":99.13816197636244}]
[112,52.395495864545907,1.5940081327947317,7.9429638463484613,1.6272168363872266,2.083733209706514,783.00005628857048,null,"Difference from Upper Wt (kg)",{"$f":"J32-M32","v":0.86183802363756001},{"$f":"MATCH(K32,B2:B181,1)","v":87},"upper weight",{"$f":"INDEX($B$2:$B$181,K33+1)","v":100.00891749310661}]
[113,53.180551429363703,1.610104230639674,8.0014856421765472,1.6436482716318541,2.0936712575412795,787.09584749055387,null,"FCR (feed per kg gain)",{"$f":"M34+M41","v":2.8165730799586397},null,"lower E",{"$f":"INDEX($F$2:$F$181,K33)","v":2.8032891634817445}]
[114,53.969657015872649,1.6261244348908843,8.0598366273882753,1.6600022321566519,2.1036503359463081,791.10000915492753,{"$nulls":4},"upper E",{"$f":"INDEX($F$2:$F$181,K33+1)","v":2.8167105294913388}]
[115,54.76272073009735,1.6420656791308126,8.1180139403902061,1.6762755876599846,2.113670765152472,795.01201950432824]
[116,55.559650177519096,1.657924954808214,8.1760147677387671,1.6924652669120774,2.1237328754604308,798.83139916805942]
[117,56.360352505294316,1.6736993122767934,8.233836344540638,{"$f":"C38*(1+($J$2/100))","v":1.7085682588152988},2.1338370072716253,802.5577108018208,{"$nulls":4},"Shift",{"$f":"M33-M32","v":0.87075551674416829}]
[118,57.164734444080935,1.6893858617691424,8.2914759548147074,1.7245816133983893,2.1439835111164447,806.19055868344992,null,"Finisher feed cost (£/tonne)",{"$f":"Calculator!E15","v":215},null,"Change in FCR",{"$f":"M35-M34","v":1.3421366009594315E-2}]
[119,57.97270234944866,1.7049817743063844,8.3489309318165255,1.7405024427450555,2.1541727476822383,809.72958828565686,null,"Feed cost per kg (£)",{"$f":"J39/1000","v":0.215}]
[120,58.784162242851011,1.7204842825438322,8.4061986583263906,1.7563279218572472,2.1644050878388859,813.17448582674774,null,"Feed cost last kg gain (p)",{"$f":"J40*J34*100","v":60.556321219110757},null,"Pro-rata",{"$f":"(M39/M38)*J33","v":1.3283916476895015E-2}]
[121,59.599019852137559,1.7358906815541622,8.4632765669021559,1.7720552894546475,2.1746809126642108,816.52497780031683]
[122,60.417180651585554,1.783858862,8.5201621400976624,1.8210228130365231,2.2257517278573475,819.78083048488804,null,"Dead weight (kg)",{"$f":"1*Calculator!O11/100","v":0.75657142857142856}]
[123,61.238549901431782,1.8318270429163539,8.5768529106480091,1.8699903370987176,2.2766743915100385,822.94184943447806,null,"Feed cost last kg dead wt gain (p)",{"$f":"J41/J43","v":80.040454783567839}]
[124,62.063032686885677,1.8474888702558598,8.6333464616224127,1.8859784544809992,2.2874685654506757,826.00787895104327]
[125,62.890533956606326,1.8630404695890035,8.6896404265459477,1.901854047426232,2.2983095217101801,828.97880153977337]
[126,63.720958560626578,1.8784793693755801,8.7457324894908783,1.9176145929034789,2.3091977087623894,831.85453734816917]
[127,64.554211287708455,1.8938031663355634,8.8016203851386745,1.9332576375640769,2.3201335858023668,834.63504358984937]
[128,65.390196902115179,1.9090095258219455,8.8573018988135779,1.9487807981222443,2.3311176227658428,837.32031395400361]
[129,66.228820179785814,1.9240961821352969,8.91277486648886,1.9641817616761952,2.3421503003493034,839.91037800140873]
[130,67.069985943899596,1.9390609387792268,8.9680371747663177,1.9794582859689205,2.3532321100281544,842.40530054790645]
[131,67.913599099817901,1.9539016686597688,9.0230867608302283,1.994608199591728,2.3643635540753514,844.80518103622592]
[132,68.759564669392432,1.9686163142285755,9.077921612376489,2.0096294021304208,2.3755451455797916,847.11015289702277]
[133,69.607787824629554,1.9832028875718006,9.1325397675178888,2.02451986425603,2.3867774084640181,849.32038289999298]
[134,70.458173920701,1.9976594704448034,9.1869393146662244,2.0392776277602431,2.3980608775015892,851.43607049589593]
[135,71.310628528292597,2.011984214255798,9.2411183923922291,2.0539008055387131,2.4093960983347973,853.4574471503156]
[136,72.1650574652827,2.0261753399971787,9.2950751892641481,2.0683875815209514,2.4207836274918999,855.38477566996346]
[137,73.021366827743705,2.0402311381284481,9.3488079436655855,2.0827362105508178,2.4322240324047173,857.21834952231382]
[138,73.879463020260175,2.0541499684095053,9.4023149435935718,2.0969450182163363,2.4437178914251949,858.95849214934299]
[139,74.739252785558008,2.0679302596878482,9.45559452643759,2.1110124006324629,2.4552657938434557,860.60555627612791]
[140,75.600643233439939,2.0815705096395836,9.5086450787402654,2.124936824176701,2.4668683399052069,862.159923215037]
[141,76.463541869023445,2.0950692844656649,9.5614650359404667,2.1387168251790096,2.4785261408285533,863.62200216623285]
[142,77.32785662027743,2.1084252185461492,9.6140528820996245,2.1523510095688585,2.4902398188231012,864.9922295151847]
[143,78.193495864855336,2.1216370140516267,9.6664071496118265,2.1658380524785614,2.5020100071071112,866.27106812786815]
[144,79.060368456222562,2.134703440514524,9.7185264188984561,2.1791766978056488,2.5138373499255118,867.45900664431485]
[145,79.928383749076787,2.1476233343628333,9.7704093180881735,2.1923657577368831,2.5257225025700927,868.55655877115078]
[146,80.797451624060656,2.1603955984140426,9.8220545226825937,2.205404112231645,2.5376661313969047,869.56426257374676]
[147,81.66748251176675,2.1730192013352596,9.8734607552086366,2.2182907084708106,2.5496689138468556,870.48267976857937]
[148,82.53838741603505,2.1854931770666903,9.9246267848580096,2.2310245602682173,2.5617315384653101,871.31239501639016]
[149,83.410077936544411,2.1978166242128432,9.9755514271143504,{"$f":"C70*(1+($J$2/100))","v":2.2436047474491887},2.5738547049223013,872.05401521670046]
[150,84.282466290699375,2.2099887054015812,10.026233543368861,2.2560304151962285,2.5860391240338423,872.7081688042299]
[151,85.15546533481448,2.222008646612263,10.07667204052486,2.2683007733631682,{"$f":"E72/(B72-B71)","v":2.5982855177835611},873.27550504773978]
[152,86.028988584599048,2.2338757364751758,10.126865870591864,2.2804150957600027,2.6105946193445986,873.75669335180578]
[153,86.902950234945138,2.2455893255422983,10.176814030269718,2.2923727194084624,2.6229671731027113,874.15242256201009]
[154,87.777265179022947,2.2571488255325227,10.226515560523392,2.3041730437715082,2.6354039346792271,874.46340027401129]
[155,88.651849026687017,2.2685537085508631,10.27596954614895,2.3158155299562764,2.6479056709560767,874.69035214694691]
[156,89.526618122198485,2.2798035062843844,10.325175115331117,2.3272996998932522,2.6604731601000444,874.83402122159407]
[157,90.40148956126788,2.290897809175322,10.374131439193121,2.3386251354921672,2.6731071915889433,874.8951672436973]
[158,91.276381207424137,2.3018362655729527,10.422837731339088,2.3497914777761966,2.6858085662376063,874.87456599285599]
[159,92.151211707715277,2.3126185808658164,10.471293247389694,2.3607984259961041,2.6985780962260022,874.77300861734648]
[160,93.025900507747124,2.3232445165947362,10.519497284511329,2.3716457367247834,2.7114166051267956,874.59130097523075]
[161,93.900367866066375,2.3337138895487559,10.567449180939342,2.3823332229343612,2.7243249279347239,874.33026298209279]
[162,94.774534867894971,2.3440265708451027,10.615148315495807,2.3928607530569894,2.7373039110965833,873.99072796572125]
[163,95.648323438222462,2.3541824849931361,10.662594107102146,2.4032282500292972,2.7503544125423618,873.57354202804049]
[164,96.521656354264451,2.3641816089456693,10.709786014287133,2.4134356903239444,2.7634773017165313,873.07956341457975]
[165,97.394457257294007,2.3740239711370017,10.75672353469059,2.4234831029676163,2.7766734596120681,872.50966189174619]
[166,98.266650663854591,2.3837096505093003,10.803406204563274,2.4333705685471174,2.7899437788034831,871.86471813215758]
[167,99.13816197636244,2.3932387755287272,10.849833598263123,2.4430982182050047,2.8032891634817445,871.14562310827216]
[168,100.00891749310661,2.4026115231925105,10.896005327748526,2.4526662326259707,2.8167105294913388,870.35327749453563]
[169,100.87884441765586,2.4118281180272709,10.941921042068731,2.4620748410143025,2.8302088043659834,869.48859107825558]
[170,101.74787086768048,2.4208888310805547,10.987580426851808,2.4713243200644044,2.84378492736831,868.55248217939072]
[171,102.61592588319873,2.4297939789053977,11.032983203790502,2.480414992924207,2.8574398495276641,867.5458770794354]
[172,103.48293943425664,2.4385439225411716,11.078129130126413,2.4893472281547808,2.8711745336821326,866.46970945956139]
[173,104.34884242805065,2.447139066488464,11.123017998132561,2.4981214386838606,2.8849899545192499,865.3249198481642]
[174,105.21356671550258,2.4555798576816636,11.1676496345949,2.5067380807570236,2.8988870986191175,864.11245507795388]
[175,106.07704509729658,2.4638667844591051,11.212023900292948,2.515197652886382,2.9128669644985319,862.83326775270598]
[176,106.93921132938752,2.4720003755311866,11.256140689479706,2.5235006947972005,2.9269305626562963,861.48831572379061]
[177,107.80000012799107,2.4799811989485163,11.299999929361498,2.5316477863745459,2.9410789156197357,860.07856157656795]
[178,108.65934717406496,2.4878098610692092,11.343601579577475,2.5396395466090711,2.9553130579920501,858.6049721267425]
[179,109.51718911729171,2.495487005529164,11.386945631679634,2.5474766325458367,2.9696340365027902,857.06851792674604]
[180,110.37346357957273,2.5030133122110123,11.430032108612977,2.5551597382317812,2.9840429100560999,855.47017278220949]
[181,111.22810915804402,2.5103894962189801,11.472861064196634,{"$f":"C102*(1+($J$2/100))","v":2.562689593669226},2.9985407497843957,853.81091327858212]
[182,112.08106542762351,2.5176163068546238,11.515432582605674,2.5700669637702704,3.0131286391004664,852.0917183179273]
[183,112.93227294310033,2.52469452659698,11.557746777854216,2.5772926473156965,3.0278076737515538,850.31356866593671]
[184,113.78167324077616,2.5316249700887363,11.599803793279831,2.5843674759200175,3.0425789618763894,848.47744650917423]
[185,114.6292088396691,2.5384084831251346,11.641603801029419,2.5912923129993155,3.0574436240602392,846.58433502256457]
[186,115.47482324228999,2.5450459416514337,11.683147001546939,2.5980680527478195,3.072402793395447,844.63521794713006]
[187,116.31846093500157,2.5515382507651094,11.72443362306309,2.6046956191193167,3.0874576155404143,842.63107917796071]
[188,117.16006738797091,2.5578863437252068,11.765463921086898,2.6111759648158666,3.1026092487802956,840.57290236241124]
[189,117.99958905472495,2.5640911809711238,11.806238177899909,2.6175100702861416,3.1178588640917302,838.46167050849283]
[190,118.83697337131966,2.5701537491462854,11.846756702052554,2.6236989427287636,3.1332076452043558,836.2983656034362]
[191,119.67216875513266,2.5760750601337441,11.887019827863247,2.6297436151078086,3.1486567886689887,834.08396824237514]
[192,120.50512460328973,2.5818561500991639,11.9270279149203,2.635645145175856,3.16420750392385,831.81945726711831]
[193,121.3357912907351,2.5874980785422799,11.966781347586549,2.6414046145056855,3.1798610133615033,829.50580941494138]
[194,122.16412016795536,2.5930019273621867,12.006280534507299,2.6470231275360931,3.1956185524028666,827.14399897735234]
[195,122.99006355836724,2.5983687999275142,12.045525908121139,2.6525018106226934,3.2114813695645057,824.73499746875507]
[196,123.81357475537902,2.6035998201632475,12.084517924174371,2.6578418111057167,3.2274507265354018,822.27977330494195]
[197,124.63460801913513,2.6086961316432564,12.123257061238595,2.6630442963836334,3.2435278982493312,819.7792914913399]
[198,125.45311857295395,2.6136588966981855,12.161743820232015,2.668110453002456,3.2597141729623118,817.23451332092384]
[199,126.26906259946836,2.6184892955331622,12.199978723944257,2.6730414857550673,3.2760108523300628,814.64639608171012]
[200,127.08239723647847,2.6231885253585006,12.237962316565053,2.6778386167938133,3.2924192514876385,812.01589277373739]
[201,127.89308057252603,2.6277577995312305,12.275695163216668,2.6825030847541491,3.3089406991298689,809.34395183543984]
[202,128.70107164219988,2.6321983467115468,12.313177849490282,2.6870361438935109,3.3255765375948512,806.63151687930565]
[203,129.5063304211817,2.6365114100302809,12.350410980986517,2.6914390632414462,3.3423281229476651,803.87952643671997]
[204,130.30881782104109,2.6406982462691104,12.387395182859784,2.6957131257627429,3.3591968250655246,801.08891371188201]
[205,131.10849568378904,2.6447601250566746,12.424131099367203,2.6998596275367959,3.3761840277273549,798.26060634468172]
[206,131.9053267761989,2.6486983280742216,12.460619393421366,2.7038798769467083,3.3932911286999992,795.39552618242055]
[207,132.69927478390309,2.6525141482778345,12.496860746147725,2.7077751938853107,3.4105195398313586,792.49458906026086]
[208,133.49030430527489,2.6562088891334832,12.532855856446206,2.7115469089742783,3.4278706871419091,789.5587045902746]
[209,134.27838084510341,2.6597838638655924,12.568605440557333,2.7151963627970441,3.4453460109189904,786.58877595897536]
[210,135.06347080807032,2.6632403947189149,12.604110231632731,2.7187249051452924,3.4629469658114722,783.58569973320152]
[211,135.84554149203635,2.6665798122368209,12.639370979310335,{"$f":"C132*(1+($J$2/100))","v":2.7221338942822144},{"$f":"E132/(B132-B131)","v":3.4806750209300348},780.55036567422223]
[212,136.62456108114648,2.6698034545510221,12.674388449294119,2.7254246962174351,3.4985316599427962,777.48365655993734]
[213,137.40049863876064,2.6729126666866412,12.709163422938351,2.7285986839976033,3.5165183811793641,774.38644801504006]
[214,138.17332410021916,2.6759087998827007,12.743696696836711,2.7316572370127243,3.5346366977316874,771.25960834899956]
[215,138.94300826544955,2.678793210923585,12.777989082415933,2.7346017403136949,3.5528881375585453,768.10399840174296]
[216,139.70952279142298,2.6815672614890045,12.812041405534314,2.7374335839487243,3.5712742435928697,764.92047139688464]
[217,140.47284018446777,2.6842323175147778,12.845854506084889,2.7401541623107999,3.5897965738480488,761.70987280237625]
[218,141.23293379244697,2.6867897485701584,12.879429237603475,2.7427648735020398,3.6084567015291795,758.47304019843273]
[219,141.98977779680766,2.6892409272482536,12.912766466881513,2.7452671187114146,3.6272562151435244,755.21080315259917]
[220,142.74334720450872,2.6915872285710174,12.945867073583621,2.7476623016073418,3.6461967186137669,751.92398310181454]
[221,143.49361783983414,2.6938300294086734,12.978731949870163,2.749951827745015,3.6652798313934483,748.61339324133655]
[222,144.24056633609842,2.6959707079127213,13.01136200002453,2.752137103987597,3.6845071885837921,745.27983842038498]
[223,144.98417012725139,2.6980106429652388,13.043758140085401,2.7542195379440497,3.7038804410526329,741.92411504436097]
[224,145.72440743938799,2.6999512136383403,13.075921297483777,2.7562005374173295,3.7234012555539944,738.54701098350665]
[225,146.46125728217015,2.7017937986717535,13.107852410684984,2.758081509871082,3.7430713148519454,735.1493054878589]
[226,147.19469944016657,2.7035397759609556,13.139552428835442,2.7598638619071147,3.7628923178432574,731.73176910836526]
[227,147.92471446411679,2.7051905220622001,13.17102231141442,2.7615489987601096,3.7828659796848734,728.29516362400921]
[228,148.65128366212522,2.7067474117085886,13.202263027890613,2.7631383238036138,3.8029940319208784,724.84024197482074]
[229,149.37438909079097,2.7082118173410406,13.233275557383582,2.7646332380712395,3.8232782226133479,721.3677482006226]
[230,150.09401354627954,2.7095851086531666,13.264060888330077,2.7660351397920531,3.8437203164727403,717.87841738537566]
[231,150.81014055534123,2.7108686521488758,13.294620018155232,2.7673454239389677,3.8643220949938546,714.37297560699369]
[232,151.52275436628247,2.7120638107131829,13.324953952948562,2.7685654817906067,3.8850853565886232,710.85213989247836]
[233,152.23183993989434,2.7131719431955594,13.355063707144751,2.7696967005059774,3.9060119167253111,707.31661817825159]
[234,152.93738294034455,2.71419440400962,13.38495030320945,2.7707404627158154,3.9271036080689781,703.76710927554086]
[235,153.63936972603673,2.7151325427396165,13.414614771329566,2.7716981461208809,3.9483622806202603,700.20430284069027]
[236,154.33778734044296,2.7159877037660589,13.444058149108592,2.7725711231097812,3.9697898018608031,696.62887935026299]
[237,155.03262350291331,2.7167612258997118,13.473281481266605,2.7733607603853394,3.9913880568984847,693.0415100808018]
[238,155.72386659946767,2.7174544420292372,13.502285819344968,2.7740684186049003,4.0131589486141772,689.4428570931218]
[239,156.41150567357403,2.7180686787811985,13.531072221415755,2.7746954520332472,4.0351043978110006,685.83357322100596]
[240,157.09553041691743,2.7186052561918377,13.559641751795938,2.7752432082075438,4.0572263433667803,682.21430206417153]
[241,157.77593116016433,2.719065487391652,13.587995480766169,2.7757130276153381,4.0795267423864017,678.58567798539013]
[242,158.45269886372577,2.7194506783001762,13.616134484294198,2.7761062433829857,4.1020075703582464,674.94832611163099]
[243,159.1258251085238,2.7197621273330297,13.644059843762951,2.7764241809765959,4.1246708213102989,671.30286233910476]
[244,159.79530208676485,2.7200011251215597,13.671772645703165,2.776668157915831,4.1475185079718608,667.64989334209395]
[245,160.4611225927236,2.720168954240803,13.699273981530526,2.7768394834962029,4.1705526619335505,663.99001658543966]
[246,161.12328001354157,2.7202668889519583,13.72656494728743,2.7769394585261793,4.1937753338107564,660.32382034057707]
[247,161.78176832004289,2.7202961949525215,13.753646643389079,2.7769693750721132,4.2171885934113877,656.65188370499743]
[248,162.43658205757151,2.7202581291394412,13.780520174374214,2.7769305162164648,4.2407945299025771,652.97477662502422]
[249,163.08771633685291,2.7201539393810954,13.807186648660082,2.7768241558250266,4.2645952519802712,649.29305992179138]
[250,163.73516682488307,2.7199848643008071,13.833647178301963,2.776651558325931,4.2885928880427215,645.60728532031214]
[251,164.37892973584809,2.719752133069758,13.859902878756881,2.7764139784982471,4.3127895863654295,641.91799548152846]
[252,165.01900182207748,2.7194569652089373,13.885954868651719,2.776112661269805,4.3371875152744517,638.22572403723677]
[253,165.65538036503364,2.7191005704030964,13.91180426955559,2.7757488415272742,4.361788863328365,634.53099562778004]
[254,166.28806316634009,2.7186841483220383,13.937452205756442,2.7753237439337299,4.3865958394993898,630.83432594240912]
[255,166.91704853885199,2.7182088884526303,13.962899804041852,2.7748385827571656,4.4116106733542582,627.13622176220326]
[256,167.54233529777025,2.7176759699388375,13.988148193483996,2.7742945617071939,4.4368356152410415,623.43718100545743]
[257,168.16392275180255,2.7170865614310933,14.013198505228704,2.7736928737812798,4.4622729364759248,619.7376927754334]
[258,168.78181069437292,2.7164418209452936,14.038051872288563,2.7730347011207965,4.4879249295351809,616.03823741038354]
[259,169.39599939488301,2.7157428957294689,14.062709429340213,2.7723212148749194,4.513793908244331,612.33928653574333]
[260,170.00648959002575,2.7149909221379582,14.087172312525434,2.7715535750721791,4.5398822079757295,608.64130311841507]